BEGIN:VCALENDAR
VERSION:2.0
PRODID:-//Opera PLUS - ECPv6.15.13.1//NONSGML v1.0//EN
CALSCALE:GREGORIAN
METHOD:PUBLISH
X-WR-CALNAME:Opera PLUS
X-ORIGINAL-URL:https://operaplus.cz
X-WR-CALDESC:Akce na Opera PLUS
REFRESH-INTERVAL;VALUE=DURATION:PT1H
X-Robots-Tag:noindex
X-PUBLISHED-TTL:PT1H
BEGIN:VTIMEZONE
TZID:Europe/Prague
BEGIN:DAYLIGHT
TZOFFSETFROM:+0100
TZOFFSETTO:+0200
TZNAME:CEST
DTSTART:20250330T010000
END:DAYLIGHT
BEGIN:STANDARD
TZOFFSETFROM:+0200
TZOFFSETTO:+0100
TZNAME:CET
DTSTART:20251026T010000
END:STANDARD
BEGIN:DAYLIGHT
TZOFFSETFROM:+0100
TZOFFSETTO:+0200
TZNAME:CEST
DTSTART:20260329T010000
END:DAYLIGHT
BEGIN:STANDARD
TZOFFSETFROM:+0200
TZOFFSETTO:+0100
TZNAME:CET
DTSTART:20261025T010000
END:STANDARD
BEGIN:DAYLIGHT
TZOFFSETFROM:+0100
TZOFFSETTO:+0200
TZNAME:CEST
DTSTART:20270328T010000
END:DAYLIGHT
BEGIN:STANDARD
TZOFFSETFROM:+0200
TZOFFSETTO:+0100
TZNAME:CET
DTSTART:20271031T010000
END:STANDARD
END:VTIMEZONE
BEGIN:VEVENT
DTSTART;TZID=Europe/Prague:20260319T190000
DTEND;TZID=Europe/Prague:20260326T220000
DTSTAMP:20260422T210052
CREATED:20260311T215803Z
LAST-MODIFIED:20260311T215803Z
UID:216694-1773946800-1774562400@operaplus.cz
SUMMARY:BEETHOVENOVA OSUDOVÁ A MLADÉ TALENTY
DESCRIPTION:Veřejná generální zkouška: 19. března 2026\, 10:00 hodin\nProgram\n\nWolfgang Amadeus Mozart: Koncert pro klavír a orchestr č. 9 Es dur\, KV 271 (1. část)\nJoseph Haydn: Recitativ a árie Simona „Vom Widder strahlet jetzt … Schon eilet froh der Ackermann“\, oratorium Die Jahreszeiten\, Hob. XXI:3 – Der Frühling\nWolfgang Amadeus Mozart: Árie Dona Giovanniho „Metà di voi qua vadano“ z 2. dějství opery Don Giovanni\, K. 527\nHenryk Wieniawski: Koncert pro housle č. 2 d moll\, op. 22  (1. část)\nDezider Zádor: Koncert pro cimbál a orchestr\nLudwig van Beethoven: Symfonie č. 5 c moll „Osudová“\, op. 67\n\nÚčinkující\n\nVojtech Filip Kopko – klavír\nOliver Olejár – zpěv\nSamuel Bandy – housle\nBohodar Vatsyk – cimbál\nŠtátna filharmónia Košice\nDionysis Grammenos – dirigent
URL:https://operaplus.cz/akce/beethovenova-osudova-a-mlade-talenty/
LOCATION:Dom umenia\, Košice\, Slovakia (Slovak Republic)
CATEGORIES:Štátna filharmónia Košice
END:VEVENT
BEGIN:VEVENT
DTSTART;TZID=Europe/Prague:20260324T100000
DTEND;TZID=Europe/Prague:20260324T170000
DTSTAMP:20260422T210052
CREATED:20260317T144302Z
LAST-MODIFIED:20260317T144302Z
UID:217167-1774346400-1774371600@operaplus.cz
SUMMARY:Papageno v kouzelném lese
DESCRIPTION:Komorní inscenace opery pro děti na motivy Kouzelné flétny W. A. Mozarta. Děti uvidí představení plné imaginace\, jevištních kouzel a krásných Mozartových melodií. Uvádíme ji v českém překladu. \n\n\nPapageno v kouzelném lese je představením plným imaginace\, jevištních kouzel a krásných Mozartových melodií. Děti provede kouzelným lesem ptáčník Papageno. Společně s ním budou putovat po stopách prince Tamina\, aby vysvobodili princeznu Paminu a také Papagenovi našli jemu podobnou družku. Operu uvádíme v českém překladu.
URL:https://operaplus.cz/akce/papageno-v-kouzelnem-lese-14/
LOCATION:Malá scéna Divadla J. K. Tyla\, Plzeň\, Czech Republic
CATEGORIES:Divadlo J. K. Tyla
END:VEVENT
BEGIN:VEVENT
DTSTART;TZID=Europe/Prague:20260324T160000
DTEND;TZID=Europe/Prague:20260324T170000
DTSTAMP:20260422T210052
CREATED:20260316T173359Z
LAST-MODIFIED:20260316T173359Z
UID:217017-1774368000-1774371600@operaplus.cz
SUMMARY:Absolventský koncert: Arseny Menkov – hoboj
DESCRIPTION:Účinkující\n\nArseny Menkov – hoboj\nŠtěpánka Plocková – violoncello\nDavid Pokorný – viola\nAnhelyna Miroshyna – housle\nAliaksandra Arbuzava – housle\nBohumír Stehlík – klavírní spolupráce
URL:https://operaplus.cz/akce/absolventsky-koncert-arseny-menkov-hoboj-2/
LOCATION:Koncertní sál HF JAMU\, Brno\, Czech Republic
CATEGORIES:JAMU
END:VEVENT
BEGIN:VEVENT
DTSTART;TZID=Europe/Prague:20260324T180000
DTEND;TZID=Europe/Prague:20260324T220000
DTSTAMP:20260422T210052
CREATED:20260316T174131Z
LAST-MODIFIED:20260316T174131Z
UID:217028-1774375200-1774389600@operaplus.cz
SUMMARY:Popelka
DESCRIPTION:Program\n\nPauline Viardot: Popelka
URL:https://operaplus.cz/akce/popelka-8/
LOCATION:Divadlo „12“\, Ostrava
CATEGORIES:Národní divadlo moravskoslezské
END:VEVENT
BEGIN:VEVENT
DTSTART;TZID=Europe/Prague:20260324T190000
DTEND;TZID=Europe/Prague:20260324T220000
DTSTAMP:20260422T210052
CREATED:20260316T173523Z
LAST-MODIFIED:20260316T173523Z
UID:217019-1774378800-1774389600@operaplus.cz
SUMMARY:Absolventský koncert: Alžběta Hlavicová – hoboj
DESCRIPTION:Účinkující\n\nAlžběta Hlavicová – hoboj
URL:https://operaplus.cz/akce/absolventsky-koncert-alzbeta-hlavicova-hoboj/
LOCATION:Koncertní sál HF JAMU\, Brno\, Czech Republic
CATEGORIES:JAMU
END:VEVENT
BEGIN:VEVENT
DTSTART;TZID=Europe/Prague:20260324T190000
DTEND;TZID=Europe/Prague:20260324T220000
DTSTAMP:20260422T210052
CREATED:20260317T145334Z
LAST-MODIFIED:20260317T145334Z
UID:217178-1774378800-1774389600@operaplus.cz
SUMMARY:Emmerich Kálmán: ČARDÁŠOVÁ PRINCEZNA
DESCRIPTION:Program\n\nEmmerich Kálmán: Čardášová princezna
URL:https://operaplus.cz/akce/emmerich-kalman-cardasova-princezna-2/
LOCATION:Divadlo města Ústí nad Labem\, Lidické náměstí 10\, Ústí nad Labem\, Czech Republic
CATEGORIES:Divadlo města Ústí nad Labem
END:VEVENT
BEGIN:VEVENT
DTSTART;TZID=Europe/Prague:20260324T193000
DTEND;TZID=Europe/Prague:20260324T220000
DTSTAMP:20260422T210052
CREATED:20260316T171257Z
LAST-MODIFIED:20260316T171257Z
UID:216997-1774380600-1774389600@operaplus.cz
SUMMARY:ELIŠKA LUNDÁKOVÁ – HOBOJ
DESCRIPTION:Účinkující\n\nEliška Lundáková – hoboj\nBarbora Vodhanelová – flétna\nJáchym Linka – fagot\nTereza Tourková – hoboj\nAneta Hodaničová – hoboj\nMiloslava Machová – klavírní spolupráce
URL:https://operaplus.cz/akce/eliska-lundakova-hoboj/
LOCATION:Galerie HAMU\, Praha\, Czech Republic
CATEGORIES:HAMU
END:VEVENT
BEGIN:VEVENT
DTSTART;TZID=Europe/Prague:20260324T193000
DTEND;TZID=Europe/Prague:20260324T220000
DTSTAMP:20260422T210052
CREATED:20260316T172340Z
LAST-MODIFIED:20260316T172340Z
UID:217008-1774380600-1774389600@operaplus.cz
SUMMARY:Hrad knížete Modrovouse
DESCRIPTION:Program\n\nBéla Bartók: Hrad knížete Modrovouse\n\nÚčinkující\n\nSzilvia Vörös – mezzosoprán\nGünther Groissböck – bas\nGyörgy Budányi – vypravěč\nSymfonický orchestr Českého rozhlasu\nRobert Jindra – dirigent
URL:https://operaplus.cz/akce/hrad-knizete-modrovouse/
LOCATION:Rudolfinum – Dvořákova síň\, Praha\, Czech Republic
CATEGORIES:Symfonický orchestr Českého rozhlasu
END:VEVENT
BEGIN:VEVENT
DTSTART;TZID=Europe/Prague:20260324T203000
DTEND;TZID=Europe/Prague:20260324T223000
DTSTAMP:20260422T210052
CREATED:20250918T121659Z
LAST-MODIFIED:20250918T121700Z
UID:202428-1774384200-1774391400@operaplus.cz
SUMMARY:Pavel Šporcl – Koncert ve starém stylu
DESCRIPTION:Pavel Šporcl – Koncert ve starém stylu\nKdy: 24. března 2026\, 20:30–22:30Kde: Kostel sv. Šimona a Judy \nKoupit vstupenky / Detail \nJohann Sebastian Bach\nCiaccona\nNiccolò Paganini\nKoncert D dur\nCapriccio č. 24\nAlfred Schnittke\nSuita ve starém stylu\nHenryk Wieniawski\nLegenda g moll op. 17\nPolonéza D dur op. 4\nPavel Šporcl | housle\nPetr Jiříkovský | klavír \nInformace\n\nMísto: Kostel sv. Šimona a Judy\nTermín: 24.03.2026 20:30\n\nZdroj: https://www.fok.cz/pavel-sporcl-koncert-ve-starem-stylu
URL:https://operaplus.cz/akce/pavel-sporcl-koncert-ve-starem-stylu/
CATEGORIES:Pražští symfonikové
END:VEVENT
END:VCALENDAR