BEGIN:VCALENDAR
VERSION:2.0
PRODID:-//Opera PLUS - ECPv6.15.13.1//NONSGML v1.0//EN
CALSCALE:GREGORIAN
METHOD:PUBLISH
X-WR-CALNAME:Opera PLUS
X-ORIGINAL-URL:https://operaplus.cz
X-WR-CALDESC:Akce na Opera PLUS
REFRESH-INTERVAL;VALUE=DURATION:PT1H
X-Robots-Tag:noindex
X-PUBLISHED-TTL:PT1H
BEGIN:VTIMEZONE
TZID:Europe/Prague
BEGIN:DAYLIGHT
TZOFFSETFROM:+0100
TZOFFSETTO:+0200
TZNAME:CEST
DTSTART:20250330T010000
END:DAYLIGHT
BEGIN:STANDARD
TZOFFSETFROM:+0200
TZOFFSETTO:+0100
TZNAME:CET
DTSTART:20251026T010000
END:STANDARD
BEGIN:DAYLIGHT
TZOFFSETFROM:+0100
TZOFFSETTO:+0200
TZNAME:CEST
DTSTART:20260329T010000
END:DAYLIGHT
BEGIN:STANDARD
TZOFFSETFROM:+0200
TZOFFSETTO:+0100
TZNAME:CET
DTSTART:20261025T010000
END:STANDARD
BEGIN:DAYLIGHT
TZOFFSETFROM:+0100
TZOFFSETTO:+0200
TZNAME:CEST
DTSTART:20270328T010000
END:DAYLIGHT
BEGIN:STANDARD
TZOFFSETFROM:+0200
TZOFFSETTO:+0100
TZNAME:CET
DTSTART:20271031T010000
END:STANDARD
END:VTIMEZONE
BEGIN:VEVENT
DTSTART;TZID=Europe/Prague:20260417T113000
DTEND;TZID=Europe/Prague:20260424T170000
DTSTAMP:20260423T012902
CREATED:20260407T214512Z
LAST-MODIFIED:20260407T214512Z
UID:218871-1776425400-1777050000@operaplus.cz
SUMMARY:Hudobná akadémia 3b
DESCRIPTION:Program\n\nRichard Strauss: Tak řekl – Introdukce\nJohann Sebastian Bach: Toccata d moll\, BWV 565\nLouis Vierne: Zvony kapličky v Longpont\, op. 31\nFrantišek Xaver Brixi: Sýkorka\nFelix Mendelssohn Bartholdy: Svatební pochod (Sen noci svatojánské)\nLouis Vierne: 24 kusů ve volném stylu\, op. 31 – Píseň\nAlexandre Guilmant: Sonáta č. 1 d moll\, op. 42 – Introdukce a Allegro\nFelix Mendelssohn Bartholdy: Sonáta\, op. 65\, č. 6 d moll – Finale – Andante\nCharles-Marie Widor: Symfonie č. 5 f moll\, op. 42/1 – Toccata\n\nÚčinkující\n\nMarek Vrábel – varhany\nMartin Vanek – moderátor
URL:https://operaplus.cz/akce/hudobna-akademia-3b/
LOCATION:Koncertná sieň SF\, Bratislava\, Slovakia (Slovak Republic)
CATEGORIES:Slovenská filharmónia
END:VEVENT
BEGIN:VEVENT
DTSTART;VALUE=DATE:20260423
DTEND;VALUE=DATE:20260424
DTSTAMP:20260423T012902
CREATED:20260411T125017Z
LAST-MODIFIED:20260411T125017Z
UID:219076-1776902400-1776988799@operaplus.cz
SUMMARY:GUSTAVO SANTAOLALLA
DESCRIPTION:Večer\, kdy kouzlo filmové hudby zazáří v celé své kráse! \nMajestátní Smetanova síň přivede na jedno pódium všechny hvězdy letošního Composers Summit Prague – světově proslulé skladatele\, jejich legendární melodie a špičkové hudebníky Českého národního symfonického orchestru. \nNávštěvníci uslyší nezapomenutelná témata z filmů a her jako Pearl Harbor\, Letopisy Narnie\, Shrek\, The Boys\, Frozen\, Ant-Man\, Medal of Honor\, Assassin’s Creed\, World of Warcraft: Malach\, Daredevil\, House of Cards\, K-Pop Demon Hunters\, Marťan a Pí a jeho život – v podání jejich původních skladatelů. Někteří z nich se postaví za dirigentský pult\, zatímco jiní vezmou do rukou své nástroje\, aby svým dílům vdechli život. \nVečer doplní dechberoucí vizuální projekce a atmosféra\, která návštěvníky přenese přímo do srdce Hollywoodu.
URL:https://operaplus.cz/akce/gustavo-santaolalla/
LOCATION:Obecní dům\, Smetanova síň
CATEGORIES:Composers Summit Prague
END:VEVENT
BEGIN:VEVENT
DTSTART;TZID=Europe/Prague:20260423T183000
DTEND;TZID=Europe/Prague:20260423T200000
DTSTAMP:20260423T012902
CREATED:20260412T184005Z
LAST-MODIFIED:20260412T184005Z
UID:219199-1776969000-1776974400@operaplus.cz
SUMMARY:Příhody lišky Bystroušky
DESCRIPTION:Program\n\nLeoš Janáček: Příhody lišky Bystroušky
URL:https://operaplus.cz/akce/prihody-lisky-bystrousky-3/
LOCATION:Divadlo Antonína Dvořáka\, Ostrava\, Czech Republic
CATEGORIES:Národní divadlo moravskoslezské
END:VEVENT
BEGIN:VEVENT
DTSTART;TZID=Europe/Prague:20260423T190000
DTEND;TZID=Europe/Prague:20260423T210000
DTSTAMP:20260423T012902
CREATED:20250918T125910Z
LAST-MODIFIED:20250918T125911Z
UID:202652-1776970800-1776978000@operaplus.cz
SUMMARY:Absolventský koncert Pražské konzervatoře
DESCRIPTION:Absolventský koncert Pražské konzervatoře\nKdy: 23. dubna 2026\, 19:00–21:00Kde: čtvrtek čas bude upřesněn \nKoupit vstupenky / Detail \nFilharmonie Hradec Králové společně s absolventy Pražské konzervatoře.\nFilharmonie Hradec Králové Miriam Němcová dirigentka \nInformace\n\nŘada/typ: FHK hostuje\nCena/pozn.: více info\n\nZdroj: https://www.fhk.cz/calendar/1461/Absolventsky_koncert_Prazske_konzervatore/back/123/Koncerty_chronologicky/
URL:https://operaplus.cz/akce/absolventsky-koncert-prazske-konzervatore/
CATEGORIES:Filharmonie Hradec Králové
END:VEVENT
BEGIN:VEVENT
DTSTART;TZID=Europe/Prague:20260423T190000
DTEND;TZID=Europe/Prague:20260423T220000
DTSTAMP:20260423T012902
CREATED:20260324T113940Z
LAST-MODIFIED:20260324T113940Z
UID:217815-1776970800-1776981600@operaplus.cz
SUMMARY:Pas de Trois
DESCRIPTION:Program\n\nUrsula Mamlok: Panta rhei\nFelix Mendelssohn-Bartholdy: Klavírní trio č. 2 c-Moll  op. 66\nLee Bradshaw:  Mi Ha´ish Variations (česká premiéra)\nDmitrij Šostakovič. Klavírní trio č. 2 e-Moll op. 67\n\nÚčinkující\n\nTrio Delyria
URL:https://operaplus.cz/akce/pas-de-trois/
LOCATION:Konzervatoř Jana Deyla\, Praha\, Czech Republic
CATEGORIES:Ullmannovské slavnosti
END:VEVENT
BEGIN:VEVENT
DTSTART;TZID=Europe/Prague:20260423T190000
DTEND;TZID=Europe/Prague:20260423T220000
DTSTAMP:20260423T012902
CREATED:20260412T175528Z
LAST-MODIFIED:20260412T175528Z
UID:219166-1776970800-1776981600@operaplus.cz
SUMMARY:Absolventský recitál: Jana Pilařová
DESCRIPTION:Účinkující\n\nJana Pilařová – saxofon
URL:https://operaplus.cz/akce/absolventsky-recital-jana-pilarova/
LOCATION:Komorní sál Pražské konzervatoře\, Praha\, Czech Republic
CATEGORIES:Pražská konzervatoř
END:VEVENT
BEGIN:VEVENT
DTSTART;TZID=Europe/Prague:20260423T190000
DTEND;TZID=Europe/Prague:20260423T220000
DTSTAMP:20260423T012902
CREATED:20260412T175713Z
LAST-MODIFIED:20260412T175713Z
UID:219168-1776970800-1776981600@operaplus.cz
SUMMARY:Absolvenstký koncert s Filharmonií Hradec Králové
DESCRIPTION:
URL:https://operaplus.cz/akce/absolvenstky-koncert-s-filharmonii-hradec-kralove/
LOCATION:Koncertní sál Pražské konzervatoře\, Praha\, Czech Republic
CATEGORIES:Pražská konzervatoř
END:VEVENT
BEGIN:VEVENT
DTSTART;TZID=Europe/Prague:20260423T190000
DTEND;TZID=Europe/Prague:20260423T220000
DTSTAMP:20260423T012902
CREATED:20260412T184641Z
LAST-MODIFIED:20260412T184641Z
UID:219212-1776970800-1776981600@operaplus.cz
SUMMARY:Netopýr
DESCRIPTION:Program\n\nJohann Strauss: Netopýr
URL:https://operaplus.cz/akce/netopyr-9/
LOCATION:Nová scéna Divadla J. K. Tyla\, Plzeň\, Czech Republic
CATEGORIES:Divadlo J. K. Tyla
END:VEVENT
BEGIN:VEVENT
DTSTART;TZID=Europe/Prague:20260423T190000
DTEND;TZID=Europe/Prague:20260423T220000
DTSTAMP:20260423T012902
CREATED:20260412T185734Z
LAST-MODIFIED:20260412T185734Z
UID:219221-1776970800-1776981600@operaplus.cz
SUMMARY:Hudba vznešené Anglie
DESCRIPTION:Program\n\nJoseph William Hobbs: Phillis is my only joy\nThomas Morley: First Book of Ballets  (výběr)\nAntonín Dvořák: 5 sborů pro mužské hlasy\nJohn Dowland: Come Again\nJohn Dowland: Flow My Tears\nHenry Purcell: Fear no danger\nTrad. arr. S.E. Lovatt: The Little Green Lane\nTrad.: Abide with me\n\nÚčinkující\n\nAneta Podracká Bendová – zpěv\nLenka Cafourková Ďuricová – zpěv\nQ VOX
URL:https://operaplus.cz/akce/hudba-vznesene-anglie/
LOCATION:Kostel sv. Vojtěcha\, Příbram\, Czech Republic
CATEGORIES:Hudební festival Antonína Dvořáka
END:VEVENT
BEGIN:VEVENT
DTSTART;TZID=Europe/Prague:20260423T190000
DTEND;TZID=Europe/Prague:20260423T220000
DTSTAMP:20260423T012902
CREATED:20260412T200514Z
LAST-MODIFIED:20260412T200514Z
UID:219241-1776970800-1776981600@operaplus.cz
SUMMARY:Fagotista z Berlínské filharmonie
DESCRIPTION:Program\n\nAntonio Vivaldi: Concerto di Parigi\nJan Křtitel Vaňhal: Koncert pro kontrabas\nAntonio Vivaldi: Koncert pro fagot\nWolfgang Amadeus Mozart: Divertimento D dur\nGeorg Friedrich Händel: árie z opery Ariodante\n\nÚčinkující\n\nVáclav Vonášek – fagot\nEma Světlíková – kontrabas\nBarocco sempre giovane
URL:https://operaplus.cz/akce/fagotista-z-berlinske-filharmonie/
LOCATION:Zámek Pardubice\, Pardubice\, Czech Republic
CATEGORIES:Pardubické hudební jaro
END:VEVENT
BEGIN:VEVENT
DTSTART;TZID=Europe/Prague:20260423T190000
DTEND;TZID=Europe/Prague:20260423T220000
DTSTAMP:20260423T012902
CREATED:20260412T201347Z
LAST-MODIFIED:20260412T201347Z
UID:219254-1776970800-1776981600@operaplus.cz
SUMMARY:Mladý cyklus M koncert 2
DESCRIPTION:Program\n\nFrantišek Domažlický: Koncert pro pozoun a orchestr\nTadeáš Racety: Symfonie č. 1\nCamille Saint-Saëns: Havanaise\nSergej Rachmaninov: Koncert pro klavír a orchestr č. 3 d moll\nCamille Saint-Saëns: Koncert pro klavír a orchestr č. 2 g moll\nGerald Finzi: Koncert pro klarinet a smyčce c moll\nEmmanuel Séjourné: Koncert pro marimbu a smyčce\n\nÚčinkující\n\nŠtěpán Novák– pozoun\nTadeáš Racety– skladba\nAnna Karpíšková – housle\nErik Šamko – klavír\nJana Neužilová – klavír\nJiří Slabý – klarinet\nVojtěch Souček – marimba\nSeveročeská filharmonie Teplice\nPetr Vronský – dirigent
URL:https://operaplus.cz/akce/mlady-cyklus-m-koncert-2/
LOCATION:Dům kultury\, Teplice\, Czech Republic
CATEGORIES:Severočeská filharmonie Teplice
END:VEVENT
BEGIN:VEVENT
DTSTART;TZID=Europe/Prague:20260423T190000
DTEND;TZID=Europe/Prague:20260423T220000
DTSTAMP:20260423T012902
CREATED:20260412T202738Z
LAST-MODIFIED:20260412T202738Z
UID:219268-1776970800-1776981600@operaplus.cz
SUMMARY:Schmidt / Brahms
DESCRIPTION:Program\n\nFranz Schmidt: Intermezzo z opery Notre Dame\nJohannes Brahms: Koncert pre husle\, violončelo a orchester a mol\, op. 102\nFranz Schmidt: Symfónia č. 1 E dur\n\nÚčinkující\n\nSueye Park – housle\nYuya Mizuno – violoncello\nSlovenská filharmónia\nDaniel Raiskin – dirigent
URL:https://operaplus.cz/akce/schmidt-brahms/
LOCATION:Koncertná sieň SF\, Bratislava\, Slovakia (Slovak Republic)
CATEGORIES:Slovenská filharmónia
END:VEVENT
BEGIN:VEVENT
DTSTART;TZID=Europe/Prague:20260423T190000
DTEND;TZID=Europe/Prague:20260423T220000
DTSTAMP:20260423T012902
CREATED:20260412T203548Z
LAST-MODIFIED:20260412T203548Z
UID:219275-1776970800-1776981600@operaplus.cz
SUMMARY:BEETHOVENOV TROJKONCERT
DESCRIPTION:Program\n\nLudwig van Beethoven: Trojkoncert pro housle\, violoncello\, klavír a orchestr C dur\, op. 56\nJosef Bohuslav Foerster: Cyrano de Bergerac\, symfonická suita\, op. 55\n\nÚčinkující\n\nFederico Kasík – housle\nTeresa Beldi – violoncello\nChristian Beldi – klavír\nŠtátna filharmónia Košice\nRobert Jindra – dirigent
URL:https://operaplus.cz/akce/beethovenov-trojkoncert/
LOCATION:Dom umenia\, Košice\, Slovakia (Slovak Republic)
CATEGORIES:Štátna filharmónia Košice
END:VEVENT
BEGIN:VEVENT
DTSTART;TZID=Europe/Prague:20260423T193000
DTEND;TZID=Europe/Prague:20260423T213000
DTSTAMP:20260423T012902
CREATED:20250916T023805Z
LAST-MODIFIED:20250916T164550Z
UID:200051-1776972600-1776979800@operaplus.cz
SUMMARY:Česká filharmonie • Dortmund
DESCRIPTION:Česká filharmonie • Dortmund\nKdy/Kde: 23. dubna 2026\, 19:30–21:30 \nVstupenky / Web pořadatele \nProgram\n\nAntonín Dvořák Karneval\, koncertní předehra\, op. 92\nEdward Elgar Koncert pro violoncello a orchestr e moll\, op. 85\nIgor Stravinskij Svěcení jara\n\nÚčinkující\n\nSol Gabetta — violoncello\nSemjon Byčkov — dirigent — Česká filharmonie\n\nV programu zazní Dvořákova Karneval\, Elgarův koncert pro violoncello a Stravinského Svěcení jara\, které je považováno za jedno z nejvlivnějších děl 20. století. Sol Gabetta\, mezinárodně uznávaná violoncellistka\, se vrací na pódium s Českou filharmonií\, aby přinesla nezapomenutelný zážitek. \nKontakt\nEmail: info@ceskafilharmonie.czTelefon: +420 227 059 227 \nZdroj: website
URL:https://operaplus.cz/akce/ceska-filharmonie-dortmund/
CATEGORIES:Česká filharmonie
END:VEVENT
BEGIN:VEVENT
DTSTART;TZID=Europe/Prague:20260423T193000
DTEND;TZID=Europe/Prague:20260423T220000
DTSTAMP:20260423T012902
CREATED:20260412T163054Z
LAST-MODIFIED:20260412T163054Z
UID:219136-1776972600-1776981600@operaplus.cz
SUMMARY:KRISTÝNA JUNGOVÁ – HOUSLE
DESCRIPTION:Účinkující\n\nKristýna Jungová – housle\nSamuel Jung – violoncello\nViktorie Braunová – klarinet\nDarina Pišlová – klavír\nAnna Gaálová – klavír\nJana Vychodilová – klavírní spolupráce
URL:https://operaplus.cz/akce/kristyna-jungova-housle/
LOCATION:Lichtenštejnský palác\, Praha\, Czech Republic
CATEGORIES:HAMU
END:VEVENT
BEGIN:VEVENT
DTSTART;TZID=Europe/Prague:20260423T193000
DTEND;TZID=Europe/Prague:20260423T220000
DTSTAMP:20260423T012902
CREATED:20260412T163246Z
LAST-MODIFIED:20260412T163246Z
UID:219138-1776972600-1776981600@operaplus.cz
SUMMARY:JAN BÁRA – KYTARA
DESCRIPTION:Magisterský program kytaristy Jan Báry\, který nejdříve vystoupí sólově v duchu ragtimu a následně jako člen kytarového kvartetu MAHA MAHA MAHA MAHA. \nZároveň bude na koncertě hostovat vizuální umělec VJ Bit.
URL:https://operaplus.cz/akce/jan-bara-kytara/
LOCATION:Divadlo Inspirace\, Praha\, Czech Republic
CATEGORIES:HAMU
END:VEVENT
BEGIN:VEVENT
DTSTART;TZID=Europe/Prague:20260423T193000
DTEND;TZID=Europe/Prague:20260423T220000
DTSTAMP:20260423T012902
CREATED:20260412T163457Z
LAST-MODIFIED:20260412T163457Z
UID:219140-1776972600-1776981600@operaplus.cz
SUMMARY:JAKUB KRUTTA – CEMBALO
DESCRIPTION:Účinkující\n\nJakub Krutta – cembalo\nDiana Kolláriková – housle\nTereza Zahradníková – housle\nMagdalena Čapková – housle\nKarolína Melichaříková – housle\nFrantiška Barochová – viola\nMarcel Petráš – violoncello\nJuraj Glasnák – violoncello\nTiago Di Bella – kontrabas\nMichael Housa – dirigent
URL:https://operaplus.cz/akce/jakub-krutta-cembalo/
LOCATION:Galerie HAMU\, Praha\, Czech Republic
CATEGORIES:HAMU
END:VEVENT
BEGIN:VEVENT
DTSTART;TZID=Europe/Prague:20260423T200000
DTEND;TZID=Europe/Prague:20260423T220000
DTSTAMP:20260423T012902
CREATED:20250917T222847Z
LAST-MODIFIED:20250917T222848Z
UID:201906-1776974400-1776981600@operaplus.cz
SUMMARY:Exotické rytmy východních kultur
DESCRIPTION:Exotické rytmy východních kultur\nKdy: 23. dubna 2026\, 20:00–22:00Kde: Reduta \nKoupit vstupenky / Web pořadatele \nNa koncertě zazní díla Nikolaje Rimského-Korsakova\, Pēterise Vaskse a Arama Chačaturjana. Vystoupí violoncellista Jiří Bárta za doprovodu orchestru pod vedením dirigenta Tomáše Braunera. \nÚčinkující\n\nJiří Bárta — violoncello\nTomáš Brauner — dirigent\n\nInformace\n\nMísto: Reduta\nProgram: Aram Chačaturjan – Spartakus (výběr z baletních suit); Nikolaj Rimskij-Korsakov – Carská nevěsta\, předehra k opeře; Pēteris Vasks – Koncert pro violoncello a orchestr č. 1\n\nZdroj: https://www.mfo.cz/program/exoticke-rytmy-vychodnich-kultur
URL:https://operaplus.cz/akce/exoticke-rytmy-vychodnich-kultur/
CATEGORIES:Moravská filharmonie Olomouc
END:VEVENT
BEGIN:VEVENT
DTSTART;TZID=Europe/Prague:20260423T210000
DTEND;TZID=Europe/Prague:20260423T230000
DTSTAMP:20260423T012902
CREATED:20250918T121737Z
LAST-MODIFIED:20250918T121738Z
UID:202448-1776978000-1776985200@operaplus.cz
SUMMARY:Karneval zvířat
DESCRIPTION:Karneval zvířat\nKdy: 23. dubna 2026\, 21:00–23:00Kde: Divadlo Viola \nKoupit vstupenky / Detail \nZuzana Dostálová\nKarneval zvířat\nCamille Saint-Saëns\nAram Chačaturjan\nBedřich Smetana\nVáclav Kaprál\nOndřej Brousek | mluvené slovo\nZuzana Dostálová | violoncello\nDebora Konečná | klavír \nInformace\n\nMísto: Divadlo Viola\nTermín: 23.04.2026 21:00\n\nZdroj: https://www.fok.cz/karneval-zvirat-5
URL:https://operaplus.cz/akce/karneval-zvirat/
CATEGORIES:Pražští symfonikové
END:VEVENT
END:VCALENDAR