BEGIN:VCALENDAR
VERSION:2.0
PRODID:-//Opera PLUS - ECPv6.15.13.1//NONSGML v1.0//EN
CALSCALE:GREGORIAN
METHOD:PUBLISH
X-WR-CALNAME:Opera PLUS
X-ORIGINAL-URL:https://operaplus.cz
X-WR-CALDESC:Akce na Opera PLUS
REFRESH-INTERVAL;VALUE=DURATION:PT1H
X-Robots-Tag:noindex
X-PUBLISHED-TTL:PT1H
BEGIN:VTIMEZONE
TZID:Europe/Prague
BEGIN:DAYLIGHT
TZOFFSETFROM:+0100
TZOFFSETTO:+0200
TZNAME:CEST
DTSTART:20250330T010000
END:DAYLIGHT
BEGIN:STANDARD
TZOFFSETFROM:+0200
TZOFFSETTO:+0100
TZNAME:CET
DTSTART:20251026T010000
END:STANDARD
BEGIN:DAYLIGHT
TZOFFSETFROM:+0100
TZOFFSETTO:+0200
TZNAME:CEST
DTSTART:20260329T010000
END:DAYLIGHT
BEGIN:STANDARD
TZOFFSETFROM:+0200
TZOFFSETTO:+0100
TZNAME:CET
DTSTART:20261025T010000
END:STANDARD
BEGIN:DAYLIGHT
TZOFFSETFROM:+0100
TZOFFSETTO:+0200
TZNAME:CEST
DTSTART:20270328T010000
END:DAYLIGHT
BEGIN:STANDARD
TZOFFSETFROM:+0200
TZOFFSETTO:+0100
TZNAME:CET
DTSTART:20271031T010000
END:STANDARD
END:VTIMEZONE
BEGIN:VEVENT
DTSTART;TZID=Europe/Prague:20260417T113000
DTEND;TZID=Europe/Prague:20260424T170000
DTSTAMP:20260424T013658
CREATED:20260407T214512Z
LAST-MODIFIED:20260407T214512Z
UID:218871-1776425400-1777050000@operaplus.cz
SUMMARY:Hudobná akadémia 3b
DESCRIPTION:Program\n\nRichard Strauss: Tak řekl – Introdukce\nJohann Sebastian Bach: Toccata d moll\, BWV 565\nLouis Vierne: Zvony kapličky v Longpont\, op. 31\nFrantišek Xaver Brixi: Sýkorka\nFelix Mendelssohn Bartholdy: Svatební pochod (Sen noci svatojánské)\nLouis Vierne: 24 kusů ve volném stylu\, op. 31 – Píseň\nAlexandre Guilmant: Sonáta č. 1 d moll\, op. 42 – Introdukce a Allegro\nFelix Mendelssohn Bartholdy: Sonáta\, op. 65\, č. 6 d moll – Finale – Andante\nCharles-Marie Widor: Symfonie č. 5 f moll\, op. 42/1 – Toccata\n\nÚčinkující\n\nMarek Vrábel – varhany\nMartin Vanek – moderátor
URL:https://operaplus.cz/akce/hudobna-akademia-3b/
LOCATION:Koncertná sieň SF\, Bratislava\, Slovakia (Slovak Republic)
CATEGORIES:Slovenská filharmónia
END:VEVENT
BEGIN:VEVENT
DTSTART;TZID=Europe/Prague:20260424T110000
DTEND;TZID=Europe/Prague:20260424T170000
DTSTAMP:20260424T013658
CREATED:20260412T184531Z
LAST-MODIFIED:20260412T184531Z
UID:219209-1777028400-1777050000@operaplus.cz
SUMMARY:Jeníček a Mařenka
DESCRIPTION:Program\n\nEngelbert Humperdinck: Jeníček a Mařenka
URL:https://operaplus.cz/akce/jenicek-a-marenka-14/
LOCATION:Velké divadlo\, Plzeň\, Czech Republic
CATEGORIES:Divadlo J. K. Tyla
END:VEVENT
BEGIN:VEVENT
DTSTART;TZID=Europe/Prague:20260424T160000
DTEND;TZID=Europe/Prague:20260424T170000
DTSTAMP:20260424T013658
CREATED:20260412T162903Z
LAST-MODIFIED:20260412T162903Z
UID:219133-1777046400-1777050000@operaplus.cz
SUMMARY:LUCIE KÜNZELOVÁ – FLÉTNA
DESCRIPTION:Účinkující\n\nLucie Künzelová – flétna\nKateřina Švecová – housle\nTomáš Vilím – viola\nHalka Klánská – klavírní spolupráce
URL:https://operaplus.cz/akce/lucie-kunzelova-fletna/
LOCATION:Galerie HAMU\, Praha\, Czech Republic
CATEGORIES:HAMU
END:VEVENT
BEGIN:VEVENT
DTSTART;TZID=Europe/Prague:20260424T190000
DTEND;TZID=Europe/Prague:20260424T220000
DTSTAMP:20260424T013658
CREATED:20260412T182325Z
LAST-MODIFIED:20260412T182325Z
UID:219183-1777057200-1777068000@operaplus.cz
SUMMARY:Absolventský koncert: Yana Shcharbakova – flétna
DESCRIPTION:Účinkující\n\nYana Shcharbakova – flétna\nBianka Soukupová – lesní roh\nNatálie Khemlová – fagot\nFilip Pokorný – klarinet\nKarolína Nečesaná – hoboj\nAriana Suleiman Shakh – viola\nDominika Kvardová – harfa\nBohumír Stehlík – klavírní spolupráce
URL:https://operaplus.cz/akce/absolventsky-koncert-yana-shcharbakova-fletna/
LOCATION:Klenbový sál HF JAMU\, Brno\, Czech Republic
CATEGORIES:JAMU
END:VEVENT
BEGIN:VEVENT
DTSTART;TZID=Europe/Prague:20260424T190000
DTEND;TZID=Europe/Prague:20260424T220000
DTSTAMP:20260424T013658
CREATED:20260412T203001Z
LAST-MODIFIED:20260412T203001Z
UID:219270-1777057200-1777068000@operaplus.cz
SUMMARY:Schmidt / Čajkovskij
DESCRIPTION:Program\n\nFranz Schmidt: Intermezzo z opery Notre Dame\nPetr Iljič Čajkovskij: Koncert pr klavír a orchestr č. 1 b moll\, op. 23\nFranz Schmidt: Symfonie č. 1 E dur\n\nÚčinkující\n\nOlga Scheps – klavír\nSlovenská filharmónia\nDaniel Raiskin – dirigent
URL:https://operaplus.cz/akce/schmidt-cajkovskij/
LOCATION:Koncertná sieň SF\, Bratislava\, Slovakia (Slovak Republic)
CATEGORIES:Slovenská filharmónia
END:VEVENT
BEGIN:VEVENT
DTSTART;TZID=Europe/Prague:20260424T190000
DTEND;TZID=Europe/Prague:20260425T220000
DTSTAMP:20260424T013658
CREATED:20260324T114217Z
LAST-MODIFIED:20260324T114217Z
UID:217818-1777057200-1777154400@operaplus.cz
SUMMARY:Sólo pro klavír
DESCRIPTION:Program\n\nViktor Ullmann: Sonáta pro klavír č. 3\nKarl Amadeus Hartmann: Sonáta „27. duben 1945“\nFelix Mendelssohn-Bartholdy:Variations serieuses\, op. 54\n\nÚčinkující\n\nAnnika Treutler – klavír
URL:https://operaplus.cz/akce/solo-pro-klavir/
LOCATION:Koncertní sál Pražské konzervatoře\, Praha\, Czech Republic
CATEGORIES:Ullmannovské slavnosti
END:VEVENT
BEGIN:VEVENT
DTSTART;TZID=Europe/Prague:20260424T193000
DTEND;TZID=Europe/Prague:20260424T213000
DTSTAMP:20260424T013658
CREATED:20250916T023825Z
LAST-MODIFIED:20250916T164548Z
UID:200052-1777059000-1777066200@operaplus.cz
SUMMARY:Česká filharmonie • Lucemburk
DESCRIPTION:Česká filharmonie • Lucemburk\nKdy/Kde: 24. dubna 2026\, 19:30–21:30 \nVstupenky / Web pořadatele \nProgram\n\nAntonín Dvořák Karneval\, koncertní předehra\, op. 92\nEdward Elgar Koncert pro violoncello a orchestr e moll\, op. 85\nIgor Stravinskij Svěcení jara\n\nÚčinkující\n\nSol Gabetta — violoncello\nSemjon Byčkov — dirigent — Česká filharmonie\n\nV rámci koncertu zazní Dvořákova předehra\, Elgarův koncert pro violoncello\, který ztvární vynikající Sol Gabetta\, a Stravinského Svěcení jara\, které je považováno za jedno z nejvýznamnějších děl 20. století.  \n„Svěcení jara je dílo\, které mění pravidla hry.“ — Igor Stravinskij \nKontakt\nEmail: info@ceskafilharmonie.czTelefon: +420 227 059 227 \nZdroj: website
URL:https://operaplus.cz/akce/ceska-filharmonie-lucemburk/
CATEGORIES:Česká filharmonie
END:VEVENT
BEGIN:VEVENT
DTSTART;TZID=Europe/Prague:20260424T193000
DTEND;TZID=Europe/Prague:20260424T220000
DTSTAMP:20260424T013658
CREATED:20260412T162500Z
LAST-MODIFIED:20260412T162500Z
UID:219128-1777059000-1777068000@operaplus.cz
SUMMARY:INDI STIVÍN – KONTRABAS
DESCRIPTION:Účinkující\n\nIndi Stivín – kontrabas\nAlice Springs – klavírní spolupráce
URL:https://operaplus.cz/akce/indi-stivin-kontrabas/
LOCATION:Lichtenštejnský palác\, Praha\, Czech Republic
CATEGORIES:HAMU
END:VEVENT
BEGIN:VEVENT
DTSTART;TZID=Europe/Prague:20260424T193000
DTEND;TZID=Europe/Prague:20260424T220000
DTSTAMP:20260424T013658
CREATED:20260412T162733Z
LAST-MODIFIED:20260412T162733Z
UID:219131-1777059000-1777068000@operaplus.cz
SUMMARY:ANNA STRÁNSKÁ – HOUSLE
DESCRIPTION:Účinkující\n\nAnna Stránská – housle\nMarie Bařinová – housle\nOndřej Metelka – viola\nJuraj Glasnák – violoncello\nAnna Marie Kadečková – violoncello\nMarkéta Vepřeková – cembalo\nKristina Marková – klavírní spolupráce
URL:https://operaplus.cz/akce/anna-stranska-housle/
LOCATION:Galerie HAMU\, Praha\, Czech Republic
CATEGORIES:HAMU
END:VEVENT
END:VCALENDAR