BEGIN:VCALENDAR
VERSION:2.0
PRODID:-//Opera PLUS - ECPv6.15.13.1//NONSGML v1.0//EN
CALSCALE:GREGORIAN
METHOD:PUBLISH
X-ORIGINAL-URL:https://operaplus.cz
X-WR-CALDESC:Akce na Opera PLUS
REFRESH-INTERVAL;VALUE=DURATION:PT1H
X-Robots-Tag:noindex
X-PUBLISHED-TTL:PT1H
BEGIN:VTIMEZONE
TZID:Europe/Prague
BEGIN:DAYLIGHT
TZOFFSETFROM:+0100
TZOFFSETTO:+0200
TZNAME:CEST
DTSTART:20250330T010000
END:DAYLIGHT
BEGIN:STANDARD
TZOFFSETFROM:+0200
TZOFFSETTO:+0100
TZNAME:CET
DTSTART:20251026T010000
END:STANDARD
BEGIN:DAYLIGHT
TZOFFSETFROM:+0100
TZOFFSETTO:+0200
TZNAME:CEST
DTSTART:20260329T010000
END:DAYLIGHT
BEGIN:STANDARD
TZOFFSETFROM:+0200
TZOFFSETTO:+0100
TZNAME:CET
DTSTART:20261025T010000
END:STANDARD
BEGIN:DAYLIGHT
TZOFFSETFROM:+0100
TZOFFSETTO:+0200
TZNAME:CEST
DTSTART:20270328T010000
END:DAYLIGHT
BEGIN:STANDARD
TZOFFSETFROM:+0200
TZOFFSETTO:+0100
TZNAME:CET
DTSTART:20271031T010000
END:STANDARD
END:VTIMEZONE
BEGIN:VEVENT
DTSTART;TZID=Europe/Prague:20260422T190000
DTEND;TZID=Europe/Prague:20260422T220000
DTSTAMP:20260423T184638
CREATED:20260412T181944Z
LAST-MODIFIED:20260412T181944Z
UID:219177-1776884400-1776895200@operaplus.cz
SUMMARY:VELKÝ CHIRURG
DESCRIPTION:Program\n\nVít Nejedlý: Umírající Melodram s komorním smyčcovým orchestrem a flétnou\, op 6\nClara Iannota: They left us grief-trees wailing at the wall\nTrevor Grahl: From Curious Land and places\nSergei Slonimski: Concerto buffo\n\nÚčinkující\n\nBrno Contemporary Orchestra\nPavel Šnajdr – dirigent
URL:https://operaplus.cz/akce/velky-chirurg/
LOCATION:Aula Stavební fakulty VUT\, Brno\, 902 00\, Czech Republic
CATEGORIES:Brno Contemporary Orchestra
END:VEVENT
END:VCALENDAR