BEGIN:VCALENDAR
VERSION:2.0
PRODID:-//Opera PLUS - ECPv6.15.13.1//NONSGML v1.0//EN
CALSCALE:GREGORIAN
METHOD:PUBLISH
X-WR-CALNAME:Opera PLUS
X-ORIGINAL-URL:https://operaplus.cz
X-WR-CALDESC:Akce na Opera PLUS
REFRESH-INTERVAL;VALUE=DURATION:PT1H
X-Robots-Tag:noindex
X-PUBLISHED-TTL:PT1H
BEGIN:VTIMEZONE
TZID:Europe/Prague
BEGIN:DAYLIGHT
TZOFFSETFROM:+0100
TZOFFSETTO:+0200
TZNAME:CEST
DTSTART:20250330T010000
END:DAYLIGHT
BEGIN:STANDARD
TZOFFSETFROM:+0200
TZOFFSETTO:+0100
TZNAME:CET
DTSTART:20251026T010000
END:STANDARD
BEGIN:DAYLIGHT
TZOFFSETFROM:+0100
TZOFFSETTO:+0200
TZNAME:CEST
DTSTART:20260329T010000
END:DAYLIGHT
BEGIN:STANDARD
TZOFFSETFROM:+0200
TZOFFSETTO:+0100
TZNAME:CET
DTSTART:20261025T010000
END:STANDARD
BEGIN:DAYLIGHT
TZOFFSETFROM:+0100
TZOFFSETTO:+0200
TZNAME:CEST
DTSTART:20270328T010000
END:DAYLIGHT
BEGIN:STANDARD
TZOFFSETFROM:+0200
TZOFFSETTO:+0100
TZNAME:CET
DTSTART:20271031T010000
END:STANDARD
END:VTIMEZONE
BEGIN:VEVENT
DTSTART;TZID=Europe/Prague:20260320T190000
DTEND;TZID=Europe/Prague:20260320T220000
DTSTAMP:20260425T140032
CREATED:20260311T211937Z
LAST-MODIFIED:20260311T211937Z
UID:216662-1774033200-1774044000@operaplus.cz
SUMMARY:Tamerlán
DESCRIPTION:Program\n\nJosef Mysliveček: Tamerlán
URL:https://operaplus.cz/akce/tamerlan-4/
LOCATION:Velké divadlo\, Plzeň\, Czech Republic
CATEGORIES:Divadlo J. K. Tyla
END:VEVENT
BEGIN:VEVENT
DTSTART;TZID=Europe/Prague:20260321T140000
DTEND;TZID=Europe/Prague:20260321T170000
DTSTAMP:20260425T140032
CREATED:20260311T211733Z
LAST-MODIFIED:20260311T211733Z
UID:216660-1774101600-1774112400@operaplus.cz
SUMMARY:Čertova stěna
DESCRIPTION:Program\n\nBedřich Smetana: Čertova stěna
URL:https://operaplus.cz/akce/certova-stena-9/
LOCATION:Velké divadlo\, Plzeň\, Czech Republic
CATEGORIES:Divadlo J. K. Tyla
END:VEVENT
BEGIN:VEVENT
DTSTART;TZID=Europe/Prague:20260322T170000
DTEND;TZID=Europe/Prague:20260322T190000
DTSTAMP:20260425T140032
CREATED:20260311T212344Z
LAST-MODIFIED:20260311T212344Z
UID:216667-1774198800-1774206000@operaplus.cz
SUMMARY:Papageno v kouzelném lese
DESCRIPTION:Komorní inscenace opery pro děti na motivy Kouzelné flétny W. A. Mozarta. Děti uvidí představení plné imaginace\, jevištních kouzel a krásných Mozartových melodií. Uvádíme ji v českém překladu. \n\n\nPapageno v kouzelném lese je představením plným imaginace\, jevištních kouzel a krásných Mozartových melodií. Děti provede kouzelným lesem ptáčník Papageno. Společně s ním budou putovat po stopách prince Tamina\, aby vysvobodili princeznu Paminu a také Papagenovi našli jemu podobnou družku. Operu uvádíme v českém překladu.
URL:https://operaplus.cz/akce/papageno-v-kouzelnem-lese-13/
LOCATION:Malá scéna Divadla J. K. Tyla\, Plzeň\, Czech Republic
CATEGORIES:Divadlo J. K. Tyla
END:VEVENT
BEGIN:VEVENT
DTSTART;TZID=Europe/Prague:20260324T100000
DTEND;TZID=Europe/Prague:20260324T170000
DTSTAMP:20260425T140032
CREATED:20260317T144302Z
LAST-MODIFIED:20260317T144302Z
UID:217167-1774346400-1774371600@operaplus.cz
SUMMARY:Papageno v kouzelném lese
DESCRIPTION:Komorní inscenace opery pro děti na motivy Kouzelné flétny W. A. Mozarta. Děti uvidí představení plné imaginace\, jevištních kouzel a krásných Mozartových melodií. Uvádíme ji v českém překladu. \n\n\nPapageno v kouzelném lese je představením plným imaginace\, jevištních kouzel a krásných Mozartových melodií. Děti provede kouzelným lesem ptáčník Papageno. Společně s ním budou putovat po stopách prince Tamina\, aby vysvobodili princeznu Paminu a také Papagenovi našli jemu podobnou družku. Operu uvádíme v českém překladu.
URL:https://operaplus.cz/akce/papageno-v-kouzelnem-lese-14/
LOCATION:Malá scéna Divadla J. K. Tyla\, Plzeň\, Czech Republic
CATEGORIES:Divadlo J. K. Tyla
END:VEVENT
BEGIN:VEVENT
DTSTART;TZID=Europe/Prague:20260328T190000
DTEND;TZID=Europe/Prague:20260328T220000
DTSTAMP:20260425T140032
CREATED:20260316T175154Z
LAST-MODIFIED:20260316T175154Z
UID:217031-1774724400-1774735200@operaplus.cz
SUMMARY:Jeníček a Mařenka
DESCRIPTION:Program\n\nEngelbert Humperdinck: Jeníček a Mařenka
URL:https://operaplus.cz/akce/jenicek-a-marenka-12/
LOCATION:Velké divadlo\, Plzeň\, Czech Republic
CATEGORIES:Divadlo J. K. Tyla
END:VEVENT
BEGIN:VEVENT
DTSTART;TZID=Europe/Prague:20260329T140000
DTEND;TZID=Europe/Prague:20260329T170000
DTSTAMP:20260425T140032
CREATED:20260317T144405Z
LAST-MODIFIED:20260317T144405Z
UID:217170-1774792800-1774803600@operaplus.cz
SUMMARY:Hubička
DESCRIPTION:Program\n\nBedřich Smetana: Hubička
URL:https://operaplus.cz/akce/hubicka-5/
LOCATION:Velké divadlo\, Plzeň\, Czech Republic
CATEGORIES:Divadlo J. K. Tyla
END:VEVENT
BEGIN:VEVENT
DTSTART;TZID=Europe/Prague:20260401T190000
DTEND;TZID=Europe/Prague:20260401T220000
DTSTAMP:20260425T140032
CREATED:20260323T211943Z
LAST-MODIFIED:20260323T211943Z
UID:217758-1775070000-1775080800@operaplus.cz
SUMMARY:Faraonova kletba
DESCRIPTION:Program\n\nVojtěch Frank / Jakub Hojka: Faraonova kletba
URL:https://operaplus.cz/akce/faraonova-kletba-8/
LOCATION:Malá scéna Divadla J. K. Tyla\, Plzeň\, Czech Republic
CATEGORIES:Divadlo J. K. Tyla
END:VEVENT
BEGIN:VEVENT
DTSTART;TZID=Europe/Prague:20260403T190000
DTEND;TZID=Europe/Prague:20260403T220000
DTSTAMP:20260425T140032
CREATED:20260323T212045Z
LAST-MODIFIED:20260323T212045Z
UID:217761-1775242800-1775253600@operaplus.cz
SUMMARY:Trubadúr
DESCRIPTION:Program\n\nGiuseppe Verdi: Trubadúr
URL:https://operaplus.cz/akce/trubadur-5/
LOCATION:Velké divadlo\, Plzeň\, Czech Republic
CATEGORIES:Divadlo J. K. Tyla
END:VEVENT
BEGIN:VEVENT
DTSTART;TZID=Europe/Prague:20260412T103000
DTEND;TZID=Europe/Prague:20260412T170000
DTSTAMP:20260425T140032
CREATED:20260328T201215Z
LAST-MODIFIED:20260328T201225Z
UID:218218-1775989800-1776013200@operaplus.cz
SUMMARY:Operní matiné
DESCRIPTION:Pravidelná nedělní setkání ve Foyer Vendelína Budila přinášejí skladby z repertoáru vážné hudby na předem daná témata. Vstupenky je možno zakoupit na jednotlivé akce nebo v rámci předplatného. \n\n\nOblíbená řada nedělních komorních recitálů v krásných prostorách Foyer Vendelína Budila ve Velkém divadle nabízí vystoupení členů souboru opery a hostů. Operní matiné skýtají vítanou příležitost umělcům i návštěvníkům poznat repertoár\, který z operního jeviště nezaznívá.
URL:https://operaplus.cz/akce/operni-matine-3/
LOCATION:Velké divadlo\, Plzeň\, Czech Republic
CATEGORIES:Divadlo J. K. Tyla
END:VEVENT
BEGIN:VEVENT
DTSTART;TZID=Europe/Prague:20260418T190000
DTEND;TZID=Europe/Prague:20260418T220000
DTSTAMP:20260425T140032
CREATED:20260407T204518Z
LAST-MODIFIED:20260407T204518Z
UID:218843-1776538800-1776549600@operaplus.cz
SUMMARY:Psohlavci
DESCRIPTION:Program\n\nKarel Kovařovic: Psohlavci
URL:https://operaplus.cz/akce/psohlavci/
LOCATION:Velké divadlo\, Plzeň\, Czech Republic
CATEGORIES:Divadlo J. K. Tyla
END:VEVENT
BEGIN:VEVENT
DTSTART;TZID=Europe/Prague:20260418T190000
DTEND;TZID=Europe/Prague:20260418T220000
DTSTAMP:20260425T140032
CREATED:20260412T184732Z
LAST-MODIFIED:20260412T184732Z
UID:219215-1776538800-1776549600@operaplus.cz
SUMMARY:Psohlavci
DESCRIPTION:Program\n\nKarel Kovařovic: Psohlavci
URL:https://operaplus.cz/akce/psohlavci-2/
LOCATION:Velké divadlo\, Plzeň\, Czech Republic
CATEGORIES:Divadlo J. K. Tyla
END:VEVENT
BEGIN:VEVENT
DTSTART;TZID=Europe/Prague:20260423T190000
DTEND;TZID=Europe/Prague:20260423T220000
DTSTAMP:20260425T140032
CREATED:20260412T184641Z
LAST-MODIFIED:20260412T184641Z
UID:219212-1776970800-1776981600@operaplus.cz
SUMMARY:Netopýr
DESCRIPTION:Program\n\nJohann Strauss: Netopýr
URL:https://operaplus.cz/akce/netopyr-9/
LOCATION:Nová scéna Divadla J. K. Tyla\, Plzeň\, Czech Republic
CATEGORIES:Divadlo J. K. Tyla
END:VEVENT
BEGIN:VEVENT
DTSTART;TZID=Europe/Prague:20260424T110000
DTEND;TZID=Europe/Prague:20260424T170000
DTSTAMP:20260425T140032
CREATED:20260412T184531Z
LAST-MODIFIED:20260412T184531Z
UID:219209-1777028400-1777050000@operaplus.cz
SUMMARY:Jeníček a Mařenka
DESCRIPTION:Program\n\nEngelbert Humperdinck: Jeníček a Mařenka
URL:https://operaplus.cz/akce/jenicek-a-marenka-14/
LOCATION:Velké divadlo\, Plzeň\, Czech Republic
CATEGORIES:Divadlo J. K. Tyla
END:VEVENT
BEGIN:VEVENT
DTSTART;TZID=Europe/Prague:20260426T190000
DTEND;TZID=Europe/Prague:20260426T220000
DTSTAMP:20260425T140032
CREATED:20260412T184848Z
LAST-MODIFIED:20260412T184848Z
UID:219218-1777230000-1777240800@operaplus.cz
SUMMARY:Čertova stěna (derniéra)
DESCRIPTION:Program\n\nBedřich Smetana: Čertova stěna
URL:https://operaplus.cz/akce/certova-stena-derniera/
LOCATION:Velké divadlo\, Plzeň\, Czech Republic
CATEGORIES:Divadlo J. K. Tyla
END:VEVENT
BEGIN:VEVENT
DTSTART;TZID=Europe/Prague:20260428T190000
DTEND;TZID=Europe/Prague:20260428T220000
DTSTAMP:20260425T140032
CREATED:20260419T140418Z
LAST-MODIFIED:20260419T140418Z
UID:219736-1777402800-1777413600@operaplus.cz
SUMMARY:Tamerlán
DESCRIPTION:Program\n\nJosef Mysliveček: Tamerlán
URL:https://operaplus.cz/akce/tamerlan-6/
LOCATION:Velké divadlo\, Plzeň\, Czech Republic
CATEGORIES:Divadlo J. K. Tyla
END:VEVENT
BEGIN:VEVENT
DTSTART;TZID=Europe/Prague:20260429T100000
DTEND;TZID=Europe/Prague:20260429T170000
DTSTAMP:20260425T140032
CREATED:20260419T135706Z
LAST-MODIFIED:20260419T135706Z
UID:219722-1777456800-1777482000@operaplus.cz
SUMMARY:Papageno v kouzelném lese
DESCRIPTION:Komorní inscenace opery pro děti na motivy Kouzelné flétny W. A. Mozarta. Děti uvidí představení plné imaginace\, jevištních kouzel a krásných Mozartových melodií. Uvádíme ji v českém překladu. \n\n\nPapageno v kouzelném lese je představením plným imaginace\, jevištních kouzel a krásných Mozartových melodií. Děti provede kouzelným lesem ptáčník Papageno. Společně s ním budou putovat po stopách prince Tamina\, aby vysvobodili princeznu Paminu a také Papagenovi našli jemu podobnou družku. Operu uvádíme v českém překladu.
URL:https://operaplus.cz/akce/papageno-v-kouzelnem-lese-15/
LOCATION:Malá scéna Divadla J. K. Tyla\, Plzeň\, Czech Republic
CATEGORIES:Divadlo J. K. Tyla
END:VEVENT
BEGIN:VEVENT
DTSTART;TZID=Europe/Prague:20260430T100000
DTEND;TZID=Europe/Prague:20260430T170000
DTSTAMP:20260425T140032
CREATED:20260419T135817Z
LAST-MODIFIED:20260419T135817Z
UID:219724-1777543200-1777568400@operaplus.cz
SUMMARY:Papageno v kouzelném lese
DESCRIPTION:Komorní inscenace opery pro děti na motivy Kouzelné flétny W. A. Mozarta. Děti uvidí představení plné imaginace\, jevištních kouzel a krásných Mozartových melodií. Uvádíme ji v českém překladu. \n\n\nPapageno v kouzelném lese je představením plným imaginace\, jevištních kouzel a krásných Mozartových melodií. Děti provede kouzelným lesem ptáčník Papageno. Společně s ním budou putovat po stopách prince Tamina\, aby vysvobodili princeznu Paminu a také Papagenovi našli jemu podobnou družku. Operu uvádíme v českém překladu.
URL:https://operaplus.cz/akce/papageno-v-kouzelnem-lese-16/
LOCATION:Malá scéna Divadla J. K. Tyla\, Plzeň\, Czech Republic
CATEGORIES:Divadlo J. K. Tyla
END:VEVENT
BEGIN:VEVENT
DTSTART;TZID=Europe/Prague:20260430T190000
DTEND;TZID=Europe/Prague:20260430T220000
DTSTAMP:20260425T140032
CREATED:20260419T140255Z
LAST-MODIFIED:20260419T140255Z
UID:219733-1777575600-1777586400@operaplus.cz
SUMMARY:Jeníček a Mařenka
DESCRIPTION:Program\n\nEngelbert Humperdinck: Jeníček a Mařenka
URL:https://operaplus.cz/akce/jenicek-a-marenka-15/
LOCATION:Velké divadlo\, Plzeň\, Czech Republic
CATEGORIES:Divadlo J. K. Tyla
END:VEVENT
BEGIN:VEVENT
DTSTART;TZID=Europe/Prague:20260503T100000
DTEND;TZID=Europe/Prague:20260503T170000
DTSTAMP:20260425T140032
CREATED:20260419T135859Z
LAST-MODIFIED:20260419T135859Z
UID:219726-1777802400-1777827600@operaplus.cz
SUMMARY:Papageno v kouzelném lese
DESCRIPTION:Komorní inscenace opery pro děti na motivy Kouzelné flétny W. A. Mozarta. Děti uvidí představení plné imaginace\, jevištních kouzel a krásných Mozartových melodií. Uvádíme ji v českém překladu. \n\n\nPapageno v kouzelném lese je představením plným imaginace\, jevištních kouzel a krásných Mozartových melodií. Děti provede kouzelným lesem ptáčník Papageno. Společně s ním budou putovat po stopách prince Tamina\, aby vysvobodili princeznu Paminu a také Papagenovi našli jemu podobnou družku. Operu uvádíme v českém překladu.
URL:https://operaplus.cz/akce/papageno-v-kouzelnem-lese-17/
LOCATION:Malá scéna Divadla J. K. Tyla\, Plzeň\, Czech Republic
CATEGORIES:Divadlo J. K. Tyla
END:VEVENT
BEGIN:VEVENT
DTSTART;TZID=Europe/Prague:20260503T170000
DTEND;TZID=Europe/Prague:20260503T190000
DTSTAMP:20260425T140032
CREATED:20260419T140000Z
LAST-MODIFIED:20260419T140000Z
UID:219728-1777827600-1777834800@operaplus.cz
SUMMARY:Papageno v kouzelném lese
DESCRIPTION:Komorní inscenace opery pro děti na motivy Kouzelné flétny W. A. Mozarta. Děti uvidí představení plné imaginace\, jevištních kouzel a krásných Mozartových melodií. Uvádíme ji v českém překladu. \n\n\nPapageno v kouzelném lese je představením plným imaginace\, jevištních kouzel a krásných Mozartových melodií. Děti provede kouzelným lesem ptáčník Papageno. Společně s ním budou putovat po stopách prince Tamina\, aby vysvobodili princeznu Paminu a také Papagenovi našli jemu podobnou družku. Operu uvádíme v českém překladu.
URL:https://operaplus.cz/akce/papageno-v-kouzelnem-lese-18/
LOCATION:Malá scéna Divadla J. K. Tyla\, Plzeň\, Czech Republic
CATEGORIES:Divadlo J. K. Tyla
END:VEVENT
END:VCALENDAR