BEGIN:VCALENDAR
VERSION:2.0
PRODID:-//Opera PLUS - ECPv6.15.13.1//NONSGML v1.0//EN
CALSCALE:GREGORIAN
METHOD:PUBLISH
X-WR-CALNAME:Opera PLUS
X-ORIGINAL-URL:https://operaplus.cz
X-WR-CALDESC:Akce na Opera PLUS
REFRESH-INTERVAL;VALUE=DURATION:PT1H
X-Robots-Tag:noindex
X-PUBLISHED-TTL:PT1H
BEGIN:VTIMEZONE
TZID:Europe/Prague
BEGIN:DAYLIGHT
TZOFFSETFROM:+0100
TZOFFSETTO:+0200
TZNAME:CEST
DTSTART:20250330T010000
END:DAYLIGHT
BEGIN:STANDARD
TZOFFSETFROM:+0200
TZOFFSETTO:+0100
TZNAME:CET
DTSTART:20251026T010000
END:STANDARD
BEGIN:DAYLIGHT
TZOFFSETFROM:+0100
TZOFFSETTO:+0200
TZNAME:CEST
DTSTART:20260329T010000
END:DAYLIGHT
BEGIN:STANDARD
TZOFFSETFROM:+0200
TZOFFSETTO:+0100
TZNAME:CET
DTSTART:20261025T010000
END:STANDARD
BEGIN:DAYLIGHT
TZOFFSETFROM:+0100
TZOFFSETTO:+0200
TZNAME:CEST
DTSTART:20270328T010000
END:DAYLIGHT
BEGIN:STANDARD
TZOFFSETFROM:+0200
TZOFFSETTO:+0100
TZNAME:CET
DTSTART:20271031T010000
END:STANDARD
END:VTIMEZONE
BEGIN:VEVENT
DTSTART;TZID=Europe/Prague:20260113T190000
DTEND;TZID=Europe/Prague:20260113T220000
DTSTAMP:20260424T231607
CREATED:20260108T152400Z
LAST-MODIFIED:20260108T152400Z
UID:212449-1768330800-1768341600@operaplus.cz
SUMMARY:Novoroční koncert ve vídeňském stylu
DESCRIPTION:Program\n\nJohann Strauss: Netopýr – předehra\nJohann Strauss – Víno\, ženy\, zpěv (valčík)\nJohann Strauss: árie Giuditty z operety Giuditta\nJohann Strauss: Tritsch tratsch polka\nFranz Lehár: píseň Sou Chonga z operety Země úsměvů\nJohann Strauss: Císařský valčík\nJohann Strauss: Cikánský baron – Vstupní pochod ze 3. jednání\nEmmerich Kálmán: píseň Sylvy z operety Čardášová princezna\nJohann Strauss: Cikánský baron – píseň Bárinkaye\nFranz Lehár: Veselá vdova – duet „Housle hrají“\nJohann Strauss: Hromy blesky (polka)\nJohann Strauss: Na krásném modrém Dunaji\n\nÚčinkující\n\nValeria Vaygant – soprán\nJaroslav Kovacs – tenor\nOrchestr Divadla města Ústí nad Labem\nMartin Peschík – dirigent
URL:https://operaplus.cz/akce/novorocni-koncert-ve-videnskem-stylu-2/
LOCATION:Divadlo města Ústí nad Labem\, Lidické náměstí 10\, Ústí nad Labem\, Czech Republic
CATEGORIES:Divadlo města Ústí nad Labem
END:VEVENT
BEGIN:VEVENT
DTSTART;TZID=Europe/Prague:20260115T190000
DTEND;TZID=Europe/Prague:20260115T220000
DTSTAMP:20260424T231607
CREATED:20260104T132124Z
LAST-MODIFIED:20260104T132124Z
UID:212127-1768503600-1768514400@operaplus.cz
SUMMARY:Petr Iljič Čajkovskij: LOUSKÁČEK
DESCRIPTION:Program\n\n\nPetr Iljič Čajkovskij: Louskáček
URL:https://operaplus.cz/akce/petr-iljic-cajkovskij-louskacek-6/
LOCATION:Divadlo města Ústí nad Labem\, Lidické náměstí 10\, Ústí nad Labem\, Czech Republic
CATEGORIES:Divadlo města Ústí nad Labem
END:VEVENT
BEGIN:VEVENT
DTSTART;TZID=Europe/Prague:20260117T100000
DTEND;TZID=Europe/Prague:20260117T170000
DTSTAMP:20260424T231607
CREATED:20260104T131853Z
LAST-MODIFIED:20260104T131853Z
UID:212125-1768644000-1768669200@operaplus.cz
SUMMARY:Dopolední hudební matiné u výborné kávy
DESCRIPTION:Program\n\nJosef Mysliveček: dechový oktet č. 3\, B dur\nBedřich Smetana: Vltava\nWolfgang Amadeus Mozart: Cosi fan tutte\nGeorges Bizet: Carmen\nJaroslav Ježek: Život je jen náhoda\nJohn Williams: Somewhere In My Memory\nHoward Shore: In Dreams\nJohn Williams: Jurassic Park\n\nÚčinkující\n\nBarbora Vodhanelová – flétna\nEliška Lundáková – hoboj\nPetr Ježek – lesní roh\nJáchym Linka – fagot\nJaroslav Mejsnar – klarinet
URL:https://operaplus.cz/akce/dopoledni-hudebni-matine-u-vyborne-kavy/
LOCATION:Divadlo města Ústí nad Labem\, Lidické náměstí 10\, Ústí nad Labem\, Czech Republic
CATEGORIES:Divadlo města Ústí nad Labem
END:VEVENT
BEGIN:VEVENT
DTSTART;TZID=Europe/Prague:20260117T150000
DTEND;TZID=Europe/Prague:20260117T170000
DTSTAMP:20260424T231607
CREATED:20260104T131234Z
LAST-MODIFIED:20260104T131234Z
UID:212123-1768662000-1768669200@operaplus.cz
SUMMARY:Johann Strauss ml.: NOC V BENÁTKÁCH
DESCRIPTION:Program\n\n\nJohann Strauss ml.: Noc v Benátkách
URL:https://operaplus.cz/akce/johann-strauss-ml-noc-v-benatkach-2/
LOCATION:Divadlo města Ústí nad Labem\, Lidické náměstí 10\, Ústí nad Labem\, Czech Republic
CATEGORIES:Divadlo města Ústí nad Labem
END:VEVENT
BEGIN:VEVENT
DTSTART;TZID=Europe/Prague:20260125T150000
DTEND;TZID=Europe/Prague:20260125T170000
DTSTAMP:20260424T231607
CREATED:20260116T172042Z
LAST-MODIFIED:20260116T172042Z
UID:212907-1769353200-1769360400@operaplus.cz
SUMMARY:Johann Strauss: NETOPÝR
DESCRIPTION:Program\n\nJohann Strauss: Netopýr
URL:https://operaplus.cz/akce/johann-strauss-netopyr/
LOCATION:Divadlo města Ústí nad Labem\, Lidické náměstí 10\, Ústí nad Labem\, Czech Republic
CATEGORIES:Divadlo města Ústí nad Labem
END:VEVENT
BEGIN:VEVENT
DTSTART;TZID=Europe/Prague:20260130T190000
DTEND;TZID=Europe/Prague:20260130T220000
DTSTAMP:20260424T231607
CREATED:20260120T151351Z
LAST-MODIFIED:20260120T151351Z
UID:213153-1769799600-1769810400@operaplus.cz
SUMMARY:Johann Strauss: POPELKA
DESCRIPTION:Program\n\nJohann Strauss: Popelka
URL:https://operaplus.cz/akce/johann-strauss-popelka/
LOCATION:Divadlo města Ústí nad Labem\, Lidické náměstí 10\, Ústí nad Labem\, Czech Republic
CATEGORIES:Divadlo města Ústí nad Labem
END:VEVENT
BEGIN:VEVENT
DTSTART;VALUE=DATE:20260131
DTEND;VALUE=DATE:20260201
DTSTAMP:20260424T231607
CREATED:20260120T150946Z
LAST-MODIFIED:20260120T150946Z
UID:213150-1769817600-1769903999@operaplus.cz
SUMMARY:Koncert orchestru DmÚL – Havířov
DESCRIPTION:Účinkující\n\nOrchestr Divadla města Ústí nad Labem
URL:https://operaplus.cz/akce/koncert-orchestru-dmul-havirov/
LOCATION:Havířov\, Havířov\, Czech Republic
CATEGORIES:Divadlo města Ústí nad Labem
END:VEVENT
END:VCALENDAR