BEGIN:VCALENDAR
VERSION:2.0
PRODID:-//Opera PLUS - ECPv6.15.13.1//NONSGML v1.0//EN
CALSCALE:GREGORIAN
METHOD:PUBLISH
X-WR-CALNAME:Opera PLUS
X-ORIGINAL-URL:https://operaplus.cz
X-WR-CALDESC:Akce na Opera PLUS
REFRESH-INTERVAL;VALUE=DURATION:PT1H
X-Robots-Tag:noindex
X-PUBLISHED-TTL:PT1H
BEGIN:VTIMEZONE
TZID:Europe/Helsinki
BEGIN:DAYLIGHT
TZOFFSETFROM:+0200
TZOFFSETTO:+0300
TZNAME:EEST
DTSTART:20240331T010000
END:DAYLIGHT
BEGIN:STANDARD
TZOFFSETFROM:+0300
TZOFFSETTO:+0200
TZNAME:EET
DTSTART:20241027T010000
END:STANDARD
BEGIN:DAYLIGHT
TZOFFSETFROM:+0200
TZOFFSETTO:+0300
TZNAME:EEST
DTSTART:20250330T010000
END:DAYLIGHT
BEGIN:STANDARD
TZOFFSETFROM:+0300
TZOFFSETTO:+0200
TZNAME:EET
DTSTART:20251026T010000
END:STANDARD
BEGIN:DAYLIGHT
TZOFFSETFROM:+0200
TZOFFSETTO:+0300
TZNAME:EEST
DTSTART:20260329T010000
END:DAYLIGHT
BEGIN:STANDARD
TZOFFSETFROM:+0300
TZOFFSETTO:+0200
TZNAME:EET
DTSTART:20261025T010000
END:STANDARD
END:VTIMEZONE
BEGIN:VEVENT
DTSTART;TZID=Europe/Helsinki:20250923T200000
DTEND;TZID=Europe/Helsinki:20250923T210000
DTSTAMP:20260425T170726
CREATED:20250921T084044Z
LAST-MODIFIED:20250921T084044Z
UID:203391-1758657600-1758661200@operaplus.cz
SUMMARY:Dvořákova Praha – Závěrečný koncert
DESCRIPTION:Program\n  \n\n\n\nGeorge Enescu: Rumunská rapsodie č. 1 A dur\, op. 11\nGeorge Gershwin: Klavírní koncert F dur\nAntonín Dvořák: Rapsodie a moll (Symfonická báseň)\, op. 14\, B. 44\nMaurice Ravel: La Valse\n\nÚčinkující\n\nRudolf Buchbinder – klavír\n\n\nOrchestre National de France\n\n\nCristian Măcelaru – dirigent\n\n\n\n 
URL:https://operaplus.cz/akce/dvorakova-praha-zaverecny-koncert/
LOCATION:Rudolfinum\, Praha\, Czech Republic
CATEGORIES:Dvořákova Praha
END:VEVENT
BEGIN:VEVENT
DTSTART;TZID=Europe/Helsinki:20250922T200000
DTEND;TZID=Europe/Helsinki:20250922T210000
DTSTAMP:20260425T170726
CREATED:20250921T083711Z
LAST-MODIFIED:20250921T083711Z
UID:203387-1758571200-1758574800@operaplus.cz
SUMMARY:Dvořákova Praha – Bach Meets Bolling
DESCRIPTION:Program\n  \n\n\n\nJohann Sebastian Bach: Suita pro violoncello č. 5 c moll\, BWV 1011\nAlfred Schnittke: Sonáta pro violoncello a klavír č. 1\nClaude Bolling: Suita pro violoncello a jazzové klavírní trio\n\nÚčinkující\n\nJiří Bárta – violoncello\nTerezie Fialová – klavír\nPetr Dvorský – kontrabas\nJiří Stivín Jr. – bicí\n\n\n\n 
URL:https://operaplus.cz/akce/dvorakova-praha-bach-meets-bolling/
LOCATION:Divadlo X10\, Praha\, Czech Republic
CATEGORIES:Dvořákova Praha
END:VEVENT
END:VCALENDAR