BEGIN:VCALENDAR
VERSION:2.0
PRODID:-//Opera PLUS - ECPv6.15.13.1//NONSGML v1.0//EN
CALSCALE:GREGORIAN
METHOD:PUBLISH
X-ORIGINAL-URL:https://operaplus.cz
X-WR-CALDESC:Akce na Opera PLUS
REFRESH-INTERVAL;VALUE=DURATION:PT1H
X-Robots-Tag:noindex
X-PUBLISHED-TTL:PT1H
BEGIN:VTIMEZONE
TZID:Europe/Helsinki
BEGIN:DAYLIGHT
TZOFFSETFROM:+0200
TZOFFSETTO:+0300
TZNAME:EEST
DTSTART:20240331T010000
END:DAYLIGHT
BEGIN:STANDARD
TZOFFSETFROM:+0300
TZOFFSETTO:+0200
TZNAME:EET
DTSTART:20241027T010000
END:STANDARD
BEGIN:DAYLIGHT
TZOFFSETFROM:+0200
TZOFFSETTO:+0300
TZNAME:EEST
DTSTART:20250330T010000
END:DAYLIGHT
BEGIN:STANDARD
TZOFFSETFROM:+0300
TZOFFSETTO:+0200
TZNAME:EET
DTSTART:20251026T010000
END:STANDARD
BEGIN:DAYLIGHT
TZOFFSETFROM:+0200
TZOFFSETTO:+0300
TZNAME:EEST
DTSTART:20260329T010000
END:DAYLIGHT
BEGIN:STANDARD
TZOFFSETFROM:+0300
TZOFFSETTO:+0200
TZNAME:EET
DTSTART:20261025T010000
END:STANDARD
END:VTIMEZONE
BEGIN:VEVENT
DTSTART;TZID=Europe/Helsinki:20251102T180000
DTEND;TZID=Europe/Helsinki:20251102T190000
DTSTAMP:20260424T154053
CREATED:20251019T130637Z
LAST-MODIFIED:20251019T130637Z
UID:206279-1762106400-1762110000@operaplus.cz
SUMMARY:Festival Varhanní Vysočina –⁠⁠⁠⁠⁠⁠ Mimořádný koncert festivalu
DESCRIPTION:Program\n\nWolfgang Amadeus Mozart: Requiem d moll\, KV 626\n\nÚčinkující\n\nMarkéta Klaudová – zpěv\nMichaela Zajmi – zpěv\nRaman Hasymau – zpěv\nPavel Švingr – zpěv\nDiffero Třebíč\nPěvecké sdružení Campanula Jihlava\nZdeněk Klauda – dirigent
URL:https://operaplus.cz/akce/festival-varhanni-vysocina-%e2%81%a0%e2%81%a0%e2%81%a0%e2%81%a0%e2%81%a0%e2%81%a0-mimoradny-koncert-festivalu/
LOCATION:Kostel sv. Ignáce z Loyoly\, Jihlava\, Czech Republic
CATEGORIES:Festival Varhanní Vysočina
END:VEVENT
END:VCALENDAR