BEGIN:VCALENDAR
VERSION:2.0
PRODID:-//Opera PLUS - ECPv6.15.13.1//NONSGML v1.0//EN
CALSCALE:GREGORIAN
METHOD:PUBLISH
X-ORIGINAL-URL:https://operaplus.cz
X-WR-CALDESC:Akce na Opera PLUS
REFRESH-INTERVAL;VALUE=DURATION:PT1H
X-Robots-Tag:noindex
X-PUBLISHED-TTL:PT1H
BEGIN:VTIMEZONE
TZID:Europe/Prague
BEGIN:DAYLIGHT
TZOFFSETFROM:+0100
TZOFFSETTO:+0200
TZNAME:CEST
DTSTART:20250330T010000
END:DAYLIGHT
BEGIN:STANDARD
TZOFFSETFROM:+0200
TZOFFSETTO:+0100
TZNAME:CET
DTSTART:20251026T010000
END:STANDARD
BEGIN:DAYLIGHT
TZOFFSETFROM:+0100
TZOFFSETTO:+0200
TZNAME:CEST
DTSTART:20260329T010000
END:DAYLIGHT
BEGIN:STANDARD
TZOFFSETFROM:+0200
TZOFFSETTO:+0100
TZNAME:CET
DTSTART:20261025T010000
END:STANDARD
BEGIN:DAYLIGHT
TZOFFSETFROM:+0100
TZOFFSETTO:+0200
TZNAME:CEST
DTSTART:20270328T010000
END:DAYLIGHT
BEGIN:STANDARD
TZOFFSETFROM:+0200
TZOFFSETTO:+0100
TZNAME:CET
DTSTART:20271031T010000
END:STANDARD
END:VTIMEZONE
BEGIN:VEVENT
DTSTART;TZID=Europe/Prague:20260408T193000
DTEND;TZID=Europe/Prague:20260408T220000
DTSTAMP:20260424T183831
CREATED:20260328T192242Z
LAST-MODIFIED:20260328T192242Z
UID:218178-1775676600-1775685600@operaplus.cz
SUMMARY:JOSEF ŠURÁŇ – TROMBON
DESCRIPTION:Účinkující\n\nJosef Šuráň – trombon\nMarek Horký – trombon\nFilip Slavík – trubka\nMiroslav Fejfar – trubka\nAlois Stavárek – lesní roh
URL:https://operaplus.cz/akce/josef-suran-trombon/
LOCATION:Galerie HAMU\, Praha\, Czech Republic
CATEGORIES:HAMU
END:VEVENT
BEGIN:VEVENT
DTSTART;TZID=Europe/Prague:20260408T193000
DTEND;TZID=Europe/Prague:20260408T220000
DTSTAMP:20260424T183831
CREATED:20260328T192405Z
LAST-MODIFIED:20260328T192405Z
UID:218180-1775676600-1775685600@operaplus.cz
SUMMARY:JAKUB WILLIAM GRÁF – VIOLONCELLO
DESCRIPTION:Účinkující\n\nJakub William Gráf – violoncello\nRaphael Wallfisch – violoncello\nSukovo kvarteto
URL:https://operaplus.cz/akce/jakub-william-graf-violoncello/
LOCATION:Lichtenštejnský palác\, Praha\, Czech Republic
CATEGORIES:HAMU
END:VEVENT
BEGIN:VEVENT
DTSTART;TZID=Europe/Prague:20260409T193000
DTEND;TZID=Europe/Prague:20260409T220000
DTSTAMP:20260424T183831
CREATED:20260328T191837Z
LAST-MODIFIED:20260328T191837Z
UID:218170-1775763000-1775772000@operaplus.cz
SUMMARY:VERONIKA JAKLOVÁ – KLAVÍR
DESCRIPTION:Program\n\nVeronika Jaklová – klavír
URL:https://operaplus.cz/akce/veronika-jaklova-klavir/
LOCATION:Galerie HAMU\, Praha\, Czech Republic
CATEGORIES:HAMU
END:VEVENT
BEGIN:VEVENT
DTSTART;TZID=Europe/Prague:20260409T193000
DTEND;TZID=Europe/Prague:20260409T220000
DTSTAMP:20260424T183831
CREATED:20260328T192118Z
LAST-MODIFIED:20260328T192118Z
UID:218174-1775763000-1775772000@operaplus.cz
SUMMARY:BAKALÁŘSKÝ KONCERT ANNY ŠTEKLOVÉ + JAROMÍR HONZÁK ENSEMBLE (JAZZOVÉ ČTVRTKY)
DESCRIPTION:Účinkující\n\nAnna Šteklová – trombon\nJan Bára – kytara\nPavel Jelen Zeman – kontrabas\nMartin Kout – bicí\nMartin Jozífek – klavír\nVeronika Dražková – altsaxofon\nJakub Žídek – trombon\nMatěj Šmíd – trombon\nJosef Dvořák – trombon
URL:https://operaplus.cz/akce/bakalarsky-koncert-anny-steklove-jaromir-honzak-ensemble-jazzove-ctvrtky/
LOCATION:Divadlo Inspirace\, Praha\, Czech Republic
CATEGORIES:HAMU
END:VEVENT
BEGIN:VEVENT
DTSTART;TZID=Europe/Prague:20260410T160000
DTEND;TZID=Europe/Prague:20260410T170000
DTSTAMP:20260424T183831
CREATED:20260328T191731Z
LAST-MODIFIED:20260328T191731Z
UID:218168-1775836800-1775840400@operaplus.cz
SUMMARY:MARKÉTA ANNA PELDOVÁ – HOUSLE
DESCRIPTION:Účinkující\n\nMarkéta Anna Peldová – housle\nAdam Klánský – violoncello\nGabriela Matoušková – klarinet\nStanislav Masaryk – trubka\nIva Burýšková – fagot\nDaniel Boura – klavír\nHalka Klánská – klavírní spolupráce
URL:https://operaplus.cz/akce/marketa-anna-peldova-housle/
LOCATION:Galerie HAMU\, Praha\, Czech Republic
CATEGORIES:HAMU
END:VEVENT
BEGIN:VEVENT
DTSTART;TZID=Europe/Prague:20260410T193000
DTEND;TZID=Europe/Prague:20260410T220000
DTSTAMP:20260424T183831
CREATED:20260328T191403Z
LAST-MODIFIED:20260328T191403Z
UID:218164-1775849400-1775858400@operaplus.cz
SUMMARY:NATÁLIE ŠMAUSOVÁ – ZPĚV
DESCRIPTION:Účinkující\n\nNatálie Šmausová – zpěv\nDaniel Matoušek – tenor\nAhmad Hedar – klavírní spolupráce
URL:https://operaplus.cz/akce/natalie-smausova-zpev/
LOCATION:Lichtenštejnský palác\, Praha\, Czech Republic
CATEGORIES:HAMU
END:VEVENT
BEGIN:VEVENT
DTSTART;TZID=Europe/Prague:20260410T193000
DTEND;TZID=Europe/Prague:20260410T220000
DTSTAMP:20260424T183831
CREATED:20260328T191540Z
LAST-MODIFIED:20260328T191540Z
UID:218166-1775849400-1775858400@operaplus.cz
SUMMARY:MARIE HYNKOVÁ KRÄMEROVÁ – VIOLA
DESCRIPTION:Účinkující\n\nMarie Hynková Krämerová – viola\nAnna Stránská – housle\nKarel Vrtiška – klavírní spolupráce
URL:https://operaplus.cz/akce/marie-hynkova-kramerova-viola/
LOCATION:Galerie HAMU\, Praha\, Czech Republic
CATEGORIES:HAMU
END:VEVENT
BEGIN:VEVENT
DTSTART;TZID=Europe/Prague:20260411T180000
DTEND;TZID=Europe/Prague:20260411T190000
DTSTAMP:20260424T183831
CREATED:20260328T191232Z
LAST-MODIFIED:20260328T191232Z
UID:218162-1775930400-1775934000@operaplus.cz
SUMMARY:BARBORA VODHANELOVÁ – FLÉTNA
DESCRIPTION:Účinkující\n\nBarbora Vodhanelová – flétna\nInspiratio Quintet
URL:https://operaplus.cz/akce/barbora-vodhanelova-fletna/
LOCATION:Galerie HAMU\, Praha\, Czech Republic
CATEGORIES:HAMU
END:VEVENT
BEGIN:VEVENT
DTSTART;TZID=Europe/Prague:20260412T180000
DTEND;TZID=Europe/Prague:20260412T190000
DTSTAMP:20260424T183831
CREATED:20260328T194429Z
LAST-MODIFIED:20260328T194429Z
UID:218188-1776016800-1776020400@operaplus.cz
SUMMARY:MARKÉTA VEPŘEKOVÁ – CEMBALO
DESCRIPTION:Účinkující\n\nMarkéta Vepřeková – cembalo\nAnna Stránská – housle\nJan Švec – housle\nAdéla Čuříková – viola\nDaniel Petrásek – violoncello\nAnna Mazáčková – zobcová flétna\nHana Kohout – zobcová flétna
URL:https://operaplus.cz/akce/marketa-veprekova-cembalo/
LOCATION:Galerie HAMU\, Praha\, Czech Republic
CATEGORIES:HAMU
END:VEVENT
BEGIN:VEVENT
DTSTART;TZID=Europe/Prague:20260413T180000
DTEND;TZID=Europe/Prague:20260413T190000
DTSTAMP:20260424T183831
CREATED:20260407T195534Z
LAST-MODIFIED:20260407T195534Z
UID:218782-1776103200-1776106800@operaplus.cz
SUMMARY:MARTIN BALOG – KLAVÍR
DESCRIPTION:Účinkující\n\nMartin Balog – klavír
URL:https://operaplus.cz/akce/martin-balog-klavir/
LOCATION:Galerie HAMU\, Praha\, Czech Republic
CATEGORIES:HAMU
END:VEVENT
BEGIN:VEVENT
DTSTART;TZID=Europe/Prague:20260413T193000
DTEND;TZID=Europe/Prague:20260413T220000
DTSTAMP:20260424T183831
CREATED:20260407T194939Z
LAST-MODIFIED:20260407T194939Z
UID:218780-1776108600-1776117600@operaplus.cz
SUMMARY:JAKUB HŘEBÍČEK – BICÍ NÁSTROJE
DESCRIPTION:Účinkující\n\nJakub Hřebíček – bicí nástroje\nPetra Brynychová – marimba
URL:https://operaplus.cz/akce/jakub-hrebicek-bici-nastroje/
LOCATION:Lichtenštejnský palác\, Praha\, Czech Republic
CATEGORIES:HAMU
END:VEVENT
BEGIN:VEVENT
DTSTART;TZID=Europe/Prague:20260414T193000
DTEND;TZID=Europe/Prague:20260414T220000
DTSTAMP:20260424T183831
CREATED:20260407T193557Z
LAST-MODIFIED:20260407T193557Z
UID:218778-1776195000-1776204000@operaplus.cz
SUMMARY:MARTIN KREUZ – ZPĚV
DESCRIPTION:Účinkující\n\nMartin Kreuz – zpěv\nJakub Trnečka – zpěv\nNatálie Šmausová – zpěv\nVeronika Kaiserová – zpěv\nLenka Navrátilová – klavírní spolupráce
URL:https://operaplus.cz/akce/martin-kreuz-zpev/
LOCATION:Galerie HAMU\, Praha\, Czech Republic
CATEGORIES:HAMU
END:VEVENT
BEGIN:VEVENT
DTSTART;TZID=Europe/Prague:20260415T193000
DTEND;TZID=Europe/Prague:20260415T220000
DTSTAMP:20260424T183831
CREATED:20260406T213607Z
LAST-MODIFIED:20260406T213607Z
UID:218728-1776281400-1776290400@operaplus.cz
SUMMARY:TEREZA PELÁNOVÁ – FAGOT
DESCRIPTION:Účinkující\n\nTereza Pelánová – fagot\nAnna Kadečková – violoncello\nVáclav Choun – klarinet\nBarbora Pančíková – klavír\nAdam Štefunko – cembalo\nAlena Grešlová – klavírní spolupráce
URL:https://operaplus.cz/akce/tereza-pelanova-fagot/
LOCATION:Galerie HAMU\, Praha\, Czech Republic
CATEGORIES:HAMU
END:VEVENT
BEGIN:VEVENT
DTSTART;TZID=Europe/Prague:20260416T193000
DTEND;TZID=Europe/Prague:20260416T220000
DTSTAMP:20260424T183831
CREATED:20260406T213105Z
LAST-MODIFIED:20260406T213105Z
UID:218723-1776367800-1776376800@operaplus.cz
SUMMARY:KAROLÍNA BÁRTOVÁ – ZPĚV
DESCRIPTION:Účinkující\n\nKarolína Bártová – zpěv\nNela Karolína Sojková – zpěv\nMartin Bárta – zpěv\nLadislava Kaspříková – klavírní spolupráce
URL:https://operaplus.cz/akce/karolina-bartova-zpev/
LOCATION:Galerie HAMU\, Praha\, Czech Republic
CATEGORIES:HAMU
END:VEVENT
BEGIN:VEVENT
DTSTART;TZID=Europe/Prague:20260416T193000
DTEND;TZID=Europe/Prague:20260416T220000
DTSTAMP:20260424T183831
CREATED:20260406T213421Z
LAST-MODIFIED:20260406T213421Z
UID:218725-1776367800-1776376800@operaplus.cz
SUMMARY:FILIP HRDLIČKA – TRUBKA
DESCRIPTION:Účinkující\n\nFilip Hrdlička – trubka\nLukáš Dvořák – varhany\nMiroslav Fejfar – trubka\nJan Červenka – trubka\nJan Pohořalý – trubka\nVojtěch Kadaňka – trubka\nJaromír Kalců – trubka\nPetr Beránek – trubka\nVáclav Vávra – trubka\nAlice Voborská – klavírní spolupráce
URL:https://operaplus.cz/akce/filip-hrdlicka-trubka/
LOCATION:Lichtenštejnský palác\, Praha\, Czech Republic
CATEGORIES:HAMU
END:VEVENT
BEGIN:VEVENT
DTSTART;TZID=Europe/Prague:20260417T160000
DTEND;TZID=Europe/Prague:20260417T170000
DTSTAMP:20260424T183831
CREATED:20260406T212818Z
LAST-MODIFIED:20260406T212818Z
UID:218721-1776441600-1776445200@operaplus.cz
SUMMARY:MARKÉTA PRUDILOVÁ – VIOLONCELLO
DESCRIPTION:Účinkující\n\nMarkéta Prudilová – violoncello\nTereza Votánková – viola\nStanislav Bogunia – klavírní spolupráce
URL:https://operaplus.cz/akce/marketa-prudilova-violoncello/
LOCATION:Galerie HAMU\, Praha\, Czech Republic
CATEGORIES:HAMU
END:VEVENT
BEGIN:VEVENT
DTSTART;TZID=Europe/Prague:20260417T193000
DTEND;TZID=Europe/Prague:20260417T220000
DTSTAMP:20260424T183831
CREATED:20260406T212150Z
LAST-MODIFIED:20260406T212150Z
UID:218717-1776454200-1776463200@operaplus.cz
SUMMARY:ANETA HODANIČOVÁ – HOBOJ
DESCRIPTION:Účinkující\n\nAneta Hodaničová – hoboj\nOndřej Bernovský – cembalo\nJáchym Linka – fagot\nBarbora Vodhanelová – flétna\nJaroslav Mejsnar – klarinet\nPetr Ježek – lesní roh
URL:https://operaplus.cz/akce/aneta-hodanicova-hoboj/
LOCATION:Galerie HAMU\, Praha\, Czech Republic
CATEGORIES:HAMU
END:VEVENT
BEGIN:VEVENT
DTSTART;TZID=Europe/Prague:20260417T193000
DTEND;TZID=Europe/Prague:20260417T220000
DTSTAMP:20260424T183831
CREATED:20260406T212530Z
LAST-MODIFIED:20260406T212530Z
UID:218719-1776454200-1776463200@operaplus.cz
SUMMARY:AKS – AKADEMIČTÍ KOMORNÍ SÓLISTÉ | FEJFAR\, SEDLÁČEK
DESCRIPTION:Program\n\nVítězslav Novák: Slovácká suita\, op. 31\nAlexandr Grigorjevič Arutjunjan: Koncert pro trubku a orchestr\nAntonín Dvořák: Symfonie č. 7\, op. 70\n\nÚčinkující\n\nMiroslav Fejfar – trubka\nAkademičtí komorní sólisté\nJan Sedláček – dirigent
URL:https://operaplus.cz/akce/aks-akademicti-komorni-soliste-fejfar-sedlacek/
LOCATION:Lichtenštejnský palác\, Praha\, Czech Republic
CATEGORIES:HAMU
END:VEVENT
BEGIN:VEVENT
DTSTART;TZID=Europe/Prague:20260418T160000
DTEND;TZID=Europe/Prague:20260418T170000
DTSTAMP:20260424T183831
CREATED:20260406T212001Z
LAST-MODIFIED:20260406T212001Z
UID:218714-1776528000-1776531600@operaplus.cz
SUMMARY:THOMAS BERTOLOTTI – VIOLONCELLO
DESCRIPTION:Účinkující\n\nThomas Bertolotti – violoncello\nEgor Biriucov – klavír\nStanislav Gallin – klavírní spolupráce
URL:https://operaplus.cz/akce/thomas-bertolotti-violoncello/
LOCATION:Galerie HAMU\, Praha\, Czech Republic
CATEGORIES:HAMU
END:VEVENT
BEGIN:VEVENT
DTSTART;TZID=Europe/Prague:20260418T193000
DTEND;TZID=Europe/Prague:20260418T220000
DTSTAMP:20260424T183831
CREATED:20260406T211713Z
LAST-MODIFIED:20260406T211713Z
UID:218709-1776540600-1776549600@operaplus.cz
SUMMARY:ŠTĚPÁN KURZ – FAGOT
DESCRIPTION:Účinkující\n\nŠtěpán Kurz –fagot\nViktor Mazáček – housle\nMagdaléna Malá – housle\nBarbora Paříková – viola\nHelena Matyášová – violoncello\nOndřej Melecký – kontrabas\nVojtěch Spurný – cembalo\nRéza Kahudová – klavír\nAnna Hromádko – saxofon
URL:https://operaplus.cz/akce/stepan-kurz-fagot/
LOCATION:Galerie HAMU\, Praha\, Czech Republic
CATEGORIES:HAMU
END:VEVENT
BEGIN:VEVENT
DTSTART;TZID=Europe/Prague:20260418T193000
DTEND;TZID=Europe/Prague:20260418T220000
DTSTAMP:20260424T183831
CREATED:20260406T211837Z
LAST-MODIFIED:20260406T211837Z
UID:218711-1776540600-1776549600@operaplus.cz
SUMMARY:ANNA GAÁLOVÁ – KLAVÍR
DESCRIPTION:Účinkující\n\nAnna Gaálová – klavír\nGabriela Irišková – klavír\nMatouš Zukal – klavír\nLukáš Moťka – trombon
URL:https://operaplus.cz/akce/anna-gaalova-klavir/
LOCATION:Lichtenštejnský palác\, Praha\, Czech Republic
CATEGORIES:HAMU
END:VEVENT
BEGIN:VEVENT
DTSTART;TZID=Europe/Prague:20260419T160000
DTEND;TZID=Europe/Prague:20260419T170000
DTSTAMP:20260424T183831
CREATED:20260406T211523Z
LAST-MODIFIED:20260406T211523Z
UID:218707-1776614400-1776618000@operaplus.cz
SUMMARY:BERGUR FONSDAL JOHANNESEN – KONTRABAS
DESCRIPTION:Účinkující\n\nBergur Fonsdal Johannesen – kontrabas\nErik Meisl – housle\nNatálie Graguláková – housle\nMarie Hynková – viola\nAnna Mirko Nekvasilová – violoncello
URL:https://operaplus.cz/akce/bergur-fonsdal-johannesen-kontrabas/
LOCATION:Galerie HAMU\, Praha\, Czech Republic
CATEGORIES:HAMU
END:VEVENT
BEGIN:VEVENT
DTSTART;TZID=Europe/Prague:20260419T193000
DTEND;TZID=Europe/Prague:20260419T220000
DTSTAMP:20260424T183831
CREATED:20260406T211326Z
LAST-MODIFIED:20260406T211326Z
UID:218704-1776627000-1776636000@operaplus.cz
SUMMARY:ELIŠKA TKADLČÍKOVÁ – KLAVÍR
DESCRIPTION:Účinkující\n\nEliška Tkadlčíková – klavír
URL:https://operaplus.cz/akce/eliska-tkadlcikova-klavir/
LOCATION:Lichtenštejnský palác\, Praha\, Czech Republic
CATEGORIES:HAMU
END:VEVENT
BEGIN:VEVENT
DTSTART;TZID=Europe/Prague:20260419T193000
DTEND;TZID=Europe/Prague:20260419T220000
DTSTAMP:20260424T183831
CREATED:20260407T195656Z
LAST-MODIFIED:20260407T195656Z
UID:218787-1776627000-1776636000@operaplus.cz
SUMMARY:TYMUR BEREŽNYI – KYTARA
DESCRIPTION:Účinkující\n\nTymur Berežnyi – kytara\nAdrian Skramurský – kytara\nBergur Fonsdal Johannesen – kontrabas
URL:https://operaplus.cz/akce/tymur-bereznyi-kytara/
LOCATION:Galerie HAMU\, Praha\, Czech Republic
CATEGORIES:HAMU
END:VEVENT
BEGIN:VEVENT
DTSTART;TZID=Europe/Prague:20260421T160000
DTEND;TZID=Europe/Prague:20260421T170000
DTSTAMP:20260424T183831
CREATED:20260412T164142Z
LAST-MODIFIED:20260412T164142Z
UID:219148-1776787200-1776790800@operaplus.cz
SUMMARY:HYNEK HRADECKÝ – ZPĚV
DESCRIPTION:Účinkující\n\nHynek Hradecký – zpěv\nLenka Navrátilová – klavírní spolupráce
URL:https://operaplus.cz/akce/hynek-hradecky-zpev/
LOCATION:Galerie HAMU\, Praha\, Czech Republic
CATEGORIES:HAMU
END:VEVENT
BEGIN:VEVENT
DTSTART;TZID=Europe/Prague:20260422T160000
DTEND;TZID=Europe/Prague:20260422T170000
DTSTAMP:20260424T183831
CREATED:20260412T164013Z
LAST-MODIFIED:20260412T164013Z
UID:219146-1776873600-1776877200@operaplus.cz
SUMMARY:DIANA KOLLÁRIKOVÁ – HOUSLE
DESCRIPTION:Účinkující\n\nDiana Kolláriková – housle\nMarcel Petráš – violoncello\nJakub Krutta – cembalo\nKristina Marková Stepasjuková – klavírní spolupráce
URL:https://operaplus.cz/akce/diana-kollarikova-housle/
LOCATION:Galerie HAMU\, Praha\, Czech Republic
CATEGORIES:HAMU
END:VEVENT
BEGIN:VEVENT
DTSTART;TZID=Europe/Prague:20260422T193000
DTEND;TZID=Europe/Prague:20260422T220000
DTSTAMP:20260424T183831
CREATED:20260412T163710Z
LAST-MODIFIED:20260412T163710Z
UID:219142-1776886200-1776895200@operaplus.cz
SUMMARY:TIM KADLEC – FLÉTNA
DESCRIPTION:Účinkující\n\nTim Kadlec – flétna\nAna Brateljević – harfa\nDana Hegerová – flétna\nHalka Klánská – klavírní spolupráce
URL:https://operaplus.cz/akce/tim-kadlec-fletna/
LOCATION:Lichtenštejnský palác\, Praha\, Czech Republic
CATEGORIES:HAMU
END:VEVENT
BEGIN:VEVENT
DTSTART;TZID=Europe/Prague:20260422T193000
DTEND;TZID=Europe/Prague:20260422T220000
DTSTAMP:20260424T183831
CREATED:20260412T163843Z
LAST-MODIFIED:20260412T163843Z
UID:219144-1776886200-1776895200@operaplus.cz
SUMMARY:PAVLA HUBÁČKOVÁ – ZPĚV
DESCRIPTION:Účinkující\n\nPavla Hubáčková – zpěv\nFilip Šťovíček – zpěv\nNela Karolína Sojková – zpěv\nPatrik Hradecký – zpěv\nLenka Navrátilová – klavírní spolupráce
URL:https://operaplus.cz/akce/pavla-hubackova-zpev/
LOCATION:Galerie HAMU\, Praha\, Czech Republic
CATEGORIES:HAMU
END:VEVENT
BEGIN:VEVENT
DTSTART;TZID=Europe/Prague:20260423T193000
DTEND;TZID=Europe/Prague:20260423T220000
DTSTAMP:20260424T183831
CREATED:20260412T163054Z
LAST-MODIFIED:20260412T163054Z
UID:219136-1776972600-1776981600@operaplus.cz
SUMMARY:KRISTÝNA JUNGOVÁ – HOUSLE
DESCRIPTION:Účinkující\n\nKristýna Jungová – housle\nSamuel Jung – violoncello\nViktorie Braunová – klarinet\nDarina Pišlová – klavír\nAnna Gaálová – klavír\nJana Vychodilová – klavírní spolupráce
URL:https://operaplus.cz/akce/kristyna-jungova-housle/
LOCATION:Lichtenštejnský palác\, Praha\, Czech Republic
CATEGORIES:HAMU
END:VEVENT
BEGIN:VEVENT
DTSTART;TZID=Europe/Prague:20260423T193000
DTEND;TZID=Europe/Prague:20260423T220000
DTSTAMP:20260424T183831
CREATED:20260412T163246Z
LAST-MODIFIED:20260412T163246Z
UID:219138-1776972600-1776981600@operaplus.cz
SUMMARY:JAN BÁRA – KYTARA
DESCRIPTION:Magisterský program kytaristy Jan Báry\, který nejdříve vystoupí sólově v duchu ragtimu a následně jako člen kytarového kvartetu MAHA MAHA MAHA MAHA. \nZároveň bude na koncertě hostovat vizuální umělec VJ Bit.
URL:https://operaplus.cz/akce/jan-bara-kytara/
LOCATION:Divadlo Inspirace\, Praha\, Czech Republic
CATEGORIES:HAMU
END:VEVENT
END:VCALENDAR