BEGIN:VCALENDAR
VERSION:2.0
PRODID:-//Opera PLUS - ECPv6.15.13.1//NONSGML v1.0//EN
CALSCALE:GREGORIAN
METHOD:PUBLISH
X-ORIGINAL-URL:https://operaplus.cz
X-WR-CALDESC:Akce na Opera PLUS
REFRESH-INTERVAL;VALUE=DURATION:PT1H
X-Robots-Tag:noindex
X-PUBLISHED-TTL:PT1H
BEGIN:VTIMEZONE
TZID:Europe/Prague
BEGIN:DAYLIGHT
TZOFFSETFROM:+0100
TZOFFSETTO:+0200
TZNAME:CEST
DTSTART:20250330T010000
END:DAYLIGHT
BEGIN:STANDARD
TZOFFSETFROM:+0200
TZOFFSETTO:+0100
TZNAME:CET
DTSTART:20251026T010000
END:STANDARD
BEGIN:DAYLIGHT
TZOFFSETFROM:+0100
TZOFFSETTO:+0200
TZNAME:CEST
DTSTART:20260329T010000
END:DAYLIGHT
BEGIN:STANDARD
TZOFFSETFROM:+0200
TZOFFSETTO:+0100
TZNAME:CET
DTSTART:20261025T010000
END:STANDARD
BEGIN:DAYLIGHT
TZOFFSETFROM:+0100
TZOFFSETTO:+0200
TZNAME:CEST
DTSTART:20270328T010000
END:DAYLIGHT
BEGIN:STANDARD
TZOFFSETFROM:+0200
TZOFFSETTO:+0100
TZNAME:CET
DTSTART:20271031T010000
END:STANDARD
END:VTIMEZONE
BEGIN:VEVENT
DTSTART;TZID=Europe/Prague:20260425T180000
DTEND;TZID=Europe/Prague:20260425T190000
DTSTAMP:20260423T225438
CREATED:20260412T182110Z
LAST-MODIFIED:20260412T182110Z
UID:219180-1777140000-1777143600@operaplus.cz
SUMMARY:Osud
DESCRIPTION:Program\n\nLeoš Janáček: Osud
URL:https://operaplus.cz/akce/osud-4/
LOCATION:Janáčkovo divadlo
CATEGORIES:Janáček Brno
END:VEVENT
BEGIN:VEVENT
DTSTART;TZID=Europe/Prague:20260425T180000
DTEND;TZID=Europe/Prague:20260425T190000
DTSTAMP:20260423T225438
CREATED:20260419T134859Z
LAST-MODIFIED:20260419T134859Z
UID:219710-1777140000-1777143600@operaplus.cz
SUMMARY:PREVIEW FESTIVALU: Osud
DESCRIPTION:Program\n\nLeoš Janáček: Osud
URL:https://operaplus.cz/akce/preview-festivalu-osud/
LOCATION:Janáčkovo divadlo
CATEGORIES:Janáček Brno
END:VEVENT
END:VCALENDAR