BEGIN:VCALENDAR
VERSION:2.0
PRODID:-//Opera PLUS - ECPv6.15.13.1//NONSGML v1.0//EN
CALSCALE:GREGORIAN
METHOD:PUBLISH
X-ORIGINAL-URL:https://operaplus.cz
X-WR-CALDESC:Akce na Opera PLUS
REFRESH-INTERVAL;VALUE=DURATION:PT1H
X-Robots-Tag:noindex
X-PUBLISHED-TTL:PT1H
BEGIN:VTIMEZONE
TZID:Europe/Prague
BEGIN:DAYLIGHT
TZOFFSETFROM:+0100
TZOFFSETTO:+0200
TZNAME:CEST
DTSTART:20250330T010000
END:DAYLIGHT
BEGIN:STANDARD
TZOFFSETFROM:+0200
TZOFFSETTO:+0100
TZNAME:CET
DTSTART:20251026T010000
END:STANDARD
BEGIN:DAYLIGHT
TZOFFSETFROM:+0100
TZOFFSETTO:+0200
TZNAME:CEST
DTSTART:20260329T010000
END:DAYLIGHT
BEGIN:STANDARD
TZOFFSETFROM:+0200
TZOFFSETTO:+0100
TZNAME:CET
DTSTART:20261025T010000
END:STANDARD
BEGIN:DAYLIGHT
TZOFFSETFROM:+0100
TZOFFSETTO:+0200
TZNAME:CEST
DTSTART:20270328T010000
END:DAYLIGHT
BEGIN:STANDARD
TZOFFSETFROM:+0200
TZOFFSETTO:+0100
TZNAME:CET
DTSTART:20271031T010000
END:STANDARD
END:VTIMEZONE
BEGIN:VEVENT
DTSTART;TZID=Europe/Prague:20260301T110000
DTEND;TZID=Europe/Prague:20260301T121000
DTSTAMP:20260425T180326
CREATED:20250917T221031Z
LAST-MODIFIED:20250917T221032Z
UID:201759-1772362800-1772367000@operaplus.cz
SUMMARY:D3 Jak jsme se o sebe báli
DESCRIPTION:D3 Jak jsme se o sebe báli\nKdy: 1. března 2026\, 11:00–12:10 \nKoupit vstupenky / Web pořadatele \nVláďa je nadšený\, že si našel nové kamarády a parťáky. Ale čím víc je poznává\, tím víc si o ně dělá starosti. Bude potřeba Vláďu uklidnit a koncert plný obav a nejistot dovézt do šťastného a bezpečného konce! \nÚčinkující\n\nMichal Sedláček — Vláďa\nKamila Janovičová — Karla\n\nTvůrčí tým\n\nLenka Jaborská — scénář\, režie\nAdam Sedlický — dirigent\n\nInformace\n\nŽánr: koncert\nDirigent: Adam Sedlický\nÚčinkující: Michal Sedláček (Vláďa)\, Kamila Janovičová (Karla)\, Lenka Jaborská (scénář\, režie)\nOrchestr: Janáčkova filharmonie Ostrava\n\nZdroj: https://www.jfo.cz/koncert/d3-jak-jsme-se-o-sebe-bali
URL:https://operaplus.cz/akce/d3-jak-jsme-se-o-sebe-bali/
CATEGORIES:Janáčkova filharmonie Ostrava
END:VEVENT
BEGIN:VEVENT
DTSTART;TZID=Europe/Prague:20260301T160000
DTEND;TZID=Europe/Prague:20260301T171000
DTSTAMP:20260425T180326
CREATED:20250917T221042Z
LAST-MODIFIED:20250917T221043Z
UID:201761-1772380800-1772385000@operaplus.cz
SUMMARY:D3 Jak jsme se o sebe báli II
DESCRIPTION:D3 Jak jsme se o sebe báli II\nKdy: 1. března 2026\, 16:00–17:10 \nKoupit vstupenky / Web pořadatele \nVláďa je nadšený\, že si našel nové kamarády a parťáky\, ale čím víc je poznává\, tím víc si o ně dělá starosti. Bojí se o ně\, a také pan dirigent se obává o svůj orchestr. Koncert plný obav a nejistot bude potřeba dovézt do šťastného a bezpečného konce! \nÚčinkující\n\nMichal Sedláček — Vláďa\nKamila Janovičová — Karla\n\nTvůrčí tým\n\nLenka Jaborská — scénář\, režie\nAdam Sedlický — dirigent\n\nInformace\n\nŽánr: koncert\nDirigent: Adam Sedlický\nÚčinkující: Michal Sedláček (Vláďa)\, Kamila Janovičová (Karla)\, Lenka Jaborská (scénář\, režie)\nOrchestr: Janáčkova filharmonie Ostrava\n\nZdroj: https://www.jfo.cz/koncert/d3-jak-jsme-se-o-sebe-bali-ii
URL:https://operaplus.cz/akce/d3-jak-jsme-se-o-sebe-bali-ii/
CATEGORIES:Janáčkova filharmonie Ostrava
END:VEVENT
BEGIN:VEVENT
DTSTART;TZID=Europe/Prague:20260305T180000
DTEND;TZID=Europe/Prague:20260305T191000
DTSTAMP:20260425T180326
CREATED:20250917T221051Z
LAST-MODIFIED:20250917T221052Z
UID:201763-1772733600-1772737800@operaplus.cz
SUMMARY:C3 Vzrušující změny
DESCRIPTION:C3 Vzrušující změny\nKdy: 5. března 2026\, 18:00–19:10 \nKoupit vstupenky / Web pořadatele \nKoncert 'Vzrušující změny' přináší proměny v životě vyjádřené vzrušujícími proměnami v hudbě. Vystoupí Janáčkova filharmonie Ostrava pod vedením dirigenta Chuhei Iwasakiho\, s průvodním slovem Vojtěcha Johaníka a koncepcí a režii Lenky Jaborské. \nÚčinkující\n\nVojtěch Johaník — průvodní slovo\nLenka Jaborská — koncepce a režie\nJanáčkova filharmonie Ostrava — orchestr\nChuhei Iwasaki — dirigent\n\nInformace\n\nŽánr: klasická hudba\nDirigent: Chuhei Iwasaki\nPrůvodní slovo: Vojtěch Johaník\nKoncepce a režie: Lenka Jaborská\n\nZdroj: https://www.jfo.cz/koncert/c3-vzrusujici-zmeny
URL:https://operaplus.cz/akce/c3-vzrusujici-zmeny/
CATEGORIES:Janáčkova filharmonie Ostrava
END:VEVENT
BEGIN:VEVENT
DTSTART;TZID=Europe/Prague:20260315T090000
DTEND;TZID=Europe/Prague:20260315T100000
DTSTAMP:20260425T180326
CREATED:20250917T221102Z
LAST-MODIFIED:20250917T221103Z
UID:201765-1773565200-1773568800@operaplus.cz
SUMMARY:d4 Zpívá\, nezpívá?!
DESCRIPTION:d4 Zpívá\, nezpívá?!\nKdy: 15. března 2026\, 09:00–10:00 \nKoupit vstupenky / Web pořadatele \nSlavnostní premiéra filharmonického sboru Pěvice je tady! Čtyři vynikající zpěváci se snaží najít společnou notu\, přičemž každý z nich zpívá jinak a chce zpívat něco jiného. Podaří se jim nakonec zazpívat společně? Přidáte se k nim\, děti? \nÚčinkující\n\nJohana Černohorská — soprán\nKamila Janovičová — alt\nMichal Sedláček — tenor\nJiří Siuda — bas\n\nTvůrčí tým\n\nLenka Jaborská — Pěva Posazená\, scénář\, režie\n\nInformace\n\nŽánr: Dětský koncert\nProgram: Společné zpívání a hudební aranžmá\n\nZdroj: https://www.jfo.cz/koncert/d4-zpiva-nezpiva-2
URL:https://operaplus.cz/akce/d4-zpiva-nezpiva/
CATEGORIES:Janáčkova filharmonie Ostrava
END:VEVENT
BEGIN:VEVENT
DTSTART;TZID=Europe/Prague:20260315T110000
DTEND;TZID=Europe/Prague:20260315T120000
DTSTAMP:20260425T180326
CREATED:20250917T221111Z
LAST-MODIFIED:20250917T221112Z
UID:201767-1773572400-1773576000@operaplus.cz
SUMMARY:d4 Zpívá\, nezpívá?! II
DESCRIPTION:d4 Zpívá\, nezpívá?! II\nKdy: 15. března 2026\, 11:00–12:00 \nKoupit vstupenky / Web pořadatele \nSlavnostní premiéra filharmonického sboru Pěvice je tady! Čtyři vynikající zpěváci se snaží najít společnou notu\, aby zazpívali něco společně. Přidáte se k nim\, děti? \nÚčinkující\n\nJohana Černohorská — soprán\nKamila Janovičová — alt\nMichal Sedláček — tenor\nJiří Siuda — bas\n\nTvůrčí tým\n\nLenka Jaborská — Pěva Posazená\, scénář\, režie\n\nInformace\n\nProgram: Slavnostní premiéra\nŽánr: Dětský koncert\n\nZdroj: https://www.jfo.cz/koncert/d4-zpiva-nezpiva-ii-2
URL:https://operaplus.cz/akce/d4-zpiva-nezpiva-ii/
CATEGORIES:Janáčkova filharmonie Ostrava
END:VEVENT
BEGIN:VEVENT
DTSTART;TZID=Europe/Prague:20260316T190000
DTEND;TZID=Europe/Prague:20260316T203000
DTSTAMP:20260425T180326
CREATED:20250917T221120Z
LAST-MODIFIED:20250917T221121Z
UID:201769-1773687600-1773693000@operaplus.cz
SUMMARY:K3 There is Home
DESCRIPTION:K3 There is Home\nKdy: 16. března 2026\, 19:00–20:30 \nKoupit vstupenky / Web pořadatele \nMezzosopranistka Bella Adamová a klavírista Michael Gees zvou na písňový recitál s názvem There is Home\, který se zaměřuje na hledání domova v jeho různých podobách. V programu zazní písně Pavla Haase\, Gustava Mahlera\, Modesta Musorgského a Benjamina Brittena\, stejně jako autorské improvizace na texty světových básníků. Pro Bellu Adamovou\, rodačku z Čečenska\, je hudba místem\, kde se cítí skutečně doma. \nÚčinkující\n\nBella Adamová — mezzosoprán\nMichael Gees — klavír\n\nInformace\n\nŽánr: Písňový recitál\nProgram: Pavel Haas\, Gustav Mahler\, Modest Musorgskij\, Benjamin Britten\nÚčinkující: Bella Adamová (mezzosoprán)\, Michael Gees (klavír)\n\nZdroj: https://www.jfo.cz/koncert/k3-there-is-home
URL:https://operaplus.cz/akce/k3-there-is-home/
CATEGORIES:Janáčkova filharmonie Ostrava
END:VEVENT
BEGIN:VEVENT
DTSTART;TZID=Europe/Prague:20260319T190000
DTEND;TZID=Europe/Prague:20260319T203000
DTSTAMP:20260425T180326
CREATED:20250917T221129Z
LAST-MODIFIED:20250917T221130Z
UID:201771-1773946800-1773952200@operaplus.cz
SUMMARY:B3 Beethovenův Třetí klavírní koncert
DESCRIPTION:B3 Beethovenův Třetí klavírní koncert\nKdy: 19. března 2026\, 19:00–20:30 \nKoupit vstupenky / Web pořadatele \nVečer\, kde se potkává současnost s hudební klasikou. Zazní dílo českého skladatele Martina Klusáka\, Beethovenův Třetí klavírní koncert a Čtvrtá symfonie „Adagio“ Krzysztofa Pendereckého\, která spojuje moderní jazyk s odkazem velkých symfonických tradic. \nÚčinkující\n\nLukáš Vondráček — klavír\nLawrence Foster — dirigent\n\nTvůrčí tým\n\nJanáčkova filharmonie Ostrava — orchestr\n\nInformace\n\nProgram: Klusák\, Beethoven\, Penderecki\nŽánr: Klasická hudba\n\nZdroj: https://www.jfo.cz/koncert/b3-beethovenuv-treti-klavirni-koncert
URL:https://operaplus.cz/akce/b3-beethovenuv-treti-klavirni-koncert/
CATEGORIES:Janáčkova filharmonie Ostrava
END:VEVENT
BEGIN:VEVENT
DTSTART;TZID=Europe/Prague:20260320T180000
DTEND;TZID=Europe/Prague:20260320T190000
DTSTAMP:20260425T180326
CREATED:20250917T221137Z
LAST-MODIFIED:20250917T221138Z
UID:201773-1774029600-1774033200@operaplus.cz
SUMMARY:H2 Vondráček hraje Beethovena
DESCRIPTION:H2 Vondráček hraje Beethovena\nKdy: 20. března 2026\, 18:00–19:00 \nKoupit vstupenky / Web pořadatele \nKoncert otevře Smetanova Vltava\, symfonická báseň\, která mistrovsky zobrazuje přírodní krásy a historické významy české řeky. Následovat bude Beethovenův Třetí klavírní koncert\, rané dílo skladatele\, které spojuje brilantní klavírní virtuozitu s hrdinskými motivy\, jež se později objeví v jeho Eroice. \nÚčinkující\n\nLukáš Vondráček — klavír\nLawrence Foster — dirigent\n\nTvůrčí tým\n\nJanáčkova filharmonie Ostrava — orchestr\n\nInformace\n\nProgram: Bedřich Smetana: Vltava; Ludwig van Beethoven: Koncert pro klavír a orchestr č. 3 c moll op. 37\nŽánr: Klasická hudba\n\nZdroj: https://www.jfo.cz/koncert/h2-vondracek-hraje-beethovena
URL:https://operaplus.cz/akce/h2-vondracek-hraje-beethovena/
CATEGORIES:Janáčkova filharmonie Ostrava
END:VEVENT
BEGIN:VEVENT
DTSTART;TZID=Europe/Prague:20260402T180000
DTEND;TZID=Europe/Prague:20260402T193000
DTSTAMP:20260425T180326
CREATED:20250917T221147Z
LAST-MODIFIED:20250917T221148Z
UID:201775-1775152800-1775158200@operaplus.cz
SUMMARY:E3 Mladí sólisté II
DESCRIPTION:E3 Mladí sólisté II\nKdy: 2. dubna 2026\, 18:00–19:30 \nKoupit vstupenky / Web pořadatele \nKoncert nabídne pestrý program plný virtuozity i poetiky. Zazní Ravelova rapsodie Cikán\, Devět variací na Paganiniho od Franka Prota\, Debussyho Faunovo odpoledne a Houslový koncert Samuela Barbera. Vystoupí David Hernych a Jiří Vodička na housle\, Ondřej Sejkora na kontrabas\, pod taktovkou dirigenta Roberta Kružík a s průvodním slovem Anny Bangoury. \nÚčinkující\n\nDavid Hernych — housle\nOndřej Sejkora — kontrabas\nJiří Vodička — housle\, umělecký garant cyklu\nAnna Bangoura — průvodní slovo\nRobert Kružík — dirigent\n\nInformace\n\nProgram: Ravel\, Proto\, Debussy\, Barber\nŽánr: Klasická hudba\nOrchestr: Janáčkova filharmonie Ostrava\n\nZdroj: https://www.jfo.cz/koncert/e3-mladi-soliste-ii-4
URL:https://operaplus.cz/akce/e3-mladi-soliste-ii/
CATEGORIES:Janáčkova filharmonie Ostrava
END:VEVENT
BEGIN:VEVENT
DTSTART;TZID=Europe/Prague:20260413T190000
DTEND;TZID=Europe/Prague:20260413T203000
DTSTAMP:20260425T180326
CREATED:20250917T221155Z
LAST-MODIFIED:20250917T221156Z
UID:201777-1776106800-1776112200@operaplus.cz
SUMMARY:R4 Lucas Debargue
DESCRIPTION:R4 Lucas Debargue\nKdy: 13. dubna 2026\, 19:00–20:30 \nKoupit vstupenky / Web pořadatele \nFrancouzský pianista Lucas Debargue se představí jako interpret i skladatel. Program zahrnuje Ravelovy „Vodotrysky“\, Sonatinu\, klavírní miniatury Gabriela Faurého a Debargueho vlastní Suitu d moll. Večer vyvrcholí Skrjabinovou Třetí klavírní sonátou\, plnou emocí a virtuózních kontrastů. \nÚčinkující\n\nLucas Debargue — klavír\n\nInformace\n\nŽánr: klasická hudba\nProgram: Ravel\, Fauré\, Debargue\, Skrjabin\nHlavní interpret: Lucas Debargue\n\nZdroj: https://www.jfo.cz/koncert/r4-lucas-debargue
URL:https://operaplus.cz/akce/r4-lucas-debargue/
CATEGORIES:Janáčkova filharmonie Ostrava
END:VEVENT
BEGIN:VEVENT
DTSTART;TZID=Europe/Prague:20260416T190000
DTEND;TZID=Europe/Prague:20260416T203000
DTSTAMP:20260425T180326
CREATED:20250917T221204Z
LAST-MODIFIED:20250917T221205Z
UID:201779-1776366000-1776371400@operaplus.cz
SUMMARY:A4 Sibeliova První
DESCRIPTION:A4 Sibeliova První\nKdy: 16. dubna 2026\, 19:00–20:30 \nKoupit vstupenky / Web pořadatele \nNa koncertě pod taktovkou kanadské dirigentky Tanii Miller zazní americká hudba včetně slavného Apalačského jara a Klarinetového koncertu Aarona Coplanda\, který provede virtuózní španělský klarinetista Pablo Barragán. Druhou část večera vyplní První symfonie finského skladatele Jeana Sibelia\, která je romanticky rozklenutou kompozicí inspirovanou finskou přírodou. \nÚčinkující\n\nPablo Barragán — klarinet\n\nTvůrčí tým\n\nTania Miller — dirigentka\n\nInformace\n\nProgram: Apalačské jaro\, Klarinetový koncert\, První symfonie\nŽánr: Klasická hudba\nDirigentka: Tania Miller\nSólista: Pablo Barragán (klarinet)\nOrchestr: Janáčkova filharmonie Ostrava\n\nZdroj: https://www.jfo.cz/koncert/a4-sibeliova-prvni
URL:https://operaplus.cz/akce/a4-sibeliova-prvni/
CATEGORIES:Janáčkova filharmonie Ostrava
END:VEVENT
BEGIN:VEVENT
DTSTART;TZID=Europe/Prague:20260417T190000
DTEND;TZID=Europe/Prague:20260417T203000
DTSTAMP:20260425T180326
CREATED:20250917T221215Z
LAST-MODIFIED:20250917T221216Z
UID:201781-1776452400-1776457800@operaplus.cz
SUMMARY:P3 Sibeliova První II
DESCRIPTION:P3 Sibeliova První II\nKdy: 17. dubna 2026\, 19:00–20:30 \nKoupit vstupenky / Web pořadatele \nNa koncertě pod taktovkou kanadské dirigentky Tanie Miller zazní americká hudba včetně slavného Apalačského jara a Klarinetového koncertu Aarona Coplanda v podání virtuózního klarinetisty Pabla Barragána. Druhou část večera vyplní První symfonie Jeana Sibelia\, která zachycuje sílu a krásu finské přírody. \nÚčinkující\n\nPablo Barragán — klarinet\nTania Miller — dirigentka\n\nTvůrčí tým\n\nJanáčkova filharmonie Ostrava — orchestr\n\nInformace\n\nProgram: Aaron Copland – Apalačské jaro\, orchestrální suita; Aaron Copland – Koncert pro klarinet a orchestr; Jean Sibelius – Symfonie č. 1 e moll op. 39\nŽánr: klasická hudba\nDirigentka: Tania Miller\nSólista: Pablo Barragán – klarinet\n\nZdroj: https://www.jfo.cz/koncert/p3-sibeliova-prvni-ii
URL:https://operaplus.cz/akce/p3-sibeliova-prvni-ii/
CATEGORIES:Janáčkova filharmonie Ostrava
END:VEVENT
BEGIN:VEVENT
DTSTART;TZID=Europe/Prague:20260426T110000
DTEND;TZID=Europe/Prague:20260426T121000
DTSTAMP:20260425T180326
CREATED:20250917T221226Z
LAST-MODIFIED:20250917T221227Z
UID:201783-1777201200-1777205400@operaplus.cz
SUMMARY:D4 Jak jsme o sebe pečovali
DESCRIPTION:D4 Jak jsme o sebe pečovali\nKdy: 26. dubna 2026\, 11:00–12:10 \nKoupit vstupenky / Web pořadatele \nVláďa už je s námi 12. koncertní sezonu a ví\, že o své blízké musí pečovat. Zajímá ho\, zda se o sebe navzájem pečují také hudebníci v orchestru a jak se cítí děti v sále. Čeká nás koncert plný pečující hudby\, která zažene Vláďovy starosti. \nÚčinkující\n\nMichal Sedláček — Vláďa\nKamila Janovičová — Karla\n\nTvůrčí tým\n\nLenka Jaborská — scénář\, režie\nAdam Sedlický — dirigent\n\nInformace\n\nŽánr: koncert pro děti\nDirigent: Adam Sedlický\nÚčinkující: Michal Sedláček (Vláďa)\, Kamila Janovičová (Karla)\, Lenka Jaborská (scénář\, režie)\nOrchestr: Janáčkova filharmonie Ostrava\n\nZdroj: https://www.jfo.cz/koncert/d4-jak-jsme-o-sebe-pecovali
URL:https://operaplus.cz/akce/d4-jak-jsme-o-sebe-pecovali/
CATEGORIES:Janáčkova filharmonie Ostrava
END:VEVENT
BEGIN:VEVENT
DTSTART;TZID=Europe/Prague:20260426T160000
DTEND;TZID=Europe/Prague:20260426T171000
DTSTAMP:20260425T180326
CREATED:20250917T221234Z
LAST-MODIFIED:20250917T221235Z
UID:201785-1777219200-1777223400@operaplus.cz
SUMMARY:D4 Jak jsme o sebe pečovali II
DESCRIPTION:D4 Jak jsme o sebe pečovali II\nKdy: 26. dubna 2026\, 16:00–17:10 \nKoupit vstupenky / Web pořadatele \nVláďa už je s námi 12. koncertní sezonu a ví\, že o své blízké musí pečovat. Na koncertě plném pečující hudby se zaměříme na to\, jak se o sebe navzájem starají hudebníci v orchestru\, pan dirigent a jak se cítí děti v sále. \nÚčinkující\n\nMichal Sedláček — Vláďa\nKamila Janovičová — Karla\n\nTvůrčí tým\n\nLenka Jaborská — scénář\, režie\nAdam Sedlický — dirigent\n\nInformace\n\nŽánr: koncert pro děti\nOrchestr: Janáčkova filharmonie Ostrava\nDirigent: Adam Sedlický\n\nZdroj: https://www.jfo.cz/koncert/d4-jak-jsme-o-sebe-pecovali-ii
URL:https://operaplus.cz/akce/d4-jak-jsme-o-sebe-pecovali-ii/
CATEGORIES:Janáčkova filharmonie Ostrava
END:VEVENT
BEGIN:VEVENT
DTSTART;TZID=Europe/Prague:20260429T180000
DTEND;TZID=Europe/Prague:20260429T193000
DTSTAMP:20260425T180326
CREATED:20250917T221243Z
LAST-MODIFIED:20250917T221244Z
UID:201787-1777485600-1777491000@operaplus.cz
SUMMARY:G3 Filmová hudba Johna Williamse
DESCRIPTION:G3 Filmová hudba Johna Williamse\nKdy: 29. dubna 2026\, 18:00–19:30 \nKoupit vstupenky / Web pořadatele \nJohn Williams je jedním z největších skladatelů filmové hudby všech dob\, jehož ikonické soundtracky definovaly moderní filmovou hudbu. Jeho dílo je spjato s hollywoodskými trháky\, zejména díky spolupráci s režiséry Stevenem Spielbergem a Georgem Lucasem. \nÚčinkující\n\nRadek Erben — moderátor\nDaniel Raiskin — dirigent\n\nInformace\n\nŽánr: Filmová hudba\nModerátor: Radek Erben\nDirigent: Daniel Raiskin\nOrchestr: Janáčkova filharmonie Ostrava\n\nZdroj: https://www.jfo.cz/koncert/g3-filmova-hudba-johna-williamse
URL:https://operaplus.cz/akce/g3-filmova-hudba-johna-williamse/
CATEGORIES:Janáčkova filharmonie Ostrava
END:VEVENT
BEGIN:VEVENT
DTSTART;TZID=Europe/Prague:20260430T180000
DTEND;TZID=Europe/Prague:20260430T193000
DTSTAMP:20260425T180326
CREATED:20250917T221251Z
LAST-MODIFIED:20250917T221251Z
UID:201789-1777572000-1777577400@operaplus.cz
SUMMARY:G3 Filmová hudba Johna Williamse II
DESCRIPTION:G3 Filmová hudba Johna Williamse II\nKdy: 30. dubna 2026\, 18:00–19:30 \nKoupit vstupenky / Web pořadatele \nJohn Williams je jedním z největších skladatelů filmové hudby všech dob\, jehož ikonické soundtracky definovaly moderní filmovou hudbu. Jeho dílo je spjato s hollywoodskými trháky\, zejména díky spolupráci s režiséry Stevenem Spielbergem a Georgem Lucasem. \nÚčinkující\n\nRadek Erben — moderátor\nDaniel Raiskin — dirigent\n\nInformace\n\nŽánr: Filmová hudba\nModerátor: Radek Erben\nDirigent: Daniel Raiskin\nOrchestr: Janáčkova filharmonie Ostrava\n\nZdroj: https://www.jfo.cz/koncert/g3-filmova-hudba-johna-williamse-ii
URL:https://operaplus.cz/akce/g3-filmova-hudba-johna-williamse-ii/
CATEGORIES:Janáčkova filharmonie Ostrava
END:VEVENT
BEGIN:VEVENT
DTSTART;TZID=Europe/Prague:20260507T180000
DTEND;TZID=Europe/Prague:20260507T191000
DTSTAMP:20260425T180326
CREATED:20250917T221301Z
LAST-MODIFIED:20250917T221302Z
UID:201791-1778176800-1778181000@operaplus.cz
SUMMARY:C4 Šťastné konce
DESCRIPTION:C4 Šťastné konce\nKdy: 7. května 2026\, 18:00–19:10 \nKoupit vstupenky / Web pořadatele \nKoncert 'C4 Šťastné konce' přináší pocit pohádky\, kde se setkávají šťastné konce v hudbě. Vojtěch Johaník provede posluchače\, zatímco Lenka Jaborská se postará o koncepci a režii. Dirigent Chuhei Iwasaki povede Janáčkovu filharmonii Ostrava v této emotivní hudební cestě. \nÚčinkující\n\nVojtěch Johaník — průvodní slovo\nLenka Jaborská — koncepce a režie\nChuhei Iwasaki — dirigent\n\nTvůrčí tým\n\nJanáčkova filharmonie Ostrava — hudební těleso\n\nInformace\n\nProgram: Koncert\nŽánr: Klasická hudba\nDirigent: Chuhei Iwasaki\nKoncepce a režie: Lenka Jaborská\nPrůvodní slovo: Vojtěch Johaník\n\nZdroj: https://www.jfo.cz/koncert/c4-stastne-konce
URL:https://operaplus.cz/akce/c4-stastne-konce/
CATEGORIES:Janáčkova filharmonie Ostrava
END:VEVENT
BEGIN:VEVENT
DTSTART;TZID=Europe/Prague:20260511T190000
DTEND;TZID=Europe/Prague:20260511T203000
DTSTAMP:20260425T180326
CREATED:20250917T221311Z
LAST-MODIFIED:20250917T221312Z
UID:201793-1778526000-1778531400@operaplus.cz
SUMMARY:K4 Alinde Quintet
DESCRIPTION:K4 Alinde Quintet\nKdy: 11. května 2026\, 19:00–20:30 \nKoupit vstupenky / Web pořadatele \nMladý český soubor Alinde Quintet\, laureát prestižní mnichovské soutěže ARD\, představí v Ostravě pestrý program českých a severských autorů. Zazní Rejchův Dechový kvintet op. 100\, Haasův Dechový kvintet op. 10\, meditativní skladba Music for a Deceased Friend od Pēterise Vaskse a Serenáda „Hraní v lese“ dánského autora Jørgena Jersilda. \nÚčinkující\n\nAnna Talácková — flétna\, pikola\, altová flétna\nBarbora Trnčíková — hoboj\nDavid Šimeček — klarinet\, es klarinet\nKryštof Koska — lesní roh\nPetr Sedlák — fagot\n\nInformace\n\nProgram: Rejcha\, Haas\, Vasks\, Jersild\nŽánr: Klasická hudba\nMísto konání: Ostrava\n\nZdroj: https://www.jfo.cz/koncert/k4-alinde-quintet
URL:https://operaplus.cz/akce/k4-alinde-quintet/
CATEGORIES:Janáčkova filharmonie Ostrava
END:VEVENT
BEGIN:VEVENT
DTSTART;TZID=Europe/Prague:20260528T190000
DTEND;TZID=Europe/Prague:20260528T203000
DTSTAMP:20260425T180326
CREATED:20250917T221321Z
LAST-MODIFIED:20250917T221322Z
UID:201795-1779994800-1780000200@operaplus.cz
SUMMARY:B4 Závěrečný koncert
DESCRIPTION:B4 Závěrečný koncert\nKdy: 28. května 2026\, 19:00–20:30 \nKoupit vstupenky / Web pořadatele \nNa závěrečném koncertu zazní novinka Jana Ryanta Dřízala 'Splendor solis'\, houslový koncert Mieczysława Weinberga v podání rakouského virtuóza Benjamina Schmida a První symfonie Johannesa Brahmse. Dřízalova kompozice\, inspirovaná alchymickým traktátem\, a Weinbergův koncert\, mísící vlivy Šostakoviče a židovského folklóru\, doplní Brahmsovo velkolepé dílo\, které završuje dlouhé hledání hudební dokonalosti. \nÚčinkující\n\nBenjamin Schmid — housle\nDaniel Raiskin — dirigent\n\nInformace\n\nŽánr: klasická hudba\nProgram: Dřízal\, Weinberg\, Brahms\nDirigent: Daniel Raiskin\nSólista: Benjamin Schmid (housle)\nOrchestr: Janáčkova filharmonie Ostrava\n\nZdroj: https://www.jfo.cz/koncert/b4-zaverecny-koncert-2
URL:https://operaplus.cz/akce/b4-zaverecny-koncert/
CATEGORIES:Janáčkova filharmonie Ostrava
END:VEVENT
BEGIN:VEVENT
DTSTART;TZID=Europe/Prague:20260529T190000
DTEND;TZID=Europe/Prague:20260529T203000
DTSTAMP:20260425T180326
CREATED:20250917T221331Z
LAST-MODIFIED:20250917T221332Z
UID:201797-1780081200-1780086600@operaplus.cz
SUMMARY:P4 Závěrečný koncert II
DESCRIPTION:P4 Závěrečný koncert II\nKdy: 29. května 2026\, 19:00–20:30 \nKoupit vstupenky / Web pořadatele \nNa závěrečném koncertu zazní novinka Jana Ryanta Dřízala 'Splendor solis'\, houslový koncert Mieczysława Weinberga v podání rakouského virtuóza Benjamina Schmida a majestátní První symfonie Johannesa Brahmse. Dřízalova kompozice\, inspirovaná alchymickým traktátem\, je světovou premiérou na objednávku Janáčkovy filharmonie Ostrava. Brahmsovo dílo\, dokončené po dvaceti dvou letech\, se vyznačuje velkolepým finále a snahou o dokonalost. \nÚčinkující\n\nBenjamin Schmid — housle\nDaniel Raiskin — dirigent\n\nTvůrčí tým\n\nJan Ryant Dřízal — skladatel\nMieczysław Weinberg — skladatel\nJohannes Brahms — skladatel\n\nInformace\n\nProgram: Jan Ryant Dřízal: Splendor Solis (světová premiéra)\, Mieczysław Weinberg: Koncert pro housle a orchestr g moll op. 67\, Johannes Brahms: Symfonie č. 1 c moll op. 68\nŽánr: Klasická hudba\nDirigent: Daniel Raiskin\nSólista: Benjamin Schmid (housle)\n\nZdroj: https://www.jfo.cz/koncert/p4-zaverecny-koncert-ii-2
URL:https://operaplus.cz/akce/p4-zaverecny-koncert-ii/
CATEGORIES:Janáčkova filharmonie Ostrava
END:VEVENT
END:VCALENDAR