BEGIN:VCALENDAR
VERSION:2.0
PRODID:-//Opera PLUS - ECPv6.15.13.1//NONSGML v1.0//EN
CALSCALE:GREGORIAN
METHOD:PUBLISH
X-ORIGINAL-URL:https://operaplus.cz
X-WR-CALDESC:Akce na Opera PLUS
REFRESH-INTERVAL;VALUE=DURATION:PT1H
X-Robots-Tag:noindex
X-PUBLISHED-TTL:PT1H
BEGIN:VTIMEZONE
TZID:Europe/Prague
BEGIN:DAYLIGHT
TZOFFSETFROM:+0100
TZOFFSETTO:+0200
TZNAME:CEST
DTSTART:20250330T010000
END:DAYLIGHT
BEGIN:STANDARD
TZOFFSETFROM:+0200
TZOFFSETTO:+0100
TZNAME:CET
DTSTART:20251026T010000
END:STANDARD
BEGIN:DAYLIGHT
TZOFFSETFROM:+0100
TZOFFSETTO:+0200
TZNAME:CEST
DTSTART:20260329T010000
END:DAYLIGHT
BEGIN:STANDARD
TZOFFSETFROM:+0200
TZOFFSETTO:+0100
TZNAME:CET
DTSTART:20261025T010000
END:STANDARD
BEGIN:DAYLIGHT
TZOFFSETFROM:+0100
TZOFFSETTO:+0200
TZNAME:CEST
DTSTART:20270328T010000
END:DAYLIGHT
BEGIN:STANDARD
TZOFFSETFROM:+0200
TZOFFSETTO:+0100
TZNAME:CET
DTSTART:20271031T010000
END:STANDARD
END:VTIMEZONE
BEGIN:VEVENT
DTSTART;TZID=Europe/Prague:20260106T190000
DTEND;TZID=Europe/Prague:20260106T220000
DTSTAMP:20260423T002824
CREATED:20251228T192448Z
LAST-MODIFIED:20251228T192448Z
UID:211898-1767726000-1767736800@operaplus.cz
SUMMARY:České doteky hudby
DESCRIPTION:Program\n\nBéla Bartók: Rumunské tance\n \nJeno Hubay: Hejre Kati\nZoltán Kodály: Tance z Marosszék\nPablo de Sarasate: Cikánské melodie\nGeorges Boulanger: Avant de Mourir\nWolfgang Amadeus Mozart: Turecký pochod\nGrigoras Dinicu: Hora Martisorului\nIvan Vasiliev: Dvě kytary\nJohannes Brahms: Uherský tanec\n\nÚčinkující\n\n\nJan Talich – housle\n\n\nĹubomír Gašpar – cimbál\, kaval\n\n\nMilan Kostelenec – housle\n\n\nFilip Herák – kontrabas\n\nJihočeská filharmonie\nJan Talich – dirigent
URL:https://operaplus.cz/akce/ceske-doteky-hudby/
LOCATION:Dům kultury v Mladé Boleslavi\, Mladá Boleslav\, Czech Republic
CATEGORIES:Jihočeská filharmonie
END:VEVENT
BEGIN:VEVENT
DTSTART;TZID=Europe/Prague:20260108T190000
DTEND;TZID=Europe/Prague:20260108T220000
DTSTAMP:20260423T002824
CREATED:20251228T192809Z
LAST-MODIFIED:20251228T192809Z
UID:211901-1767898800-1767909600@operaplus.cz
SUMMARY:Novoroční koncert
DESCRIPTION:Účinkující\n\n\nZuzana Vlčeková – zpěv\n\n\nJan Talich – housle\n\n\nĹubomír Gašpar – cimbál\, kaval\n\n\nMilan Kostelenec – housle\n\n\nFilip Herák – kontrabas\n\nJihočeská filharmonie\nJan Talich – dirigent
URL:https://operaplus.cz/akce/novorocni-koncert-4/
LOCATION:Kostel sv. Anny\, České Budějovice\, Czech Republic
CATEGORIES:Jihočeská filharmonie
END:VEVENT
BEGIN:VEVENT
DTSTART;TZID=Europe/Prague:20260121T190000
DTEND;TZID=Europe/Prague:20260121T220000
DTSTAMP:20260423T002824
CREATED:20260116T173841Z
LAST-MODIFIED:20260116T173841Z
UID:212913-1769022000-1769032800@operaplus.cz
SUMMARY:Jan Bartoš & Jihočeská filharmonie
DESCRIPTION:Veřejná generální zkouška: 21. ledna 2026 v 10:00 hodin\nProgram\n\nLudwig van Beethoven: Koncert pro klavír a orchestr č. 5 Es dur\, op. 73 „Císařský“\nJoseph Haydn: Symfonie č. 94 G dur „S úderem kotlů“\n\nÚčinkující\n\nJan Bartoš – klavír\nJihočeská filharmonie\nMarek Šedivý – dirigent
URL:https://operaplus.cz/akce/jan-bartos-jihoceska-filharmonie-2/
LOCATION:Kostel sv. Anny\, České Budějovice\, Czech Republic
CATEGORIES:Jihočeská filharmonie
END:VEVENT
BEGIN:VEVENT
DTSTART;TZID=Europe/Prague:20260122T190000
DTEND;TZID=Europe/Prague:20260122T220000
DTSTAMP:20260423T002824
CREATED:20260116T173727Z
LAST-MODIFIED:20260116T173727Z
UID:212911-1769108400-1769119200@operaplus.cz
SUMMARY:Jan Bartoš & Jihočeská filharmonie
DESCRIPTION:Veřejná generální zkouška: 21. ledna 2026 v 10:00 hodin\nProgram\n\nLudwig van Beethoven: Koncert pro klavír a orchestr č. 5 Es dur\, op. 73 „Císařský“\nJoseph Haydn: Symfonie č. 94 G dur „S úderem kotlů“\n\nÚčinkující\n\nJan Bartoš – klavír\nJihočeská filharmonie\nMarek Šedivý – dirigent
URL:https://operaplus.cz/akce/jan-bartos-jihoceska-filharmonie/
LOCATION:Kostel sv. Anny\, České Budějovice\, Czech Republic
CATEGORIES:Jihočeská filharmonie
END:VEVENT
BEGIN:VEVENT
DTSTART;TZID=Europe/Prague:20260129T190000
DTEND;TZID=Europe/Prague:20260130T220000
DTSTAMP:20260423T002824
CREATED:20260120T151903Z
LAST-MODIFIED:20260120T151903Z
UID:213157-1769713200-1769810400@operaplus.cz
SUMMARY:Dopisy Mozarta
DESCRIPTION:Hudebně dramatický program je věnovaný osobnosti Wolfganga Amadea Mozarta. Pečlivě sestavená dramaturgie nabízí známé i neznámé árie z oper\, mistrovu písňovou tvorbu\, ukázku z hornového i klavírního koncertu nebo ojedinělou\, vrcholnou koncertní árii pro zpěv a klavír „Ch`io mio scordi di te?“ Jednotlivé hudební vstupy jsou proloženy četbou vybraných Mozartových dopisů v přednesu populární osobnosti\, herečky Anny Polívkové. Celý program končí Lacrimosou z Requiem\, která následuje po textu\, který dne 5. prosince 1791 napsala Mozartova manželka Constance. \nÚčinkující\n  \n\n\nAnna Polívková – četba\nVanda Šípová – soprán\nMichal Mašek – klavír\nJan Talich – dirigent\n\n\n\n 
URL:https://operaplus.cz/akce/dopisy-mozarta/
LOCATION:Kostel sv. Anny\, České Budějovice\, Czech Republic
CATEGORIES:Jihočeská filharmonie
END:VEVENT
END:VCALENDAR