BEGIN:VCALENDAR
VERSION:2.0
PRODID:-//Opera PLUS - ECPv6.15.13.1//NONSGML v1.0//EN
CALSCALE:GREGORIAN
METHOD:PUBLISH
X-ORIGINAL-URL:https://operaplus.cz
X-WR-CALDESC:Akce na Opera PLUS
REFRESH-INTERVAL;VALUE=DURATION:PT1H
X-Robots-Tag:noindex
X-PUBLISHED-TTL:PT1H
BEGIN:VTIMEZONE
TZID:Europe/Prague
BEGIN:DAYLIGHT
TZOFFSETFROM:+0100
TZOFFSETTO:+0200
TZNAME:CEST
DTSTART:20240331T010000
END:DAYLIGHT
BEGIN:STANDARD
TZOFFSETFROM:+0200
TZOFFSETTO:+0100
TZNAME:CET
DTSTART:20241027T010000
END:STANDARD
BEGIN:DAYLIGHT
TZOFFSETFROM:+0100
TZOFFSETTO:+0200
TZNAME:CEST
DTSTART:20250330T010000
END:DAYLIGHT
BEGIN:STANDARD
TZOFFSETFROM:+0200
TZOFFSETTO:+0100
TZNAME:CET
DTSTART:20251026T010000
END:STANDARD
BEGIN:DAYLIGHT
TZOFFSETFROM:+0100
TZOFFSETTO:+0200
TZNAME:CEST
DTSTART:20260329T010000
END:DAYLIGHT
BEGIN:STANDARD
TZOFFSETFROM:+0200
TZOFFSETTO:+0100
TZNAME:CET
DTSTART:20261025T010000
END:STANDARD
BEGIN:DAYLIGHT
TZOFFSETFROM:+0100
TZOFFSETTO:+0200
TZNAME:CEST
DTSTART:20270328T010000
END:DAYLIGHT
BEGIN:STANDARD
TZOFFSETFROM:+0200
TZOFFSETTO:+0100
TZNAME:CET
DTSTART:20271031T010000
END:STANDARD
END:VTIMEZONE
BEGIN:VEVENT
DTSTART;TZID=Europe/Prague:20251211T190000
DTEND;TZID=Europe/Prague:20251211T220000
DTSTAMP:20260423T053017
CREATED:20251130T221336Z
LAST-MODIFIED:20251130T221336Z
UID:210133-1765479600-1765490400@operaplus.cz
SUMMARY:Kryštof Kohout & Jihočeská filharmonie
DESCRIPTION:Veřejná generální zkouška: 10. prosince 2025 od 10:00 hodin\nProgram\n\nJean Sibelius: Valse triste č. 1\, op. 44\nSergej Prokofjev: Koncert pro housle a orchestr č. 1 D dur\, op. 19\nGustav Mahler: Symfonie č. 1 D dur – 2. věta „Blumine“\nFranz Schubert: Symfonie č. 8 h moll\, D 759 „Nedokončená“\n\nÚčinkující\n\nKryštof Kohout – housle\nJihočeská filharmonie\nAlena Hron – dirigent
URL:https://operaplus.cz/akce/krystof-kohout-jihoceska-filharmonie-2/
LOCATION:Kostel sv. Anny\, České Budějovice\, Czech Republic
CATEGORIES:Jihočeská filharmonie
END:VEVENT
BEGIN:VEVENT
DTSTART;TZID=Europe/Prague:20251215T190000
DTEND;TZID=Europe/Prague:20251215T220000
DTSTAMP:20260423T053017
CREATED:20251206T190349Z
LAST-MODIFIED:20251206T190349Z
UID:210595-1765825200-1765836000@operaplus.cz
SUMMARY:Vánoční koncert NEZMAŘI a Jihočeská filharmonie
DESCRIPTION:Účinkující\n\nSólisté: Šárka Benetková\, Pavel Jim Drengubák\, Tonda Hlaváč\, Pavel Zajíc\nJihočeská filharmonie\nJan Talich – dirigent
URL:https://operaplus.cz/akce/vanocni-koncert-nezmari-a-jihoceska-filharmonie/
LOCATION:DK Metropol ČB
CATEGORIES:Jihočeská filharmonie
END:VEVENT
BEGIN:VEVENT
DTSTART;TZID=Europe/Prague:20251220T160000
DTEND;TZID=Europe/Prague:20251220T170000
DTSTAMP:20260423T053017
CREATED:20251206T185945Z
LAST-MODIFIED:20251206T185945Z
UID:210591-1766246400-1766250000@operaplus.cz
SUMMARY:Česká mše vánoční
DESCRIPTION:Program\n\nJakub Jan Ryba: Česká mše vánoční\n\nÚčinkující\n\n\nKateřina Falcníková – soprán\n\n\nJadviga Kubátová – alt\n\n\nLukáš Randák – tenor\n\n\nTomáš Maliniak – bas\n\n\nVox Novus\, Canzona\n\n\nPetra Nová – sbormistr\n\nJihočeská filharmonie\nJan Talich – dirigent
URL:https://operaplus.cz/akce/ceska-mse-vanocni-4/
CATEGORIES:Jihočeská filharmonie
END:VEVENT
BEGIN:VEVENT
DTSTART;TZID=Europe/Prague:20251221T160000
DTEND;TZID=Europe/Prague:20251221T170000
DTSTAMP:20260423T053017
CREATED:20251206T185806Z
LAST-MODIFIED:20251206T185806Z
UID:210589-1766332800-1766336400@operaplus.cz
SUMMARY:Česká mše vánoční
DESCRIPTION:Program\n\nJakub Jan Ryba: Česká mše vánoční\n\nÚčinkující\n\n\nKateřina Falcníková – soprán\n\n\nJadviga Kubátová – alt\n\n\nLukáš Randák – tenor\n\n\nTomáš Maliniak – bas\n\n\nVox Novus\, Canzona\n\n\nPetra Nová – sbormistr\n\nJihočeská filharmonie\nJan Talich – dirigent
URL:https://operaplus.cz/akce/ceska-mse-vanocni-3/
LOCATION:Kostel sv. Anny\, České Budějovice\, Czech Republic
CATEGORIES:Jihočeská filharmonie
END:VEVENT
BEGIN:VEVENT
DTSTART;TZID=Europe/Prague:20251221T190000
DTEND;TZID=Europe/Prague:20251221T220000
DTSTAMP:20260423T053017
CREATED:20251206T190131Z
LAST-MODIFIED:20251206T190131Z
UID:210593-1766343600-1766354400@operaplus.cz
SUMMARY:Česká mše vánoční
DESCRIPTION:Program\n\nJakub Jan Ryba: Česká mše vánoční\n\nÚčinkující\n\n\nKateřina Falcníková – soprán\n\n\nJadviga Kubátová – alt\n\n\nLukáš Randák – tenor\n\n\nTomáš Maliniak – bas\n\n\nVox Novus\, Canzona\n\n\nPetra Nová – sbormistr\n\nJihočeská filharmonie\nJan Talich – dirigent
URL:https://operaplus.cz/akce/ceska-mse-vanocni-5/
LOCATION:Kostel sv. Anny\, České Budějovice\, Czech Republic
CATEGORIES:Jihočeská filharmonie
END:VEVENT
BEGIN:VEVENT
DTSTART;TZID=Europe/Prague:20260106T190000
DTEND;TZID=Europe/Prague:20260106T220000
DTSTAMP:20260423T053017
CREATED:20251228T192448Z
LAST-MODIFIED:20251228T192448Z
UID:211898-1767726000-1767736800@operaplus.cz
SUMMARY:České doteky hudby
DESCRIPTION:Program\n\nBéla Bartók: Rumunské tance\n \nJeno Hubay: Hejre Kati\nZoltán Kodály: Tance z Marosszék\nPablo de Sarasate: Cikánské melodie\nGeorges Boulanger: Avant de Mourir\nWolfgang Amadeus Mozart: Turecký pochod\nGrigoras Dinicu: Hora Martisorului\nIvan Vasiliev: Dvě kytary\nJohannes Brahms: Uherský tanec\n\nÚčinkující\n\n\nJan Talich – housle\n\n\nĹubomír Gašpar – cimbál\, kaval\n\n\nMilan Kostelenec – housle\n\n\nFilip Herák – kontrabas\n\nJihočeská filharmonie\nJan Talich – dirigent
URL:https://operaplus.cz/akce/ceske-doteky-hudby/
LOCATION:Dům kultury v Mladé Boleslavi\, Mladá Boleslav\, Czech Republic
CATEGORIES:Jihočeská filharmonie
END:VEVENT
BEGIN:VEVENT
DTSTART;TZID=Europe/Prague:20260108T190000
DTEND;TZID=Europe/Prague:20260108T220000
DTSTAMP:20260423T053017
CREATED:20251228T192809Z
LAST-MODIFIED:20251228T192809Z
UID:211901-1767898800-1767909600@operaplus.cz
SUMMARY:Novoroční koncert
DESCRIPTION:Účinkující\n\n\nZuzana Vlčeková – zpěv\n\n\nJan Talich – housle\n\n\nĹubomír Gašpar – cimbál\, kaval\n\n\nMilan Kostelenec – housle\n\n\nFilip Herák – kontrabas\n\nJihočeská filharmonie\nJan Talich – dirigent
URL:https://operaplus.cz/akce/novorocni-koncert-4/
LOCATION:Kostel sv. Anny\, České Budějovice\, Czech Republic
CATEGORIES:Jihočeská filharmonie
END:VEVENT
BEGIN:VEVENT
DTSTART;TZID=Europe/Prague:20260121T190000
DTEND;TZID=Europe/Prague:20260121T220000
DTSTAMP:20260423T053017
CREATED:20260116T173841Z
LAST-MODIFIED:20260116T173841Z
UID:212913-1769022000-1769032800@operaplus.cz
SUMMARY:Jan Bartoš & Jihočeská filharmonie
DESCRIPTION:Veřejná generální zkouška: 21. ledna 2026 v 10:00 hodin\nProgram\n\nLudwig van Beethoven: Koncert pro klavír a orchestr č. 5 Es dur\, op. 73 „Císařský“\nJoseph Haydn: Symfonie č. 94 G dur „S úderem kotlů“\n\nÚčinkující\n\nJan Bartoš – klavír\nJihočeská filharmonie\nMarek Šedivý – dirigent
URL:https://operaplus.cz/akce/jan-bartos-jihoceska-filharmonie-2/
LOCATION:Kostel sv. Anny\, České Budějovice\, Czech Republic
CATEGORIES:Jihočeská filharmonie
END:VEVENT
BEGIN:VEVENT
DTSTART;TZID=Europe/Prague:20260122T190000
DTEND;TZID=Europe/Prague:20260122T220000
DTSTAMP:20260423T053017
CREATED:20260116T173727Z
LAST-MODIFIED:20260116T173727Z
UID:212911-1769108400-1769119200@operaplus.cz
SUMMARY:Jan Bartoš & Jihočeská filharmonie
DESCRIPTION:Veřejná generální zkouška: 21. ledna 2026 v 10:00 hodin\nProgram\n\nLudwig van Beethoven: Koncert pro klavír a orchestr č. 5 Es dur\, op. 73 „Císařský“\nJoseph Haydn: Symfonie č. 94 G dur „S úderem kotlů“\n\nÚčinkující\n\nJan Bartoš – klavír\nJihočeská filharmonie\nMarek Šedivý – dirigent
URL:https://operaplus.cz/akce/jan-bartos-jihoceska-filharmonie/
LOCATION:Kostel sv. Anny\, České Budějovice\, Czech Republic
CATEGORIES:Jihočeská filharmonie
END:VEVENT
BEGIN:VEVENT
DTSTART;TZID=Europe/Prague:20260129T190000
DTEND;TZID=Europe/Prague:20260130T220000
DTSTAMP:20260423T053017
CREATED:20260120T151903Z
LAST-MODIFIED:20260120T151903Z
UID:213157-1769713200-1769810400@operaplus.cz
SUMMARY:Dopisy Mozarta
DESCRIPTION:Hudebně dramatický program je věnovaný osobnosti Wolfganga Amadea Mozarta. Pečlivě sestavená dramaturgie nabízí známé i neznámé árie z oper\, mistrovu písňovou tvorbu\, ukázku z hornového i klavírního koncertu nebo ojedinělou\, vrcholnou koncertní árii pro zpěv a klavír „Ch`io mio scordi di te?“ Jednotlivé hudební vstupy jsou proloženy četbou vybraných Mozartových dopisů v přednesu populární osobnosti\, herečky Anny Polívkové. Celý program končí Lacrimosou z Requiem\, která následuje po textu\, který dne 5. prosince 1791 napsala Mozartova manželka Constance. \nÚčinkující\n  \n\n\nAnna Polívková – četba\nVanda Šípová – soprán\nMichal Mašek – klavír\nJan Talich – dirigent\n\n\n\n 
URL:https://operaplus.cz/akce/dopisy-mozarta/
LOCATION:Kostel sv. Anny\, České Budějovice\, Czech Republic
CATEGORIES:Jihočeská filharmonie
END:VEVENT
BEGIN:VEVENT
DTSTART;TZID=Europe/Prague:20260205T190000
DTEND;TZID=Europe/Prague:20260205T200000
DTSTAMP:20260423T053017
CREATED:20260124T200334Z
LAST-MODIFIED:20260124T200334Z
UID:213476-1770318000-1770321600@operaplus.cz
SUMMARY:TOP z konzervatoře
DESCRIPTION:Účinkující\n  \n\n\nQuoc Anh Nguyen – klavír\nMaxym Topchii – akordeon\nPetra Indiana Meisl – violoncello\nŠimon Čermák – klavír\nJan Hrbek – barytonový saxofon\nŠimon Schacherl – klasická kytara\nVáclav Šustr – trubka\nDenisa Havlová – zpěv\nPatrik Červák – dirigent\n\n\n 
URL:https://operaplus.cz/akce/top-z-konzervatore/
LOCATION:Kostel sv. Anny\, České Budějovice\, Czech Republic
CATEGORIES:Jihočeská filharmonie
END:VEVENT
BEGIN:VEVENT
DTSTART;TZID=Europe/Prague:20260225T190000
DTEND;TZID=Europe/Prague:20260225T220000
DTSTAMP:20260423T053017
CREATED:20260217T160213Z
LAST-MODIFIED:20260217T160213Z
UID:215167-1772046000-1772056800@operaplus.cz
SUMMARY:Jan Hudeček & Jihočeská filharmonie
DESCRIPTION:Veřejná generální zkouška: 25. února 2026 v 10:00 hodin\nProgram\n\n‍Leoš Janáček: Suita pro smyčce\nAndré Jolivet: Koncert pro fagot\, smyčce\, harfu a klavír\nAntonio Vivaldi: Koncert pro fagot\, smyčce a basso continuo B dur\, RV 501 „La notte“\nAntonín Dvořák: Česká suita\, op. 93\n\nÚčinkující\n\nJan Hudeček – fagot\nJihočeská filharmonie\nRobert Jindra – dirigent
URL:https://operaplus.cz/akce/jan-hudecek-jihoceska-filharmonie-2/
LOCATION:Kostel sv. Anny\, České Budějovice\, Czech Republic
CATEGORIES:Jihočeská filharmonie
END:VEVENT
BEGIN:VEVENT
DTSTART;TZID=Europe/Prague:20260226T190000
DTEND;TZID=Europe/Prague:20260226T220000
DTSTAMP:20260423T053017
CREATED:20260217T160052Z
LAST-MODIFIED:20260217T160052Z
UID:215165-1772132400-1772143200@operaplus.cz
SUMMARY:Jan Hudeček & Jihočeská filharmonie
DESCRIPTION:Veřejná generální zkouška: 25. února 2026 v 10:00 hodin\nProgram\n\n‍Leoš Janáček: Suita pro smyčce\nAndré Jolivet: Koncert pro fagot\, smyčce\, harfu a klavír\nAntonio Vivaldi: Koncert pro fagot\, smyčce a basso continuo B dur\, RV 501 „La notte“\nAntonín Dvořák: Česká suita\, op. 93\n\nÚčinkující\n\nJan Hudeček – fagot\nJihočeská filharmonie\nRobert Jindra – dirigent
URL:https://operaplus.cz/akce/jan-hudecek-jihoceska-filharmonie/
LOCATION:Kostel sv. Anny\, České Budějovice\, Czech Republic
CATEGORIES:Jihočeská filharmonie
END:VEVENT
BEGIN:VEVENT
DTSTART;TZID=Europe/Prague:20260301T200000
DTEND;TZID=Europe/Prague:20260301T220000
DTSTAMP:20260423T053017
CREATED:20260217T160637Z
LAST-MODIFIED:20260217T160637Z
UID:215169-1772395200-1772402400@operaplus.cz
SUMMARY:Piazzolla Gala
DESCRIPTION:Účinkující\n\n\nCesare Chicchiaretta – akordeon\n\n\nGiulio Tampalini – kytara\n\n\nAlessandra Doninelli – violoncello\n\n\nAntonino Cicero – fagot\n\n\nDavide Alogna – housle\n\nJihočeská filharmonie\nMiran Vaupotić – dirigent
URL:https://operaplus.cz/akce/piazzolla-gala/
LOCATION:Divadlo Sociale\, Como\, Italy
CATEGORIES:Jihočeská filharmonie
END:VEVENT
BEGIN:VEVENT
DTSTART;TZID=Europe/Prague:20260305T190000
DTEND;TZID=Europe/Prague:20260305T220000
DTSTAMP:20260423T053017
CREATED:20260222T205604Z
LAST-MODIFIED:20260222T205604Z
UID:215596-1772737200-1772748000@operaplus.cz
SUMMARY:Milan Svoboda „Čaroděj ze země Oz“
DESCRIPTION:Účinkující\n\n\nMilan Svoboda –⁠⁠⁠⁠⁠⁠ klavír\n\n\nMilan Krajíc –⁠⁠⁠⁠⁠⁠ saxofon\n\n\nFilip Spálený –⁠⁠⁠⁠⁠⁠ baskytara\n\n\nIvan Audes –⁠⁠⁠⁠⁠⁠ bicí\n\nJihočeská filharmonie\nMilan Svoboda
URL:https://operaplus.cz/akce/milan-svoboda-carodej-ze-zeme-oz/
LOCATION:Kostel sv. Anny\, České Budějovice\, Czech Republic
CATEGORIES:Jihočeská filharmonie
END:VEVENT
BEGIN:VEVENT
DTSTART;TZID=Europe/Prague:20260319T190000
DTEND;TZID=Europe/Prague:20260319T220000
DTSTAMP:20260423T053017
CREATED:20260311T214602Z
LAST-MODIFIED:20260311T214602Z
UID:216685-1773946800-1773957600@operaplus.cz
SUMMARY:Michal Kaňka & Jihočeská filharmonie
DESCRIPTION:Program\n\n‍Edward Elgar: Koncert pro violoncello a orchestr e moll\, op. 85\nGustav Mahler: Symfonie č. 4 G dur\n\nÚčinkující\n\n\nMichal Kaňka – violoncello\n\n\nLucie Kaňková – soprán\n\nJihočeská filharmonie\nJan Talich – dirigent
URL:https://operaplus.cz/akce/michal-kanka-jihoceska-filharmonie/
LOCATION:DK Metropol ČB
CATEGORIES:Jihočeská filharmonie
END:VEVENT
BEGIN:VEVENT
DTSTART;TZID=Europe/Prague:20260401T190000
DTEND;TZID=Europe/Prague:20260401T220000
DTSTAMP:20260423T053017
CREATED:20260323T213114Z
LAST-MODIFIED:20260323T213114Z
UID:217771-1775070000-1775080800@operaplus.cz
SUMMARY:MarZ
DESCRIPTION:Účinkující\n\n\nMarkéta Zdeňková – zpěv\, kytara\n\n\nŠtěpán Janoušek – zpěv\, trombon\n\n\nDalibor Hrubeš – kytara\n\n\nMiloš Klápště – baskytara\, synth\, vokály\n\n\nVítězslav Patočka – bicí\n\nJihočeská filharmonie\nMichaela Rózsa Růžičková – dirigent
URL:https://operaplus.cz/akce/marz/
LOCATION:Kostel sv. Anny\, České Budějovice\, Czech Republic
CATEGORIES:Jihočeská filharmonie
END:VEVENT
BEGIN:VEVENT
DTSTART;TZID=Europe/Prague:20260415T190000
DTEND;TZID=Europe/Prague:20260415T220000
DTSTAMP:20260423T053017
CREATED:20260407T212114Z
LAST-MODIFIED:20260407T212114Z
UID:218859-1776279600-1776290400@operaplus.cz
SUMMARY:Jiří Kabát & Jihočeská filharmonie
DESCRIPTION:Veřejná generální zkouška: 15. dubna 2026 v 10:00 hodin\nProgram\n\nGrazyna Bacewicz: Koncert pro smyčce\nBohuslav Martinů: Rapsodie – koncert pro violu a orchestr\nWolfgang Amadeus Mozart: Symfonie č. 40 g moll\, KV 550\n\nÚčinkující\n\nJiří Kabát – viola\nJihočeská filharmonie\nAlena Hron – dirigent
URL:https://operaplus.cz/akce/jiri-kabat-jihoceska-filharmonie/
LOCATION:Kostel sv. Anny\, České Budějovice\, Czech Republic
CATEGORIES:Jihočeská filharmonie
END:VEVENT
END:VCALENDAR