BEGIN:VCALENDAR
VERSION:2.0
PRODID:-//Opera PLUS - ECPv6.15.13.1//NONSGML v1.0//EN
CALSCALE:GREGORIAN
METHOD:PUBLISH
X-WR-CALNAME:Opera PLUS
X-ORIGINAL-URL:https://operaplus.cz
X-WR-CALDESC:Akce na Opera PLUS
REFRESH-INTERVAL;VALUE=DURATION:PT1H
X-Robots-Tag:noindex
X-PUBLISHED-TTL:PT1H
BEGIN:VTIMEZONE
TZID:Europe/Prague
BEGIN:DAYLIGHT
TZOFFSETFROM:+0100
TZOFFSETTO:+0200
TZNAME:CEST
DTSTART:20240331T010000
END:DAYLIGHT
BEGIN:STANDARD
TZOFFSETFROM:+0200
TZOFFSETTO:+0100
TZNAME:CET
DTSTART:20241027T010000
END:STANDARD
BEGIN:DAYLIGHT
TZOFFSETFROM:+0100
TZOFFSETTO:+0200
TZNAME:CEST
DTSTART:20250330T010000
END:DAYLIGHT
BEGIN:STANDARD
TZOFFSETFROM:+0200
TZOFFSETTO:+0100
TZNAME:CET
DTSTART:20251026T010000
END:STANDARD
BEGIN:DAYLIGHT
TZOFFSETFROM:+0100
TZOFFSETTO:+0200
TZNAME:CEST
DTSTART:20260329T010000
END:DAYLIGHT
BEGIN:STANDARD
TZOFFSETFROM:+0200
TZOFFSETTO:+0100
TZNAME:CET
DTSTART:20261025T010000
END:STANDARD
END:VTIMEZONE
BEGIN:VEVENT
DTSTART;TZID=Europe/Prague:20251104T200000
DTEND;TZID=Europe/Prague:20251104T220000
DTSTAMP:20260423T135710
CREATED:20251030T215654Z
LAST-MODIFIED:20251030T215654Z
UID:207454-1762286400-1762293600@operaplus.cz
SUMMARY:Klang Systematiek –⁠⁠⁠⁠⁠⁠ Luigi Nono & Nicola Sani
DESCRIPTION:Účinkující\n\nLivia Rado – soprán\nFederica Livi – soprán\nGareth Davis – kontrabasový klarinet\nDaniel Havel – flétna\nAlvise Vidolin – elektronika\nMikuláš Mrva – asistent živé elektroniky\nCanticum Ostrava\nMarco Angius – conductor
URL:https://operaplus.cz/akce/klang-systematiek-%e2%81%a0%e2%81%a0%e2%81%a0%e2%81%a0%e2%81%a0%e2%81%a0-luigi-nono-nicola-sani/
LOCATION:Divadlo X10\, Praha\, Czech Republic
CATEGORIES:Klang Systematiek
END:VEVENT
END:VCALENDAR