BEGIN:VCALENDAR
VERSION:2.0
PRODID:-//Opera PLUS - ECPv6.15.13.1//NONSGML v1.0//EN
CALSCALE:GREGORIAN
METHOD:PUBLISH
X-WR-CALNAME:Opera PLUS
X-ORIGINAL-URL:https://operaplus.cz
X-WR-CALDESC:Akce na Opera PLUS
REFRESH-INTERVAL;VALUE=DURATION:PT1H
X-Robots-Tag:noindex
X-PUBLISHED-TTL:PT1H
BEGIN:VTIMEZONE
TZID:Europe/Prague
BEGIN:DAYLIGHT
TZOFFSETFROM:+0100
TZOFFSETTO:+0200
TZNAME:CEST
DTSTART:20240331T010000
END:DAYLIGHT
BEGIN:STANDARD
TZOFFSETFROM:+0200
TZOFFSETTO:+0100
TZNAME:CET
DTSTART:20241027T010000
END:STANDARD
BEGIN:DAYLIGHT
TZOFFSETFROM:+0100
TZOFFSETTO:+0200
TZNAME:CEST
DTSTART:20250330T010000
END:DAYLIGHT
BEGIN:STANDARD
TZOFFSETFROM:+0200
TZOFFSETTO:+0100
TZNAME:CET
DTSTART:20251026T010000
END:STANDARD
BEGIN:DAYLIGHT
TZOFFSETFROM:+0100
TZOFFSETTO:+0200
TZNAME:CEST
DTSTART:20260329T010000
END:DAYLIGHT
BEGIN:STANDARD
TZOFFSETFROM:+0200
TZOFFSETTO:+0100
TZNAME:CET
DTSTART:20261025T010000
END:STANDARD
END:VTIMEZONE
BEGIN:VEVENT
DTSTART;TZID=Europe/Prague:20251219T160000
DTEND;TZID=Europe/Prague:20251219T170000
DTSTAMP:20260423T134229
CREATED:20251213T210921Z
LAST-MODIFIED:20251213T210921Z
UID:211029-1766160000-1766163600@operaplus.cz
SUMMARY:Petr Nouzovský & Miriam Rodriguez Brüllová
DESCRIPTION:Program\n\n\nJohann Sebastian Bach: Suita č. 3 C dur pro violoncello solo \n\n\nCamille Saint-Saëns: Allegro appassionato\, op. 43 \n\n\nAlina Boyko: Variace na ukrajinskou lidovou píseň \n\n\nPetr Iljič Čajkovskij: Valse sentimentale\, op. 51\, No. 6 \n\n\nAntonio Vivaldi: Cello Sonata No. 5 in E minor\, RV 40 \n\n\nManuel de Falla: Suite populaire espagnole \n\n\nFranz Schubert: Sonáta a moll\, D. 821 „Arpeggione“ \n\n\nÚčinkující\n\nPetr Nouzovský –⁠⁠⁠⁠⁠⁠ violoncello\nMiriam Rodriguez Brüllová – kytara
URL:https://operaplus.cz/akce/petr-nouzovsky-miriam-rodriguez-brullova/
LOCATION:Rudolfinum — Sukova síň
CATEGORIES:Klasika o čtvrté
END:VEVENT
BEGIN:VEVENT
DTSTART;TZID=Europe/Prague:20251217T160000
DTEND;TZID=Europe/Prague:20251217T170000
DTSTAMP:20260423T134229
CREATED:20251213T210222Z
LAST-MODIFIED:20251213T210222Z
UID:211027-1765987200-1765990800@operaplus.cz
SUMMARY:Ivo Kahánek
DESCRIPTION:Program\n\n\nJohann Sebastian Bach: Schafe können sicher weiden (z Kantáty BWV 208) \n\n\nDomenico Scarlatti: Sonáta E dur\, K 380 \n\n\nDomenico Scarlatti: Sonáta d moll\, K 9 \n\n\nDomenico Scarlatti: Sonáta D dur\, K 96 \n\n\nDomenico Scarlatti: Sonáta d moll\, K 141 \n\n\nFranz Schubert: 4 Impromptus\, D. 899 \n\n\nÚčinkující\n\nIvo Kahánek –⁠⁠⁠⁠⁠⁠ klavír
URL:https://operaplus.cz/akce/ivo-kahanek/
LOCATION:Rudolfinum — Sukova síň
CATEGORIES:Klasika o čtvrté
END:VEVENT
BEGIN:VEVENT
DTSTART;TZID=Europe/Prague:20251119T160000
DTEND;TZID=Europe/Prague:20251119T170000
DTSTAMP:20260423T134229
CREATED:20251108T190810Z
LAST-MODIFIED:20251108T190810Z
UID:208051-1763568000-1763571600@operaplus.cz
SUMMARY:Klasika o čtvrté – Antonín Dvořák
DESCRIPTION:Program\n  \n\nAntonín Dvořák: Romance f moll op. 11\nAntonín Dvořák: Romantické kusy op. 75\nAntonín Dvořák: Sonatina op. 100\n\nÚčinkující\n\nVáclav Hudeček – housle\nIvo Kahánek – klavír
URL:https://operaplus.cz/akce/klasika-o-ctvrte-antonin-dvorak/
LOCATION:Rudolfinum\, Praha\, Czech Republic
CATEGORIES:Klasika o čtvrté
END:VEVENT
END:VCALENDAR