BEGIN:VCALENDAR
VERSION:2.0
PRODID:-//Opera PLUS - ECPv6.15.13.1//NONSGML v1.0//EN
CALSCALE:GREGORIAN
METHOD:PUBLISH
X-ORIGINAL-URL:https://operaplus.cz
X-WR-CALDESC:Akce na Opera PLUS
REFRESH-INTERVAL;VALUE=DURATION:PT1H
X-Robots-Tag:noindex
X-PUBLISHED-TTL:PT1H
BEGIN:VTIMEZONE
TZID:Europe/Prague
BEGIN:DAYLIGHT
TZOFFSETFROM:+0100
TZOFFSETTO:+0200
TZNAME:CEST
DTSTART:20240331T010000
END:DAYLIGHT
BEGIN:STANDARD
TZOFFSETFROM:+0200
TZOFFSETTO:+0100
TZNAME:CET
DTSTART:20241027T010000
END:STANDARD
BEGIN:DAYLIGHT
TZOFFSETFROM:+0100
TZOFFSETTO:+0200
TZNAME:CEST
DTSTART:20250330T010000
END:DAYLIGHT
BEGIN:STANDARD
TZOFFSETFROM:+0200
TZOFFSETTO:+0100
TZNAME:CET
DTSTART:20251026T010000
END:STANDARD
BEGIN:DAYLIGHT
TZOFFSETFROM:+0100
TZOFFSETTO:+0200
TZNAME:CEST
DTSTART:20260329T010000
END:DAYLIGHT
BEGIN:STANDARD
TZOFFSETFROM:+0200
TZOFFSETTO:+0100
TZNAME:CET
DTSTART:20261025T010000
END:STANDARD
END:VTIMEZONE
BEGIN:VEVENT
DTSTART;TZID=Europe/Prague:20251231T160000
DTEND;TZID=Europe/Prague:20251231T170000
DTSTAMP:20260425T031442
CREATED:20251220T135233Z
LAST-MODIFIED:20251220T135233Z
UID:211372-1767196800-1767200400@operaplus.cz
SUMMARY:Silvestr s filharmonií
DESCRIPTION:Virtuozita a vtip v hlavní roli tradičního silvestrovského koncertu! Slovenský l’enfant miracle\, mladičký houslový virtuos vystřihne brilantní fantazii na motivy opery Carmen\, další sólista překvapí neméně. Věřte nebo ne\, do popředí se dostane psací stroj! \nÚčinkující\n\nTeo Gertler – housle\nKomorní filharmonie Pardubice\nStanislav Vavřínek – dirigent
URL:https://operaplus.cz/akce/silvestr-s-filharmonii/
LOCATION:Dům hudby\, Pardubice\, Czech Republic
CATEGORIES:Komorní filharmonie Pardubice
END:VEVENT
END:VCALENDAR