BEGIN:VCALENDAR
VERSION:2.0
PRODID:-//Opera PLUS - ECPv6.15.13.1//NONSGML v1.0//EN
CALSCALE:GREGORIAN
METHOD:PUBLISH
X-ORIGINAL-URL:https://operaplus.cz
X-WR-CALDESC:Akce na Opera PLUS
REFRESH-INTERVAL;VALUE=DURATION:PT1H
X-Robots-Tag:noindex
X-PUBLISHED-TTL:PT1H
BEGIN:VTIMEZONE
TZID:Europe/Prague
BEGIN:DAYLIGHT
TZOFFSETFROM:+0100
TZOFFSETTO:+0200
TZNAME:CEST
DTSTART:20250330T010000
END:DAYLIGHT
BEGIN:STANDARD
TZOFFSETFROM:+0200
TZOFFSETTO:+0100
TZNAME:CET
DTSTART:20251026T010000
END:STANDARD
BEGIN:DAYLIGHT
TZOFFSETFROM:+0100
TZOFFSETTO:+0200
TZNAME:CEST
DTSTART:20260329T010000
END:DAYLIGHT
BEGIN:STANDARD
TZOFFSETFROM:+0200
TZOFFSETTO:+0100
TZNAME:CET
DTSTART:20261025T010000
END:STANDARD
BEGIN:DAYLIGHT
TZOFFSETFROM:+0100
TZOFFSETTO:+0200
TZNAME:CEST
DTSTART:20270328T010000
END:DAYLIGHT
BEGIN:STANDARD
TZOFFSETFROM:+0200
TZOFFSETTO:+0100
TZNAME:CET
DTSTART:20271031T010000
END:STANDARD
END:VTIMEZONE
BEGIN:VEVENT
DTSTART;TZID=Europe/Prague:20260119T180000
DTEND;TZID=Europe/Prague:20260119T200000
DTSTAMP:20260425T031333
CREATED:20260116T165344Z
LAST-MODIFIED:20260116T165344Z
UID:212891-1768845600-1768852800@operaplus.cz
SUMMARY:BRAHMS & BEETHOVEN
DESCRIPTION:Program\n\nJohannes Brahms: Dvojkoncert pro housle a violoncello a moll op. 102\nLudwig van Beethoven: Symfonie č. 2 D dur op. 36\n\nÚčinkující\n\nLeoš Čepický – housle\nMichal Kaňka – violoncello\nKomorní filharmonie Pardubice\nVahan Mardirossian – dirigent
URL:https://operaplus.cz/akce/brahms-beethoven/
LOCATION:Dům hudby\, Pardubice\, Czech Republic
CATEGORIES:Komorní filharmonie Pardubice
END:VEVENT
END:VCALENDAR