BEGIN:VCALENDAR
VERSION:2.0
PRODID:-//Opera PLUS - ECPv6.15.13.1//NONSGML v1.0//EN
CALSCALE:GREGORIAN
METHOD:PUBLISH
X-WR-CALNAME:Opera PLUS
X-ORIGINAL-URL:https://operaplus.cz
X-WR-CALDESC:Akce na Opera PLUS
REFRESH-INTERVAL;VALUE=DURATION:PT1H
X-Robots-Tag:noindex
X-PUBLISHED-TTL:PT1H
BEGIN:VTIMEZONE
TZID:Europe/Prague
BEGIN:DAYLIGHT
TZOFFSETFROM:+0100
TZOFFSETTO:+0200
TZNAME:CEST
DTSTART:20250330T010000
END:DAYLIGHT
BEGIN:STANDARD
TZOFFSETFROM:+0200
TZOFFSETTO:+0100
TZNAME:CET
DTSTART:20251026T010000
END:STANDARD
BEGIN:DAYLIGHT
TZOFFSETFROM:+0100
TZOFFSETTO:+0200
TZNAME:CEST
DTSTART:20260329T010000
END:DAYLIGHT
BEGIN:STANDARD
TZOFFSETFROM:+0200
TZOFFSETTO:+0100
TZNAME:CET
DTSTART:20261025T010000
END:STANDARD
BEGIN:DAYLIGHT
TZOFFSETFROM:+0100
TZOFFSETTO:+0200
TZNAME:CEST
DTSTART:20270328T010000
END:DAYLIGHT
BEGIN:STANDARD
TZOFFSETFROM:+0200
TZOFFSETTO:+0100
TZNAME:CET
DTSTART:20271031T010000
END:STANDARD
END:VTIMEZONE
BEGIN:VEVENT
DTSTART;TZID=Europe/Prague:20260409T190000
DTEND;TZID=Europe/Prague:20260409T220000
DTSTAMP:20260425T135804
CREATED:20260328T202001Z
LAST-MODIFIED:20260328T202001Z
UID:218225-1775761200-1775772000@operaplus.cz
SUMMARY:TI NEJLEPŠÍ Z HAMU
DESCRIPTION:Program\n\n\nLudwig van Beethoven: Coriolan Overture\, Op. 62 \n\n\nFelix Mendelssohn-Bartholdy: Violin Concerto in E minor\, Op. 64 \n\n\nLudwig van Beethoven: Piano Concerto No. 4 in G major\, Op. 58 \n\n\nÚčinkující\n\n\nKateřina Vítečková – housle \n\n\nPavol Praženica – klavír \n\n\nKomorní filharmonie Pardubice \n\n\nIgor Karpilovskij – dirigent
URL:https://operaplus.cz/akce/ti-nejlepsi-z-hamu/
LOCATION:Dům hudby\, Pardubice\, Czech Republic
CATEGORIES:Komorní filharmonie Pardubice
END:VEVENT
BEGIN:VEVENT
DTSTART;TZID=Europe/Prague:20260420T190000
DTEND;TZID=Europe/Prague:20260420T220000
DTSTAMP:20260425T135804
CREATED:20260412T195918Z
LAST-MODIFIED:20260412T195941Z
UID:219235-1776711600-1776722400@operaplus.cz
SUMMARY:Leoš Svárovský
DESCRIPTION:Program\n\nJosef Vejvoda: Tři malé lásky\nJean Françaix: L‘horloge de flore pro hoboj a komorní orchestr\nRobert Schumann: Symfonie č. 1 B dur op. 38 Jarní\n\nÚčinkující\n\nFelicia Greciuc – hoboj\nKomorní filharmonie Pardubice\nLeoš Svárovský – dirigent
URL:https://operaplus.cz/akce/leos-svarovsky/
LOCATION:Dům hudby\, Pardubice\, Czech Republic
CATEGORIES:Komorní filharmonie Pardubice
END:VEVENT
BEGIN:VEVENT
DTSTART;TZID=Europe/Prague:20260422T190000
DTEND;TZID=Europe/Prague:20260422T220000
DTSTAMP:20260425T135804
CREATED:20260412T200031Z
LAST-MODIFIED:20260412T200031Z
UID:219239-1776884400-1776895200@operaplus.cz
SUMMARY:Leoš Svárovský
DESCRIPTION:Program\n\nJosef Vejvoda: Tři malé lásky\nJean Françaix: L‘horloge de flore pro hoboj a komorní orchestr\nRobert Schumann: Symfonie č. 1 B dur op. 38 Jarní\n\nÚčinkující\n\nFelicia Greciuc – hoboj\nKomorní filharmonie Pardubice\nLeoš Svárovský – dirigent
URL:https://operaplus.cz/akce/leos-svarovsky-2/
LOCATION:Dům hudby\, Pardubice\, Czech Republic
CATEGORIES:Komorní filharmonie Pardubice
END:VEVENT
BEGIN:VEVENT
DTSTART;TZID=Europe/Prague:20260430T190000
DTEND;TZID=Europe/Prague:20260430T220000
DTSTAMP:20260425T135804
CREATED:20260421T120608Z
LAST-MODIFIED:20260421T120608Z
UID:219920-1777575600-1777586400@operaplus.cz
SUMMARY:OPERNÍ ÁRIE\, PULCINELLA & BEETHOVENOVA OSMÁ
DESCRIPTION:Program\n\n\nWolfgang Amadeus Mozart: Le nozze di Figaro\, K. 492 – předehra \n\n\nWolfgang Amadeus Mozart: Le nozze di Figaro – recitativ a árie Zuzanky „Giunse alfin il momento… Deh vieni\, non tardar“ \n\n\nWolfgang Amadeus Mozart: Così fan tutte – recitativ a árie Fiordiligi „Temerari… Come scoglio“ \n\n\nIgor Stravinskij: Pulcinella – suita \n\n\nFelix Mendelssohn-Bartholdy: Hebridy (Fingalova jeskyně)\, předehra \n\n\nAntonín Dvořák: Svatební košile\, op. 69 – sopránové sólo „Žel bohu\, žel\, kde můj tatíček?“ \n\n\nLudwig van Beethoven: Symfonie č. 8 \n\n\nÚčinkující\n\nHee Eliška Kang – soprán\nKomorní filharmonie Pardubice\nmezinárodní tým dirigentů
URL:https://operaplus.cz/akce/operni-arie-pulcinella-beethovenova-osma/
LOCATION:Dům hudby\, Pardubice\, Czech Republic
CATEGORIES:Komorní filharmonie Pardubice
END:VEVENT
END:VCALENDAR