BEGIN:VCALENDAR
VERSION:2.0
PRODID:-//Opera PLUS - ECPv6.15.13.1//NONSGML v1.0//EN
CALSCALE:GREGORIAN
METHOD:PUBLISH
X-ORIGINAL-URL:https://operaplus.cz
X-WR-CALDESC:Akce na Opera PLUS
REFRESH-INTERVAL;VALUE=DURATION:PT1H
X-Robots-Tag:noindex
X-PUBLISHED-TTL:PT1H
BEGIN:VTIMEZONE
TZID:Europe/Helsinki
BEGIN:DAYLIGHT
TZOFFSETFROM:+0200
TZOFFSETTO:+0300
TZNAME:EEST
DTSTART:20240331T010000
END:DAYLIGHT
BEGIN:STANDARD
TZOFFSETFROM:+0300
TZOFFSETTO:+0200
TZNAME:EET
DTSTART:20241027T010000
END:STANDARD
BEGIN:DAYLIGHT
TZOFFSETFROM:+0200
TZOFFSETTO:+0300
TZNAME:EEST
DTSTART:20250330T010000
END:DAYLIGHT
BEGIN:STANDARD
TZOFFSETFROM:+0300
TZOFFSETTO:+0200
TZNAME:EET
DTSTART:20251026T010000
END:STANDARD
BEGIN:DAYLIGHT
TZOFFSETFROM:+0200
TZOFFSETTO:+0300
TZNAME:EEST
DTSTART:20260329T010000
END:DAYLIGHT
BEGIN:STANDARD
TZOFFSETFROM:+0300
TZOFFSETTO:+0200
TZNAME:EET
DTSTART:20261025T010000
END:STANDARD
END:VTIMEZONE
BEGIN:VEVENT
DTSTART;TZID=Europe/Helsinki:20250926T090000
DTEND;TZID=Europe/Helsinki:20250926T100000
DTSTAMP:20260424T142831
CREATED:20250920T122823Z
LAST-MODIFIED:20250920T122954Z
UID:203228-1758877200-1758880800@operaplus.cz
SUMMARY:Lednicko-valticko hudební festival –⁠⁠⁠⁠⁠⁠ Edukační koncert pro I. stupeň ZŠ a ZUŠ
DESCRIPTION:Moderovaný edukační dvoj-koncert „Co jsou žestě“ zaměřený na americkou hudbu \nEdukativní koncert komorního uskupení Moravia Brass Bandu popularizuje hru na žesťové nástroje mezi mladými posluchači. Koncert nejenže představuje žesťové nástroje základní\, jako jsou trubka\, lesní roh\, trombon a tuba\, či příbuzné – pikolo trubku\, křídlovku\, eufonium\, tenorovou tubu a další\, ale ukazuje nástroje v jejich přirozeném prostředí. To znamená\, že přináší dětem multižánrový přesah těchto zajímavých nástrojů pomocí aranžmá klasické\, filmové\, jazzové a folklorní hudby. Cílem je také obsáhnout souvislosti mezi českou dechovou hudbou a hudbou z celého světa se zaměřením na hudbu americkou. Koncert poutavě uvádí Jiří Kokmotos a nechybí bicí sekce\, která podtrhuje atmosféru celého koncertu. \nÚčinkující\n\nKomorní uskupení Moravia Brass Bandu\nJiří Kokmotos –⁠⁠⁠⁠⁠⁠ moderace
URL:https://operaplus.cz/akce/lednicko-valticko-hudebni-festival-%e2%81%a0%e2%81%a0%e2%81%a0%e2%81%a0%e2%81%a0%e2%81%a0-edukacni-koncert-pro-i-stupen-zs-a-zus/
LOCATION:Zámecká jízdárna\, Valtice
CATEGORIES:Lednicko-valtický hudební festival
END:VEVENT
BEGIN:VEVENT
DTSTART;TZID=Europe/Helsinki:20250926T110000
DTEND;TZID=Europe/Helsinki:20250926T120000
DTSTAMP:20260424T142831
CREATED:20250920T123118Z
LAST-MODIFIED:20250920T123118Z
UID:203233-1758884400-1758888000@operaplus.cz
SUMMARY:Lednicko-valticko hudební festival –⁠⁠⁠⁠⁠⁠ Edukační koncert pro I. stupeň ZŠ a ZUŠ
DESCRIPTION:Moderovaný edukační dvoj-koncert „Co jsou žestě“ zaměřený na americkou hudbu \nEdukativní koncert komorního uskupení Moravia Brass Bandu popularizuje hru na žesťové nástroje mezi mladými posluchači. Koncert nejenže představuje žesťové nástroje základní\, jako jsou trubka\, lesní roh\, trombon a tuba\, či příbuzné – pikolo trubku\, křídlovku\, eufonium\, tenorovou tubu a další\, ale ukazuje nástroje v jejich přirozeném prostředí. To znamená\, že přináší dětem multižánrový přesah těchto zajímavých nástrojů pomocí aranžmá klasické\, filmové\, jazzové a folklorní hudby. Cílem je také obsáhnout souvislosti mezi českou dechovou hudbou a hudbou z celého světa se zaměřením na hudbu americkou. Koncert poutavě uvádí Jiří Kokmotos a nechybí bicí sekce\, která podtrhuje atmosféru celého koncertu. \n\nÚčinkující\n\nKomorní uskupení Moravia Brass Bandu\nJiří Kokmotos –⁠⁠⁠⁠⁠⁠ moderace
URL:https://operaplus.cz/akce/lednicko-valticko-hudebni-festival-%e2%81%a0%e2%81%a0%e2%81%a0%e2%81%a0%e2%81%a0%e2%81%a0-edukacni-koncert-pro-i-stupen-zs-a-zus-2/
LOCATION:Zámecká jízdárna\, Valtice
CATEGORIES:Lednicko-valtický hudební festival
END:VEVENT
BEGIN:VEVENT
DTSTART;TZID=Europe/Helsinki:20250927T190000
DTEND;TZID=Europe/Helsinki:20250927T210000
DTSTAMP:20260424T142831
CREATED:20250920T123527Z
LAST-MODIFIED:20250920T123527Z
UID:203235-1758999600-1759006800@operaplus.cz
SUMMARY:Lednicko-valticko hudební festival –⁠⁠⁠⁠⁠⁠ Slavnostní zahájení LVHF 2025
DESCRIPTION:Program\n\nLeonard Bernstein: Candide\, předehra\nGeorge Gershwin: Rapsodie v modrém\nLeonard Bernstein: Symfonické tance z West Side Story\n\nÚčinkující\n\nBoris Giltburg – klavír\nJanáčkova filharmonie Ostrava\nFrancesco Lecce-Chong – dirigent
URL:https://operaplus.cz/akce/lednicko-valticko-hudebni-festival-%e2%81%a0%e2%81%a0%e2%81%a0%e2%81%a0%e2%81%a0%e2%81%a0-slavnostni-zahajeni-lvhf-2025/
LOCATION:Zámecká jízdárna\, Valtice
CATEGORIES:Lednicko-valtický hudební festival
END:VEVENT
BEGIN:VEVENT
DTSTART;TZID=Europe/Helsinki:20250928T080000
DTEND;TZID=Europe/Helsinki:20250928T170000
DTSTAMP:20260424T142831
CREATED:20250928T203716Z
LAST-MODIFIED:20250928T203716Z
UID:204283-1759046400-1759078800@operaplus.cz
SUMMARY:Lednicko-valtický hudební festival – LIFE: Cesta časem
DESCRIPTION:Účinkující\n\nOrchestr Berg\nPhilip Glass – skladatel
URL:https://operaplus.cz/akce/lednicko-valticky-hudebni-festival-life-cesta-casem/
LOCATION:Zámek Mikulov\, Mikulov\, Czech Republic
CATEGORIES:Lednicko-valtický hudební festival
END:VEVENT
BEGIN:VEVENT
DTSTART;TZID=Europe/Helsinki:20250928T160000
DTEND;TZID=Europe/Helsinki:20250928T170000
DTSTAMP:20260424T142831
CREATED:20250920T123833Z
LAST-MODIFIED:20250920T123833Z
UID:203238-1759075200-1759078800@operaplus.cz
SUMMARY:Lednicko-valticko hudební festival – Rendezvous s Bellou
DESCRIPTION:Program\n\nSamuel Barber: Dover Beach\, op. 3\, H-63\nCaroline Shaw: O Death\nCaroline Shaw: Cant voi l’aube\nCaroline Shaw: Will there be any Stars in my crown\nCaroline Shaw: And so\nAntonín Dvořák: Smyčcový kvartet č. 12 F dur\, op. 96\, B179 „Americký“\n\nÚčinkující\n\nBella Adamova – mezzosoprán\nŠkampovo kvarteto
URL:https://operaplus.cz/akce/lednicko-valticko-hudebni-festival-rendezvous-s-bellou/
LOCATION:Dianin chrám\, Valtice
CATEGORIES:Lednicko-valtický hudební festival
END:VEVENT
END:VCALENDAR