BEGIN:VCALENDAR
VERSION:2.0
PRODID:-//Opera PLUS - ECPv6.15.13.1//NONSGML v1.0//EN
CALSCALE:GREGORIAN
METHOD:PUBLISH
X-WR-CALNAME:Opera PLUS
X-ORIGINAL-URL:https://operaplus.cz
X-WR-CALDESC:Akce na Opera PLUS
REFRESH-INTERVAL;VALUE=DURATION:PT1H
X-Robots-Tag:noindex
X-PUBLISHED-TTL:PT1H
BEGIN:VTIMEZONE
TZID:Europe/Prague
BEGIN:DAYLIGHT
TZOFFSETFROM:+0100
TZOFFSETTO:+0200
TZNAME:CEST
DTSTART:20250330T010000
END:DAYLIGHT
BEGIN:STANDARD
TZOFFSETFROM:+0200
TZOFFSETTO:+0100
TZNAME:CET
DTSTART:20251026T010000
END:STANDARD
BEGIN:DAYLIGHT
TZOFFSETFROM:+0100
TZOFFSETTO:+0200
TZNAME:CEST
DTSTART:20260329T010000
END:DAYLIGHT
BEGIN:STANDARD
TZOFFSETFROM:+0200
TZOFFSETTO:+0100
TZNAME:CET
DTSTART:20261025T010000
END:STANDARD
BEGIN:DAYLIGHT
TZOFFSETFROM:+0100
TZOFFSETTO:+0200
TZNAME:CEST
DTSTART:20270328T010000
END:DAYLIGHT
BEGIN:STANDARD
TZOFFSETFROM:+0200
TZOFFSETTO:+0100
TZNAME:CET
DTSTART:20271031T010000
END:STANDARD
END:VTIMEZONE
BEGIN:VEVENT
DTSTART;TZID=Europe/Prague:20260102T190000
DTEND;TZID=Europe/Prague:20260102T220000
DTSTAMP:20260423T082249
CREATED:20251220T141240Z
LAST-MODIFIED:20251220T141240Z
UID:211374-1767380400-1767391200@operaplus.cz
SUMMARY:Novoroční koncert
DESCRIPTION:Program\n\nFrantišek Škroup: Hymna ČR\nJoseph Haydn: Symfonie č. 101 D dur Hodiny Hob. I/109\nPavel Vranický: Sinfonia quodlibet 1. věta\nClaude Debussy: Preludium k Faunovu odpoledni\nSergej Rachmaninov: Vocalise\nFranz Waxman: Carmen Fantasie\n\nÚčinkující\n\nTeo Gertler – housle\nKomorní filharmonie Pardubice\nStanislav Vavřínek – dirigent
URL:https://operaplus.cz/akce/novorocni-koncert-3/
LOCATION:Městské divadlo Jablonec nad Nisou\, Jablonec nad Nisou\, Czech Republic
CATEGORIES:Městské divadlo Jablonec nad Nisou
END:VEVENT
END:VCALENDAR