BEGIN:VCALENDAR
VERSION:2.0
PRODID:-//Opera PLUS - ECPv6.15.13.1//NONSGML v1.0//EN
CALSCALE:GREGORIAN
METHOD:PUBLISH
X-WR-CALNAME:Opera PLUS
X-ORIGINAL-URL:https://operaplus.cz
X-WR-CALDESC:Akce na Opera PLUS
REFRESH-INTERVAL;VALUE=DURATION:PT1H
X-Robots-Tag:noindex
X-PUBLISHED-TTL:PT1H
BEGIN:VTIMEZONE
TZID:Europe/Prague
BEGIN:DAYLIGHT
TZOFFSETFROM:+0100
TZOFFSETTO:+0200
TZNAME:CEST
DTSTART:20240331T010000
END:DAYLIGHT
BEGIN:STANDARD
TZOFFSETFROM:+0200
TZOFFSETTO:+0100
TZNAME:CET
DTSTART:20241027T010000
END:STANDARD
BEGIN:DAYLIGHT
TZOFFSETFROM:+0100
TZOFFSETTO:+0200
TZNAME:CEST
DTSTART:20250330T010000
END:DAYLIGHT
BEGIN:STANDARD
TZOFFSETFROM:+0200
TZOFFSETTO:+0100
TZNAME:CET
DTSTART:20251026T010000
END:STANDARD
BEGIN:DAYLIGHT
TZOFFSETFROM:+0100
TZOFFSETTO:+0200
TZNAME:CEST
DTSTART:20260329T010000
END:DAYLIGHT
BEGIN:STANDARD
TZOFFSETFROM:+0200
TZOFFSETTO:+0100
TZNAME:CET
DTSTART:20261025T010000
END:STANDARD
END:VTIMEZONE
BEGIN:VEVENT
DTSTART;TZID=Europe/Prague:20251124T193000
DTEND;TZID=Europe/Prague:20251124T220000
DTSTAMP:20260425T050520
CREATED:20251116T204457Z
LAST-MODIFIED:20251119T094645Z
UID:208710-1764012600-1764021600@operaplus.cz
SUMMARY:Operní gala – L’amour. Benjamin Bernheim & Sandra Hamaoui
DESCRIPTION:Účinkující\n\nBenjamin Bernheim – tenor\nSandra Hamaoui – soprán\nPrague Philharmonia\nNicolas André – dirigent
URL:https://operaplus.cz/akce/operni-gala-lamour-benjamin-bernheim-sandra-hamaoui/
LOCATION:Obecní dům\, Smetanova síň
CATEGORIES:Nachtigall Artists
END:VEVENT
END:VCALENDAR