BEGIN:VCALENDAR
VERSION:2.0
PRODID:-//Opera PLUS - ECPv6.15.13.1//NONSGML v1.0//EN
CALSCALE:GREGORIAN
METHOD:PUBLISH
X-ORIGINAL-URL:https://operaplus.cz
X-WR-CALDESC:Akce na Opera PLUS
REFRESH-INTERVAL;VALUE=DURATION:PT1H
X-Robots-Tag:noindex
X-PUBLISHED-TTL:PT1H
BEGIN:VTIMEZONE
TZID:Europe/Prague
BEGIN:DAYLIGHT
TZOFFSETFROM:+0100
TZOFFSETTO:+0200
TZNAME:CEST
DTSTART:20240331T010000
END:DAYLIGHT
BEGIN:STANDARD
TZOFFSETFROM:+0200
TZOFFSETTO:+0100
TZNAME:CET
DTSTART:20241027T010000
END:STANDARD
BEGIN:DAYLIGHT
TZOFFSETFROM:+0100
TZOFFSETTO:+0200
TZNAME:CEST
DTSTART:20250330T010000
END:DAYLIGHT
BEGIN:STANDARD
TZOFFSETFROM:+0200
TZOFFSETTO:+0100
TZNAME:CET
DTSTART:20251026T010000
END:STANDARD
BEGIN:DAYLIGHT
TZOFFSETFROM:+0100
TZOFFSETTO:+0200
TZNAME:CEST
DTSTART:20260329T010000
END:DAYLIGHT
BEGIN:STANDARD
TZOFFSETFROM:+0200
TZOFFSETTO:+0100
TZNAME:CET
DTSTART:20261025T010000
END:STANDARD
END:VTIMEZONE
BEGIN:VEVENT
DTSTART;TZID=Europe/Prague:20251110T200000
DTEND;TZID=Europe/Prague:20251110T220000
DTSTAMP:20260424T030212
CREATED:20251030T222426Z
LAST-MODIFIED:20251030T222426Z
UID:207475-1762804800-1762812000@operaplus.cz
SUMMARY:Prague Sounds – Oneohtrix Point Never
DESCRIPTION:Audiovizuální kouzelník a jedna z největších osobností současné experimentální elektronické scény. \nVizionář elektronické hudby! Takového výjimečného označení se dostalo Danielu Lopatinovi aka Oneohtrix Point Never z mnoha stran. Produkoval nahrávky pro Davida Byrnea\, psal pro FKA Twigs nebo Anohni\, složil hudbu k filmům Dobrý časy a Drahokam. Co ho ale odlišuje od všech ostatních\, je jeho sólová tvorba\, která mu vynesla pověst jednoho z největších hudebních průkopníků současnosti. Hudba vždy nezaměnitelná a originální\, která vstřebává neuvěřitelnou šíři vlivů – od minimalismu přes noise až po koláže. Ve svých skladbách spojuje staré a nové – samply\, syntetizátory i akustické nástroje\, útržky archivních televizních dialogů nebo devadesátkových reklam\, občas si udělá výlet do popu\, altrocku\, minimalismu nebo noiseové hudby. Jeho skladby jsou někdy temné\, ale někdy vás dokáží odzbrojit poklidnou náladou a atmosférou současného popu.
URL:https://operaplus.cz/akce/prague-sounds-oneohtrix-point-never/
LOCATION:Nová Spirála\, Praha\, Czech Republic
CATEGORIES:Prague Sounds
END:VEVENT
END:VCALENDAR