BEGIN:VCALENDAR
VERSION:2.0
PRODID:-//Opera PLUS - ECPv6.15.13.1//NONSGML v1.0//EN
CALSCALE:GREGORIAN
METHOD:PUBLISH
X-WR-CALNAME:Opera PLUS
X-ORIGINAL-URL:https://operaplus.cz
X-WR-CALDESC:Akce na Opera PLUS
REFRESH-INTERVAL;VALUE=DURATION:PT1H
X-Robots-Tag:noindex
X-PUBLISHED-TTL:PT1H
BEGIN:VTIMEZONE
TZID:Europe/Prague
BEGIN:DAYLIGHT
TZOFFSETFROM:+0100
TZOFFSETTO:+0200
TZNAME:CEST
DTSTART:20240331T010000
END:DAYLIGHT
BEGIN:STANDARD
TZOFFSETFROM:+0200
TZOFFSETTO:+0100
TZNAME:CET
DTSTART:20241027T010000
END:STANDARD
BEGIN:DAYLIGHT
TZOFFSETFROM:+0100
TZOFFSETTO:+0200
TZNAME:CEST
DTSTART:20250330T010000
END:DAYLIGHT
BEGIN:STANDARD
TZOFFSETFROM:+0200
TZOFFSETTO:+0100
TZNAME:CET
DTSTART:20251026T010000
END:STANDARD
BEGIN:DAYLIGHT
TZOFFSETFROM:+0100
TZOFFSETTO:+0200
TZNAME:CEST
DTSTART:20260329T010000
END:DAYLIGHT
BEGIN:STANDARD
TZOFFSETFROM:+0200
TZOFFSETTO:+0100
TZNAME:CET
DTSTART:20261025T010000
END:STANDARD
END:VTIMEZONE
BEGIN:VTIMEZONE
TZID:Europe/Helsinki
BEGIN:DAYLIGHT
TZOFFSETFROM:+0200
TZOFFSETTO:+0300
TZNAME:EEST
DTSTART:20240331T010000
END:DAYLIGHT
BEGIN:STANDARD
TZOFFSETFROM:+0300
TZOFFSETTO:+0200
TZNAME:EET
DTSTART:20241027T010000
END:STANDARD
BEGIN:DAYLIGHT
TZOFFSETFROM:+0200
TZOFFSETTO:+0300
TZNAME:EEST
DTSTART:20250330T010000
END:DAYLIGHT
BEGIN:STANDARD
TZOFFSETFROM:+0300
TZOFFSETTO:+0200
TZNAME:EET
DTSTART:20251026T010000
END:STANDARD
BEGIN:DAYLIGHT
TZOFFSETFROM:+0200
TZOFFSETTO:+0300
TZNAME:EEST
DTSTART:20260329T010000
END:DAYLIGHT
BEGIN:STANDARD
TZOFFSETFROM:+0300
TZOFFSETTO:+0200
TZNAME:EET
DTSTART:20261025T010000
END:STANDARD
END:VTIMEZONE
BEGIN:VEVENT
DTSTART;TZID=Europe/Prague:20251119T200000
DTEND;TZID=Europe/Prague:20251119T220000
DTSTAMP:20260423T233613
CREATED:20251113T093748Z
LAST-MODIFIED:20251113T093748Z
UID:208298-1763582400-1763589600@operaplus.cz
SUMMARY:Cécile McLorin Salvant
DESCRIPTION:Absolutní špička mezi současnými jazzovými zpěvačkami\, ačkoliv označení „jazz“ je pro její tvorbu\, překračující hranice žánrů\, jazyků i performativního umění velmi těsné. \nPitchfork ji kdysi označil za „vůdčí osobnost generace moderních jazzových zpěvaček“\, Cécile McLorin Salvant je ale známá především tím\, že neustále posouvá hranice formy jazzu a do své hudby vnáší prvky vaudevillu\, blues\, folku\, barokní hudby i divadla. Je trojnásobnou držitelkou Grammy a v roce 2020 získala také prestižní MacArthurovo stipendium. Za výjimečný talent ji považují i její slovutní hudební kolegové – Wynton Marsalis o ní prohlásil: „Taková zpěvačka se objeví jednou za generaci\, možná za dvě.“
URL:https://operaplus.cz/akce/cecile-mclorin-salvant/
LOCATION:Lucerna\, Praha\, Czech Republic
CATEGORIES:Prague Sounds
END:VEVENT
BEGIN:VEVENT
DTSTART;TZID=Europe/Prague:20251117T090000
DTEND;TZID=Europe/Prague:20251117T210000
DTSTAMP:20260423T233613
CREATED:20251108T194550Z
LAST-MODIFIED:20251108T194550Z
UID:208068-1763370000-1763413200@operaplus.cz
SUMMARY:Prague Sounds – Soundtrack of Prague
DESCRIPTION:Unikátní audiovizuální esej o listopadových událostech v kontextu tehdejší architektury a života v metropoli\, která se bude promítat na projekční plochu 24×4 metry. \nEnergie a vnitřní nutnost studentů v boji za svobodu a demokracii sehrály klíčovou roli během Sametové revoluce. Byli to oni\, kdo zvedli celou společnost\, a byli to oni\, kdo informovali veřejnost po celé zemi o listopadových událostech. \nAudiovizuální esej\, vytvořená k 35. výročí boje za svobodu a demokracii\, zachycuje listopadové události v centru Prahy a zasazuje je do širšího historického kontextu prostřednictvím unikátních filmových záběrů\, fotografií a dobových map města. Po úspěšném uvedení 17. listopadu v CAMPu v loňském roce se projekce bude opakovat i letos\, a to ve 20minutové smyčce.
URL:https://operaplus.cz/akce/prague-sounds-soundtrack-of-prague/
LOCATION:CAMP\, Praha\, Czech Republic
CATEGORIES:Prague Sounds
END:VEVENT
BEGIN:VEVENT
DTSTART;TZID=Europe/Prague:20251116T200000
DTEND;TZID=Europe/Prague:20251116T220000
DTSTAMP:20260423T233613
CREATED:20251030T222729Z
LAST-MODIFIED:20251030T222729Z
UID:207478-1763323200-1763330400@operaplus.cz
SUMMARY:Prague Sounds – Berwyn Moses Yoofee Trio
DESCRIPTION:Prague Sounds uvádí speciální dvojkoncert mladých umělců stojících v čele současné hudby. Jedinečný a podmanivý hlas současné britské hudební scény – Berwyn\, rodák z Trinidadu usazený v Londýně\, mísí rap\, r’n’b a poezii do hluboce osobního a politicky angažovaného amalgámu. Jedna z nejžhavějších kapel nové jazzové vlny\, berlínští Moses Yoofee Trio\, pak přiveze na festival svou energickou show ovlivněnou hip-hopem i soulem.
URL:https://operaplus.cz/akce/prague-sounds-berwyn-moses-yoofee-trio/
LOCATION:Lucerna Music Bar\, Praha\, Czech Republic
CATEGORIES:Prague Sounds
END:VEVENT
BEGIN:VEVENT
DTSTART;TZID=Europe/Prague:20251113T193000
DTEND;TZID=Europe/Prague:20251113T220000
DTSTAMP:20260423T233613
CREATED:20251030T222154Z
LAST-MODIFIED:20251030T222154Z
UID:207473-1763062200-1763071200@operaplus.cz
SUMMARY:Prague Sounds – Idea's Choice
DESCRIPTION:Jedinečný rapový summit v osobním výběru kurátora Idey. \nFestivalový projekt Choice vystavuje bianco šek inspirativní osobnosti ve svém žánru. Po loňské kurátorce Katarzii\, která v komorním formátu představila mladé songwriterky\, pojal letošní kurátor Idea svůj výběr odlišně a zcela po svém. Choice je v jeho podání vlastně jakýmsi rapovým summitem s více než třiceti účinkujícími a MCs a bezprecedentní oslavou české hip hopové a rapové scény.
URL:https://operaplus.cz/akce/prague-sounds-ideas-choice/
LOCATION:La Fabrika\, Praha\, Czech Republic
CATEGORIES:Prague Sounds
END:VEVENT
BEGIN:VEVENT
DTSTART;TZID=Europe/Prague:20251110T200000
DTEND;TZID=Europe/Prague:20251110T220000
DTSTAMP:20260423T233613
CREATED:20251030T222426Z
LAST-MODIFIED:20251030T222426Z
UID:207475-1762804800-1762812000@operaplus.cz
SUMMARY:Prague Sounds – Oneohtrix Point Never
DESCRIPTION:Audiovizuální kouzelník a jedna z největších osobností současné experimentální elektronické scény. \nVizionář elektronické hudby! Takového výjimečného označení se dostalo Danielu Lopatinovi aka Oneohtrix Point Never z mnoha stran. Produkoval nahrávky pro Davida Byrnea\, psal pro FKA Twigs nebo Anohni\, složil hudbu k filmům Dobrý časy a Drahokam. Co ho ale odlišuje od všech ostatních\, je jeho sólová tvorba\, která mu vynesla pověst jednoho z největších hudebních průkopníků současnosti. Hudba vždy nezaměnitelná a originální\, která vstřebává neuvěřitelnou šíři vlivů – od minimalismu přes noise až po koláže. Ve svých skladbách spojuje staré a nové – samply\, syntetizátory i akustické nástroje\, útržky archivních televizních dialogů nebo devadesátkových reklam\, občas si udělá výlet do popu\, altrocku\, minimalismu nebo noiseové hudby. Jeho skladby jsou někdy temné\, ale někdy vás dokáží odzbrojit poklidnou náladou a atmosférou současného popu.
URL:https://operaplus.cz/akce/prague-sounds-oneohtrix-point-never/
LOCATION:Nová Spirála\, Praha\, Czech Republic
CATEGORIES:Prague Sounds
END:VEVENT
BEGIN:VEVENT
DTSTART;TZID=Europe/Helsinki:20251108T190000
DTEND;TZID=Europe/Helsinki:20251108T220000
DTSTAMP:20260423T233613
CREATED:20251022T181224Z
LAST-MODIFIED:20251022T182300Z
UID:206789-1762628400-1762639200@operaplus.cz
SUMMARY:Prague Sounds – Nate Smith
DESCRIPTION:Jeden z nejvlivnějších a nejuznávanějších bubeníků nejen v jazzové sféře přiváží do Prahy svůj sólový projekt\, a to v sestavě s baskytaristou Michaelem Leaguem ze Snarky Puppy. \nÚčinkující\n\nNate Smith – bicí nástroje
URL:https://operaplus.cz/akce/prague-sounds-nate-smith/
LOCATION:Lucerna Music Bar\, Praha\, Czech Republic
CATEGORIES:Prague Sounds
END:VEVENT
BEGIN:VEVENT
DTSTART;TZID=Europe/Helsinki:20251107T200000
DTEND;TZID=Europe/Helsinki:20251107T220000
DTSTAMP:20260423T233613
CREATED:20251022T181530Z
LAST-MODIFIED:20251022T182451Z
UID:206792-1762545600-1762552800@operaplus.cz
SUMMARY:Prague Sounds – Sō Percussion & Caroline Shaw
DESCRIPTION:S čerstvou Grammy na kontě představí americké těleso Sō Percussion svou strhující spolupráci s průkopnickou skladatelkou a zpěvačkou Caroline Shaw. \nÚčinkující\n\nCaroline Shaw – zpěv\nSō Percussion
URL:https://operaplus.cz/akce/prague-sounds-so-percussion-caroline-shaw/
LOCATION:La Fabrika\, Praha\, Czech Republic
CATEGORIES:Prague Sounds
END:VEVENT
BEGIN:VEVENT
DTSTART;TZID=Europe/Helsinki:20251105T200000
DTEND;TZID=Europe/Helsinki:20251105T220000
DTSTAMP:20260423T233613
CREATED:20251022T181837Z
LAST-MODIFIED:20251022T181837Z
UID:206795-1762372800-1762380000@operaplus.cz
SUMMARY:Prague Sounds – Lambchop
DESCRIPTION:Kurt Wagner\, frontman legendárních Lambchop\, představí kapelní tvorbu ve vzácném intimním pojetí – pouze za doprovodu pianisty Andrewa Brodera. \nÚčinkující\n\nKurt Wagner – zpěv\nAndrew Broder – klavír
URL:https://operaplus.cz/akce/prague-sounds-lambchop/
LOCATION:Divadlo X10\, Praha\, Czech Republic
CATEGORIES:Prague Sounds
END:VEVENT
BEGIN:VEVENT
DTSTART;TZID=Europe/Helsinki:20251104T200000
DTEND;TZID=Europe/Helsinki:20251104T220000
DTSTAMP:20260423T233613
CREATED:20251022T182801Z
LAST-MODIFIED:20251022T182801Z
UID:206800-1762286400-1762293600@operaplus.cz
SUMMARY:Prague Sounds – Arooj Aftab
DESCRIPTION:Hlas jedné z nejodvážnějších umělkyň současnosti nás přenese do jiných světů na pomezí pákistánské hudby a jazzu. \nÚčinkující\n\nArooj Aftab – zpěv
URL:https://operaplus.cz/akce/prague-sounds-arooj-aftab/
LOCATION:Lucerna\, Praha\, Czech Republic
CATEGORIES:Prague Sounds
END:VEVENT
BEGIN:VEVENT
DTSTART;TZID=Europe/Helsinki:20251103T200000
DTEND;TZID=Europe/Helsinki:20251103T220000
DTSTAMP:20260423T233613
CREATED:20251022T183144Z
LAST-MODIFIED:20251022T183144Z
UID:206803-1762200000-1762207200@operaplus.cz
SUMMARY:Prague Sounds – Alva Noto & Fennesz
DESCRIPTION:Alva Noto se vrací na Prague Sounds společně s dalším průkopníkem elektronické hudby Fenneszem v rámci speciálního projektu na počest skladateli Ryuichimu Sakamotovi. \nÚčinkující\n\nAlva Noto – elektronická hudba\nFennesz –elektronická hudba
URL:https://operaplus.cz/akce/prague-sounds-alva-noto-fennesz/
LOCATION:Archa+\, Praha\, Czech Republic
CATEGORIES:Prague Sounds
END:VEVENT
BEGIN:VEVENT
DTSTART;TZID=Europe/Helsinki:20251101T200000
DTEND;TZID=Europe/Helsinki:20251101T220000
DTSTAMP:20260423T233613
CREATED:20251019T123853Z
LAST-MODIFIED:20251019T123853Z
UID:206253-1762027200-1762034400@operaplus.cz
SUMMARY:Prague Sounds – Silvana Estrada
DESCRIPTION:Senzační mexická písničkářka se poprvé představí v Česku na festivalu Prague Sounds.
URL:https://operaplus.cz/akce/prague-sounds-silvana-estrada/
LOCATION:Rudolfinum\, Praha\, Czech Republic
CATEGORIES:Prague Sounds
END:VEVENT
END:VCALENDAR