BEGIN:VCALENDAR
VERSION:2.0
PRODID:-//Opera PLUS - ECPv6.15.13.1//NONSGML v1.0//EN
CALSCALE:GREGORIAN
METHOD:PUBLISH
X-WR-CALNAME:Opera PLUS
X-ORIGINAL-URL:https://operaplus.cz
X-WR-CALDESC:Akce na Opera PLUS
REFRESH-INTERVAL;VALUE=DURATION:PT1H
X-Robots-Tag:noindex
X-PUBLISHED-TTL:PT1H
BEGIN:VTIMEZONE
TZID:Europe/Prague
BEGIN:DAYLIGHT
TZOFFSETFROM:+0100
TZOFFSETTO:+0200
TZNAME:CEST
DTSTART:20250330T010000
END:DAYLIGHT
BEGIN:STANDARD
TZOFFSETFROM:+0200
TZOFFSETTO:+0100
TZNAME:CET
DTSTART:20251026T010000
END:STANDARD
BEGIN:DAYLIGHT
TZOFFSETFROM:+0100
TZOFFSETTO:+0200
TZNAME:CEST
DTSTART:20260329T010000
END:DAYLIGHT
BEGIN:STANDARD
TZOFFSETFROM:+0200
TZOFFSETTO:+0100
TZNAME:CET
DTSTART:20261025T010000
END:STANDARD
BEGIN:DAYLIGHT
TZOFFSETFROM:+0100
TZOFFSETTO:+0200
TZNAME:CEST
DTSTART:20270328T010000
END:DAYLIGHT
BEGIN:STANDARD
TZOFFSETFROM:+0200
TZOFFSETTO:+0100
TZNAME:CET
DTSTART:20271031T010000
END:STANDARD
END:VTIMEZONE
BEGIN:VEVENT
DTSTART;TZID=Europe/Prague:20260531T103000
DTEND;TZID=Europe/Prague:20260531T170000
DTSTAMP:20260425T183058
CREATED:20260402T124000Z
LAST-MODIFIED:20260402T124000Z
UID:218481-1780223400-1780246800@operaplus.cz
SUMMARY:Sukovy Křečovice
DESCRIPTION:Účinkující\n\nAleš Bárta – varhany\nMilan Al-Ashhab – housle
URL:https://operaplus.cz/akce/sukovy-krecovice/
LOCATION:Kostel sv. Lukáše\, Praha\, Czech Republic
CATEGORIES:Pražské jaro
END:VEVENT
BEGIN:VEVENT
DTSTART;TZID=Europe/Prague:20260531T160000
DTEND;TZID=Europe/Prague:20260531T170000
DTSTAMP:20260425T183058
CREATED:20260406T204207Z
LAST-MODIFIED:20260406T204207Z
UID:218676-1780243200-1780246800@operaplus.cz
SUMMARY:Masterclass – Barbara Hannigan
DESCRIPTION:Účinkující\n\nBarbara Hannigan – soprán
URL:https://operaplus.cz/akce/masterclass-barbara-hannigan/
LOCATION:Rudolfinum — Sukova síň
CATEGORIES:Pražské jaro
END:VEVENT
BEGIN:VEVENT
DTSTART;TZID=Europe/Prague:20260531T170000
DTEND;TZID=Europe/Prague:20260531T190000
DTSTAMP:20260425T183058
CREATED:20260406T204338Z
LAST-MODIFIED:20260406T204338Z
UID:218678-1780246800-1780254000@operaplus.cz
SUMMARY:Dvořákova romance
DESCRIPTION:Program\n\nAntonín Dvořák: Romantické kusy op. 75\nAntonín Dvořák: Sonáta pro housle a klavír F dur op. 57\nAntonín Dvořák: Sonatina pro housle a klavír G dur op. 100\nAntonín Dvořák: Romance f moll op. 11\nAntonín Dvořák: Mazurek e moll op. 49\n\n\n\nÚčinkující\n\nJiří Vodička – housle\nDavid Mareček – klavír
URL:https://operaplus.cz/akce/dvorakova-romance/
LOCATION:Rudolfinum – Dvořákova síň\, Praha\, Czech Republic
CATEGORIES:Pražské jaro
END:VEVENT
BEGIN:VEVENT
DTSTART;TZID=Europe/Prague:20260531T200000
DTEND;TZID=Europe/Prague:20260531T220000
DTSTAMP:20260425T183058
CREATED:20260406T204529Z
LAST-MODIFIED:20260406T204529Z
UID:218680-1780257600-1780264800@operaplus.cz
SUMMARY:Mizuno & Hanus & DSO Berlin
DESCRIPTION:Program\n\nDmitrij Šostakovič: Koncert pro violoncello a orchestr č. 1 Es dur op. 107\nAnton Bruckner: Symfonie č. 6 A dur\n\n\n\nÚčinkující\n\nDeutsches Symphonie-Orchester Berlin\nTomáš Hanus – dirigent\nYuya Mizuno – violoncello
URL:https://operaplus.cz/akce/mizuno-hanus-dso-berlin/
LOCATION:Obecní dům\, Smetanova síň
CATEGORIES:Pražské jaro
END:VEVENT
BEGIN:VEVENT
DTSTART;TZID=Europe/Prague:20260601T200000
DTEND;TZID=Europe/Prague:20260601T220000
DTSTAMP:20260425T183058
CREATED:20260406T204854Z
LAST-MODIFIED:20260406T204854Z
UID:218685-1780344000-1780351200@operaplus.cz
SUMMARY:Sternath & Shani & Rotterdam Philharmonic
DESCRIPTION:Program\n\nJohan Wagenaar: Cyrano de Bergerac op. 23\, předehra\nRobert Schumann: Koncert pro klavír a orchestr a moll op. 54\nJohannes Brahms: Symfonie č. 2 D dur op. 73\n\n\n\nÚčinkující\n\nRotterdam Philharmonic Orchestra\nLahav Shani – dirigent\nLucas Sternath – klavír
URL:https://operaplus.cz/akce/sternath-shani-rotterdam-philharmonic/
LOCATION:Obecní dům\, Smetanova síň
CATEGORIES:Pražské jaro
END:VEVENT
BEGIN:VEVENT
DTSTART;TZID=Europe/Prague:20260602T200000
DTEND;TZID=Europe/Prague:20260602T220000
DTSTAMP:20260425T183058
CREATED:20260406T205012Z
LAST-MODIFIED:20260406T205012Z
UID:218688-1780430400-1780437600@operaplus.cz
SUMMARY:Barbara Hannigan & Česká filharmonie
DESCRIPTION:Program\n\nCharles Ives: The Unanswered Question\nJoseph Haydn: Symfonie č. 45 fis moll „Na odchodnou“ Hob. I:45\nArnold Schönberg: Zjasněná noc op. 4\nGeorge Gershwin: Girl Crazy\, suita z muzikálu (ar. Bill Elliott & Barbara Hannigan)\n\n\n\nÚčinkující\n\nČeská filharmonie\nBarbara Hannigan – soprán\, dirigentka
URL:https://operaplus.cz/akce/barbara-hannigan-ceska-filharmonie/
LOCATION:Rudolfinum – Dvořákova síň\, Praha\, Czech Republic
CATEGORIES:Pražské jaro
END:VEVENT
BEGIN:VEVENT
DTSTART;TZID=Europe/Prague:20260603T200000
DTEND;TZID=Europe/Prague:20260603T220000
DTSTAMP:20260425T183058
CREATED:20260402T121537Z
LAST-MODIFIED:20260402T121537Z
UID:218461-1780516800-1780524000@operaplus.cz
SUMMARY:Lucas & Arthur Jussen II
DESCRIPTION:Program\n\nBéla Bartók: Sonáta pro dva klavíry a bicí nástroje Sz. 110\nAlexej Gerassimez: Beyond Stickability\nGeorge Gershwin: Rhapsody in Blue\nLeonard Bernstein: Symfonické tance z West Side Story\nJohn Adams: Short Ride in a Fast Machine pro dva klavíry a bicí nástroje\n\nÚčinkující\n\nLucas & Arthur Jussen – klavír\nAlexej Gerassimez – bicí\nEmil Kuyumcuyan – bicí
URL:https://operaplus.cz/akce/lucas-arthur-jussen-ii/
LOCATION:Rudolfinum – Dvořákova síň\, Praha\, Czech Republic
CATEGORIES:Pražské jaro
END:VEVENT
END:VCALENDAR