BEGIN:VCALENDAR
VERSION:2.0
PRODID:-//Opera PLUS - ECPv6.15.13.1//NONSGML v1.0//EN
CALSCALE:GREGORIAN
METHOD:PUBLISH
X-WR-CALNAME:Opera PLUS
X-ORIGINAL-URL:https://operaplus.cz
X-WR-CALDESC:Akce na Opera PLUS
REFRESH-INTERVAL;VALUE=DURATION:PT1H
X-Robots-Tag:noindex
X-PUBLISHED-TTL:PT1H
BEGIN:VTIMEZONE
TZID:Europe/Prague
BEGIN:DAYLIGHT
TZOFFSETFROM:+0100
TZOFFSETTO:+0200
TZNAME:CEST
DTSTART:20250330T010000
END:DAYLIGHT
BEGIN:STANDARD
TZOFFSETFROM:+0200
TZOFFSETTO:+0100
TZNAME:CET
DTSTART:20251026T010000
END:STANDARD
BEGIN:DAYLIGHT
TZOFFSETFROM:+0100
TZOFFSETTO:+0200
TZNAME:CEST
DTSTART:20260329T010000
END:DAYLIGHT
BEGIN:STANDARD
TZOFFSETFROM:+0200
TZOFFSETTO:+0100
TZNAME:CET
DTSTART:20261025T010000
END:STANDARD
BEGIN:DAYLIGHT
TZOFFSETFROM:+0100
TZOFFSETTO:+0200
TZNAME:CEST
DTSTART:20270328T010000
END:DAYLIGHT
BEGIN:STANDARD
TZOFFSETFROM:+0200
TZOFFSETTO:+0100
TZNAME:CET
DTSTART:20271031T010000
END:STANDARD
END:VTIMEZONE
BEGIN:VEVENT
DTSTART;TZID=Europe/Prague:20260401T193000
DTEND;TZID=Europe/Prague:20260401T220000
DTSTAMP:20260423T033911
CREATED:20260323T210502Z
LAST-MODIFIED:20260323T210622Z
UID:217732-1775071800-1775080800@operaplus.cz
SUMMARY:Dvořák s Pražskými symfoniky
DESCRIPTION:Veřejná generální zkouška: 31. března 2026 v 10:00 hodin\nProgram\n\nAntonín Dvořák: Stabat Mater\, op. 58\n\nÚčinkující\n\nTamara Morozová – soprán\nJolana Slavíková – alt\nPetr Nekoranec – tenor\nJan Hnyk – bas\nPražský filharmonický sbor\nLukáš Vasilek – sbormistr\nSymfonický orchestr hlavního města Prahy FOK\nAlena Hron – dirigentka
URL:https://operaplus.cz/akce/dvorak-s-prazskymi-symfoniky/
LOCATION:Obecní dům\, Smetanova síň
CATEGORIES:Pražský filharmonický sbor
END:VEVENT
BEGIN:VEVENT
DTSTART;TZID=Europe/Prague:20260420T193000
DTEND;TZID=Europe/Prague:20260420T220000
DTSTAMP:20260423T033911
CREATED:20260412T180112Z
LAST-MODIFIED:20260412T180112Z
UID:219170-1776713400-1776722400@operaplus.cz
SUMMARY:Stravinskij se Symfonickým orchestrem Českého rozhlasu
DESCRIPTION:Veřejná generální zkouška: 20. dubna 2026 v 10:00 hodin\nProgram\n\nSergej Rachmaninov: Koncert pro klavír č. 3 d moll\nIgor Stravinskij: Oedipus Rex\n\nÚčinkující\n\nJocaste: Ester Pavlů Jocaste\nCréon a Posel: Jiří Brückner\nTirésias: Pavel Švingr\nPastýř: Daniel Matoušek\nVypravěč: Igor Bareš\nIsata Kanneh-Mason – klavír\nPražský filharmonický sbor\nLukáš Vasilek – sbormistr\nSymfonický orchestr Českého rozhlasu\nPetr Popelka – dirigent\n\n 
URL:https://operaplus.cz/akce/stravinskij-se-symfonickym-orchestrem-ceskeho-rozhlasu/
LOCATION:Rudolfinum – Dvořákova síň\, Praha\, Czech Republic
CATEGORIES:Pražský filharmonický sbor
END:VEVENT
END:VCALENDAR