BEGIN:VCALENDAR
VERSION:2.0
PRODID:-//Opera PLUS - ECPv6.15.13.1//NONSGML v1.0//EN
CALSCALE:GREGORIAN
METHOD:PUBLISH
X-ORIGINAL-URL:https://operaplus.cz
X-WR-CALDESC:Akce na Opera PLUS
REFRESH-INTERVAL;VALUE=DURATION:PT1H
X-Robots-Tag:noindex
X-PUBLISHED-TTL:PT1H
BEGIN:VTIMEZONE
TZID:Europe/Helsinki
BEGIN:DAYLIGHT
TZOFFSETFROM:+0200
TZOFFSETTO:+0300
TZNAME:EEST
DTSTART:20240331T010000
END:DAYLIGHT
BEGIN:STANDARD
TZOFFSETFROM:+0300
TZOFFSETTO:+0200
TZNAME:EET
DTSTART:20241027T010000
END:STANDARD
BEGIN:DAYLIGHT
TZOFFSETFROM:+0200
TZOFFSETTO:+0300
TZNAME:EEST
DTSTART:20250330T010000
END:DAYLIGHT
BEGIN:STANDARD
TZOFFSETFROM:+0300
TZOFFSETTO:+0200
TZNAME:EET
DTSTART:20251026T010000
END:STANDARD
BEGIN:DAYLIGHT
TZOFFSETFROM:+0200
TZOFFSETTO:+0300
TZNAME:EEST
DTSTART:20260329T010000
END:DAYLIGHT
BEGIN:STANDARD
TZOFFSETFROM:+0300
TZOFFSETTO:+0200
TZNAME:EET
DTSTART:20261025T010000
END:STANDARD
END:VTIMEZONE
BEGIN:VEVENT
DTSTART;TZID=Europe/Helsinki:20250923T190000
DTEND;TZID=Europe/Helsinki:20250923T190000
DTSTAMP:20260424T104813
CREATED:20250920T124044Z
LAST-MODIFIED:20250920T124203Z
UID:203243-1758654000-1758654000@operaplus.cz
SUMMARY:Slezské divadlo Opava –⁠⁠⁠⁠⁠⁠ Krásná Helena
DESCRIPTION:Program\n\nJacques Offenbach: Krásná Helena
URL:https://operaplus.cz/akce/slezske-divadlo-opava-%e2%81%a0%e2%81%a0%e2%81%a0%e2%81%a0%e2%81%a0%e2%81%a0-krasna-helena/
LOCATION:Slezské divadlo Opava\, Opava
CATEGORIES:Slezské divadlo Opava
END:VEVENT
BEGIN:VEVENT
DTSTART;TZID=Europe/Helsinki:20250923T193000
DTEND;TZID=Europe/Helsinki:20250923T210000
DTSTAMP:20260424T104813
CREATED:20250921T085048Z
LAST-MODIFIED:20250921T085048Z
UID:203396-1758655800-1758661200@operaplus.cz
SUMMARY:Symfonický orchestr Českého rozhlasu – Mozartův Dvojkoncert
DESCRIPTION:Program\n\nJaroslav Pelikán: Adagio pro orchestr\nWolfgang Amadeus Mozart: Koncert pro housle\, klavír a orchestr D dur KV Anh 56 315f\nBohuslav Martinů: Tre ricercari\, op. H. 267\n\nÚčinkující\n\nDaniel Matejča – housle\nJan Schulmeister – klavír\nSymfonický orchestr Českého rozhlasu\nJaroslav Kyzlink – dirigent
URL:https://operaplus.cz/akce/symfonicky-orchestr-ceskeho-rozhlasu-mozartuv-dvojkoncert/
LOCATION:Betlémská kaple\, Praha\, Czech Republic
CATEGORIES:Symfonický orchestr Českého rozhlasu
END:VEVENT
BEGIN:VEVENT
DTSTART;TZID=Europe/Helsinki:20250924T190000
DTEND;TZID=Europe/Helsinki:20250924T210000
DTSTAMP:20260424T104813
CREATED:20250920T124447Z
LAST-MODIFIED:20250920T124447Z
UID:203249-1758740400-1758747600@operaplus.cz
SUMMARY:Slezské divadlo Opava –⁠⁠⁠⁠⁠⁠ Prodaná nevěsta
DESCRIPTION:Program\n\nBedřich Smetana: Prodaná nevěsta
URL:https://operaplus.cz/akce/slezske-divadlo-opava-%e2%81%a0%e2%81%a0%e2%81%a0%e2%81%a0%e2%81%a0%e2%81%a0-prodana-nevesta/
LOCATION:Slezské divadlo Opava\, Opava
CATEGORIES:Slezské divadlo Opava
END:VEVENT
END:VCALENDAR