BEGIN:VCALENDAR
VERSION:2.0
PRODID:-//Opera PLUS - ECPv6.15.13.1//NONSGML v1.0//EN
CALSCALE:GREGORIAN
METHOD:PUBLISH
X-WR-CALNAME:Opera PLUS
X-ORIGINAL-URL:https://operaplus.cz
X-WR-CALDESC:Akce na Opera PLUS
REFRESH-INTERVAL;VALUE=DURATION:PT1H
X-Robots-Tag:noindex
X-PUBLISHED-TTL:PT1H
BEGIN:VTIMEZONE
TZID:Europe/Helsinki
BEGIN:DAYLIGHT
TZOFFSETFROM:+0200
TZOFFSETTO:+0300
TZNAME:EEST
DTSTART:20240331T010000
END:DAYLIGHT
BEGIN:STANDARD
TZOFFSETFROM:+0300
TZOFFSETTO:+0200
TZNAME:EET
DTSTART:20241027T010000
END:STANDARD
BEGIN:DAYLIGHT
TZOFFSETFROM:+0200
TZOFFSETTO:+0300
TZNAME:EEST
DTSTART:20250330T010000
END:DAYLIGHT
BEGIN:STANDARD
TZOFFSETFROM:+0300
TZOFFSETTO:+0200
TZNAME:EET
DTSTART:20251026T010000
END:STANDARD
BEGIN:DAYLIGHT
TZOFFSETFROM:+0200
TZOFFSETTO:+0300
TZNAME:EEST
DTSTART:20260329T010000
END:DAYLIGHT
BEGIN:STANDARD
TZOFFSETFROM:+0300
TZOFFSETTO:+0200
TZNAME:EET
DTSTART:20261025T010000
END:STANDARD
END:VTIMEZONE
BEGIN:VEVENT
DTSTART;TZID=Europe/Helsinki:20250923T193000
DTEND;TZID=Europe/Helsinki:20250923T210000
DTSTAMP:20260423T103956
CREATED:20250921T085048Z
LAST-MODIFIED:20250921T085048Z
UID:203396-1758655800-1758661200@operaplus.cz
SUMMARY:Symfonický orchestr Českého rozhlasu – Mozartův Dvojkoncert
DESCRIPTION:Program\n\nJaroslav Pelikán: Adagio pro orchestr\nWolfgang Amadeus Mozart: Koncert pro housle\, klavír a orchestr D dur KV Anh 56 315f\nBohuslav Martinů: Tre ricercari\, op. H. 267\n\nÚčinkující\n\nDaniel Matejča – housle\nJan Schulmeister – klavír\nSymfonický orchestr Českého rozhlasu\nJaroslav Kyzlink – dirigent
URL:https://operaplus.cz/akce/symfonicky-orchestr-ceskeho-rozhlasu-mozartuv-dvojkoncert/
LOCATION:Betlémská kaple\, Praha\, Czech Republic
CATEGORIES:Symfonický orchestr Českého rozhlasu
END:VEVENT
END:VCALENDAR