BEGIN:VCALENDAR
VERSION:2.0
PRODID:-//Opera PLUS - ECPv6.15.13.1//NONSGML v1.0//EN
CALSCALE:GREGORIAN
METHOD:PUBLISH
X-WR-CALNAME:Opera PLUS
X-ORIGINAL-URL:https://operaplus.cz
X-WR-CALDESC:Akce na Opera PLUS
REFRESH-INTERVAL;VALUE=DURATION:PT1H
X-Robots-Tag:noindex
X-PUBLISHED-TTL:PT1H
BEGIN:VTIMEZONE
TZID:Europe/Prague
BEGIN:DAYLIGHT
TZOFFSETFROM:+0100
TZOFFSETTO:+0200
TZNAME:CEST
DTSTART:20240331T010000
END:DAYLIGHT
BEGIN:STANDARD
TZOFFSETFROM:+0200
TZOFFSETTO:+0100
TZNAME:CET
DTSTART:20241027T010000
END:STANDARD
BEGIN:DAYLIGHT
TZOFFSETFROM:+0100
TZOFFSETTO:+0200
TZNAME:CEST
DTSTART:20250330T010000
END:DAYLIGHT
BEGIN:STANDARD
TZOFFSETFROM:+0200
TZOFFSETTO:+0100
TZNAME:CET
DTSTART:20251026T010000
END:STANDARD
BEGIN:DAYLIGHT
TZOFFSETFROM:+0100
TZOFFSETTO:+0200
TZNAME:CEST
DTSTART:20260329T010000
END:DAYLIGHT
BEGIN:STANDARD
TZOFFSETFROM:+0200
TZOFFSETTO:+0100
TZNAME:CET
DTSTART:20261025T010000
END:STANDARD
BEGIN:DAYLIGHT
TZOFFSETFROM:+0100
TZOFFSETTO:+0200
TZNAME:CEST
DTSTART:20270328T010000
END:DAYLIGHT
BEGIN:STANDARD
TZOFFSETFROM:+0200
TZOFFSETTO:+0100
TZNAME:CET
DTSTART:20271031T010000
END:STANDARD
END:VTIMEZONE
BEGIN:VTIMEZONE
TZID:Europe/Helsinki
BEGIN:DAYLIGHT
TZOFFSETFROM:+0200
TZOFFSETTO:+0300
TZNAME:EEST
DTSTART:20240331T010000
END:DAYLIGHT
BEGIN:STANDARD
TZOFFSETFROM:+0300
TZOFFSETTO:+0200
TZNAME:EET
DTSTART:20241027T010000
END:STANDARD
BEGIN:DAYLIGHT
TZOFFSETFROM:+0200
TZOFFSETTO:+0300
TZNAME:EEST
DTSTART:20250330T010000
END:DAYLIGHT
BEGIN:STANDARD
TZOFFSETFROM:+0300
TZOFFSETTO:+0200
TZNAME:EET
DTSTART:20251026T010000
END:STANDARD
BEGIN:DAYLIGHT
TZOFFSETFROM:+0200
TZOFFSETTO:+0300
TZNAME:EEST
DTSTART:20260329T010000
END:DAYLIGHT
BEGIN:STANDARD
TZOFFSETFROM:+0300
TZOFFSETTO:+0200
TZNAME:EET
DTSTART:20261025T010000
END:STANDARD
END:VTIMEZONE
BEGIN:VEVENT
DTSTART;TZID=Europe/Prague:20260120T190000
DTEND;TZID=Europe/Prague:20260120T220000
DTSTAMP:20260423T091202
CREATED:20260114T175522Z
LAST-MODIFIED:20260114T175522Z
UID:212760-1768935600-1768946400@operaplus.cz
SUMMARY:Erotikon
DESCRIPTION:Premiéra digitálně restaurovaného filmu Erotikon Gustava Machatého s novou hudební kompozicí Jany Vöröšové. Jeden z nejvýznamnějších českých němých filmů divákům představí Národní filmový archiv v obnovené podobě za doprovodu Symfonického orchestru Českého rozhlasu ve Smetanově síni Obecního domu.
URL:https://operaplus.cz/akce/erotikon/
LOCATION:Obecní dům\, Smetanova síň
CATEGORIES:Symfonický orchestr Českého rozhlasu
END:VEVENT
BEGIN:VEVENT
DTSTART;TZID=Europe/Prague:20260112T193000
DTEND;TZID=Europe/Prague:20260112T220000
DTSTAMP:20260423T091202
CREATED:20260103T184702Z
LAST-MODIFIED:20260103T184702Z
UID:212066-1768246200-1768255200@operaplus.cz
SUMMARY:Mahlerova Druhá
DESCRIPTION:Veřejná generální zkouška: 11. 1. 2026 v 10:00 hodin\nProgram\n\nGustav Mahler: Symfonie č. 2 c moll „Vzkříšení“\n\nÚčinkující\n\nKateřina Kněžíková –⁠⁠⁠⁠⁠⁠ soprán\nVáclava Krejčí Housková –⁠⁠⁠⁠⁠⁠ mezzosoprán\nČeský filharmonický sbor Brno\nSymfonický orchestr Českého rozhlasu\nTomáš Hanus –⁠⁠⁠⁠⁠⁠ dirigent
URL:https://operaplus.cz/akce/mahlerova-druha/
LOCATION:Obecní dům\, Smetanova síň
CATEGORIES:Symfonický orchestr Českého rozhlasu
END:VEVENT
BEGIN:VEVENT
DTSTART;TZID=Europe/Prague:20251222T193000
DTEND;TZID=Europe/Prague:20251222T220000
DTSTAMP:20260423T091202
CREATED:20251213T211616Z
LAST-MODIFIED:20251213T211616Z
UID:211031-1766431800-1766440800@operaplus.cz
SUMMARY:Petr Popelka a Pierre-Laurent Aimard
DESCRIPTION:Program\n\nArvo Pärt: Our Garden\nMaurice Ravel: Koncert pro klavír a orchestr G dur\nAntonín Dvořák: Symfonie č. 6\n\nÚčinkující\n\nPierre-Laurent Aimard – klavír\nDětský pěvecký sbor Českého rozhlasu\nVěra Hrdinková – sbormistryně\nSymfonický orchestr Českého rozhlasu\nPetr Popelka – dirigent
URL:https://operaplus.cz/akce/petr-popelka-a-pierre-laurent-aimard/
LOCATION:Rudolfinum – Dvořákova síň\, Praha\, Czech Republic
CATEGORIES:Symfonický orchestr Českého rozhlasu
END:VEVENT
BEGIN:VEVENT
DTSTART;TZID=Europe/Helsinki:20251022T193000
DTEND;TZID=Europe/Helsinki:20251022T200000
DTSTAMP:20260423T091202
CREATED:20251009T113729Z
LAST-MODIFIED:20251009T113729Z
UID:205362-1761161400-1761163200@operaplus.cz
SUMMARY:Symfonický orchestr Českého rozhlasu – Muzikál expres
DESCRIPTION:Účinkující\n\nMonika Absolonová – zpěv\nVáclav Noid Bárta – zpěv\nMichaela Gemrotová-Štiková – zpěv\nMarkéta Pešková – zpěv\nTomáš Savka – zpěv\nPavel Klimenda – zpěv\nJakub Hübner – zpěv\nPavel Režný – zpěv\nDětský pěvecký sbor Českého rozhlasu\nVěra Hrdinková – sbormistryně\nSymfonický orchestr\nJakub Žídek – dirigent
URL:https://operaplus.cz/akce/symfonicky-orchestr-ceskeho-rozhlasu-muzikal-expres/
LOCATION:Forum Karlín\, Praha\, Czech Republic
CATEGORIES:Symfonický orchestr Českého rozhlasu
END:VEVENT
BEGIN:VEVENT
DTSTART;TZID=Europe/Helsinki:20250923T193000
DTEND;TZID=Europe/Helsinki:20250923T210000
DTSTAMP:20260423T091202
CREATED:20250921T085048Z
LAST-MODIFIED:20250921T085048Z
UID:203396-1758655800-1758661200@operaplus.cz
SUMMARY:Symfonický orchestr Českého rozhlasu – Mozartův Dvojkoncert
DESCRIPTION:Program\n\nJaroslav Pelikán: Adagio pro orchestr\nWolfgang Amadeus Mozart: Koncert pro housle\, klavír a orchestr D dur KV Anh 56 315f\nBohuslav Martinů: Tre ricercari\, op. H. 267\n\nÚčinkující\n\nDaniel Matejča – housle\nJan Schulmeister – klavír\nSymfonický orchestr Českého rozhlasu\nJaroslav Kyzlink – dirigent
URL:https://operaplus.cz/akce/symfonicky-orchestr-ceskeho-rozhlasu-mozartuv-dvojkoncert/
LOCATION:Betlémská kaple\, Praha\, Czech Republic
CATEGORIES:Symfonický orchestr Českého rozhlasu
END:VEVENT
END:VCALENDAR