BEGIN:VCALENDAR
VERSION:2.0
PRODID:-//Opera PLUS - ECPv6.15.13.1//NONSGML v1.0//EN
CALSCALE:GREGORIAN
METHOD:PUBLISH
X-ORIGINAL-URL:https://operaplus.cz
X-WR-CALDESC:Akce na Opera PLUS
REFRESH-INTERVAL;VALUE=DURATION:PT1H
X-Robots-Tag:noindex
X-PUBLISHED-TTL:PT1H
BEGIN:VTIMEZONE
TZID:Europe/Prague
BEGIN:DAYLIGHT
TZOFFSETFROM:+0100
TZOFFSETTO:+0200
TZNAME:CEST
DTSTART:20250330T010000
END:DAYLIGHT
BEGIN:STANDARD
TZOFFSETFROM:+0200
TZOFFSETTO:+0100
TZNAME:CET
DTSTART:20251026T010000
END:STANDARD
BEGIN:DAYLIGHT
TZOFFSETFROM:+0100
TZOFFSETTO:+0200
TZNAME:CEST
DTSTART:20260329T010000
END:DAYLIGHT
BEGIN:STANDARD
TZOFFSETFROM:+0200
TZOFFSETTO:+0100
TZNAME:CET
DTSTART:20261025T010000
END:STANDARD
BEGIN:DAYLIGHT
TZOFFSETFROM:+0100
TZOFFSETTO:+0200
TZNAME:CEST
DTSTART:20270328T010000
END:DAYLIGHT
BEGIN:STANDARD
TZOFFSETFROM:+0200
TZOFFSETTO:+0100
TZNAME:CET
DTSTART:20271031T010000
END:STANDARD
END:VTIMEZONE
BEGIN:VEVENT
DTSTART;TZID=Europe/Prague:20260413T193000
DTEND;TZID=Europe/Prague:20260413T220000
DTSTAMP:20260424T173352
CREATED:20260407T200744Z
LAST-MODIFIED:20260407T200744Z
UID:218799-1776108600-1776117600@operaplus.cz
SUMMARY:Petr Popelka a Brahmsovy symfonie I – II
DESCRIPTION:Program\n\nJohannes Brahms: Symfonie č. 1 c moll\nJohannes Brahms: Symfonie č. 2 D dur\n\nÚčinkující\n\nSymfonický orchestr Českého rozhlasu\nPetr Popelka – dirigent
URL:https://operaplus.cz/akce/petr-popelka-a-brahmsovy-symfonie-i-ii/
LOCATION:Obecní dům\, Smetanova síň
CATEGORIES:Symfonický orchestr Českého rozhlasu
END:VEVENT
BEGIN:VEVENT
DTSTART;TZID=Europe/Prague:20260414T193000
DTEND;TZID=Europe/Prague:20260414T220000
DTSTAMP:20260424T173352
CREATED:20260407T201100Z
LAST-MODIFIED:20260407T201128Z
UID:218802-1776195000-1776204000@operaplus.cz
SUMMARY:Petr Popelka a Brahmsovy symfonie III – IV
DESCRIPTION:Program\n\nJohannes Brahms: Symfonie č. 3 F dur\nJohannes Brahms: Symfonie č. 4 e moll\n\nÚčinkující\n\nSymfonický orchestr Českého rozhlasu\nPetr Popelka – dirigent
URL:https://operaplus.cz/akce/218802/
LOCATION:Obecní dům\, Smetanova síň
CATEGORIES:Symfonický orchestr Českého rozhlasu
END:VEVENT
BEGIN:VEVENT
DTSTART;TZID=Europe/Prague:20260427T193000
DTEND;TZID=Europe/Prague:20260427T220000
DTSTAMP:20260424T173352
CREATED:20260419T134134Z
LAST-MODIFIED:20260419T134134Z
UID:219703-1777318200-1777327200@operaplus.cz
SUMMARY:Kdo v zlatě struny zahrát zná
DESCRIPTION:Účinkující\n\nMario Mesany – flétna\nLydie Härtelová – harfa\nKateřina Valášková – harfa
URL:https://operaplus.cz/akce/kdo-v-zlate-struny-zahrat-zna/
LOCATION:Český rozhlas\, Praha\, Czech Republic
CATEGORIES:Symfonický orchestr Českého rozhlasu
END:VEVENT
END:VCALENDAR