BEGIN:VCALENDAR
VERSION:2.0
PRODID:-//Opera PLUS - ECPv6.15.13.1//NONSGML v1.0//EN
CALSCALE:GREGORIAN
METHOD:PUBLISH
X-ORIGINAL-URL:https://operaplus.cz
X-WR-CALDESC:Akce na Opera PLUS
REFRESH-INTERVAL;VALUE=DURATION:PT1H
X-Robots-Tag:noindex
X-PUBLISHED-TTL:PT1H
BEGIN:VTIMEZONE
TZID:Europe/Helsinki
BEGIN:DAYLIGHT
TZOFFSETFROM:+0200
TZOFFSETTO:+0300
TZNAME:EEST
DTSTART:20240331T010000
END:DAYLIGHT
BEGIN:STANDARD
TZOFFSETFROM:+0300
TZOFFSETTO:+0200
TZNAME:EET
DTSTART:20241027T010000
END:STANDARD
BEGIN:DAYLIGHT
TZOFFSETFROM:+0200
TZOFFSETTO:+0300
TZNAME:EEST
DTSTART:20250330T010000
END:DAYLIGHT
BEGIN:STANDARD
TZOFFSETFROM:+0300
TZOFFSETTO:+0200
TZNAME:EET
DTSTART:20251026T010000
END:STANDARD
BEGIN:DAYLIGHT
TZOFFSETFROM:+0200
TZOFFSETTO:+0300
TZNAME:EEST
DTSTART:20260329T010000
END:DAYLIGHT
BEGIN:STANDARD
TZOFFSETFROM:+0300
TZOFFSETTO:+0200
TZNAME:EET
DTSTART:20261025T010000
END:STANDARD
END:VTIMEZONE
BEGIN:VEVENT
DTSTART;TZID=Europe/Helsinki:20250927T170000
DTEND;TZID=Europe/Helsinki:20250927T170000
DTSTAMP:20260423T210055
CREATED:20250920T122115Z
LAST-MODIFIED:20250920T122115Z
UID:203223-1758992400-1758992400@operaplus.cz
SUMMARY:Třeboňská nocturna – Koncert ZUŠ Třeboň
DESCRIPTION:Program\n\nJana Šulistová: Krajina ticha\nFriedrich August Kummer: Rondoletio con Allegrezza\nWilliam Gillock: Soaring\nJohann Sebastian Bach: Sinfonia\nJohann Sebastian Bach: Dvouhlasá invence B dur\nStanislav Kostka Vrbka: Elegie pro kytaru a klavír\nAntonín Dvořák: Valčík č. 5\, op. 54\nRobert Schumann: Seit ich ihn gesehen\nAntonín Dvořák: Milostné písně\, č. 5
URL:https://operaplus.cz/akce/trebonska-nocturna-koncert-zus-trebon/
LOCATION:Kunstmuseum\, Schrems\, Austria
CATEGORIES:Třeboňská nocturna
END:VEVENT
END:VCALENDAR