BEGIN:VCALENDAR
VERSION:2.0
PRODID:-//Opera PLUS - ECPv6.15.13.1//NONSGML v1.0//EN
CALSCALE:GREGORIAN
METHOD:PUBLISH
X-ORIGINAL-URL:https://operaplus.cz
X-WR-CALDESC:Akce na Opera PLUS
REFRESH-INTERVAL;VALUE=DURATION:PT1H
X-Robots-Tag:noindex
X-PUBLISHED-TTL:PT1H
BEGIN:VTIMEZONE
TZID:Europe/Prague
BEGIN:DAYLIGHT
TZOFFSETFROM:+0100
TZOFFSETTO:+0200
TZNAME:CEST
DTSTART:20250330T010000
END:DAYLIGHT
BEGIN:STANDARD
TZOFFSETFROM:+0200
TZOFFSETTO:+0100
TZNAME:CET
DTSTART:20251026T010000
END:STANDARD
BEGIN:DAYLIGHT
TZOFFSETFROM:+0100
TZOFFSETTO:+0200
TZNAME:CEST
DTSTART:20260329T010000
END:DAYLIGHT
BEGIN:STANDARD
TZOFFSETFROM:+0200
TZOFFSETTO:+0100
TZNAME:CET
DTSTART:20261025T010000
END:STANDARD
BEGIN:DAYLIGHT
TZOFFSETFROM:+0100
TZOFFSETTO:+0200
TZNAME:CEST
DTSTART:20270328T010000
END:DAYLIGHT
BEGIN:STANDARD
TZOFFSETFROM:+0200
TZOFFSETTO:+0100
TZNAME:CET
DTSTART:20271031T010000
END:STANDARD
END:VTIMEZONE
BEGIN:VEVENT
DTSTART;TZID=Europe/Prague:20260122T190000
DTEND;TZID=Europe/Prague:20260122T220000
DTSTAMP:20260424T002420
CREATED:20260116T173050Z
LAST-MODIFIED:20260116T173050Z
UID:212909-1769108400-1769119200@operaplus.cz
SUMMARY:4. Abonentní koncert
DESCRIPTION:Program\n\nWolfgang Amadeus Mozart: Exsultate\, jubilate\, KV 165 Alleluja\nWolfgang Amadeus Mozart: Das Veilchen / Fialka\, KV 476\nWolfgang Amadeus Mozart: Der Zauberer / Čaroděj\, KV 472\nWolfgang Amadeus Mozart: An Chloe / Chloe\, KV 524\nWolfgang Amadeus Mozart: Sonáta pro klavír D dur\, KV 311\, Andantino con espressione\nWolfgang Amadeus Mozart: Die Zauberflöte / Kouzelná flétna\, KV 620 Árie Královny noci „Der Hölle Rache“\nWolfgang Amadeus Mozart: Don Giovanni\, KV 527 Árie Donny Anny „Or saichi l‘ onore Don Giovanni“\nWolfgang Amadeus Mozart: Requiem\, KV 626 Lacrimosa\n\nÚčinkující\n\nVanda Šípová – soprán\nMichal Mašek – klavír\nAnna Polívková – umělecký přednes
URL:https://operaplus.cz/akce/4-abonentni-koncert/
LOCATION:Divadlo J. K. Tyla v Třeboni\, Třeboň\, Czech Republic
CATEGORIES:Třeboňská nocturna
END:VEVENT
BEGIN:VEVENT
DTSTART;TZID=Europe/Prague:20260219T190000
DTEND;TZID=Europe/Prague:20260219T220000
DTSTAMP:20260424T002420
CREATED:20260207T184111Z
LAST-MODIFIED:20260207T184111Z
UID:214430-1771527600-1771538400@operaplus.cz
SUMMARY:VEČERNÍ SETKÁNÍ
DESCRIPTION:Účinkující\n\nEva Hudečková\nVáclav Hudeček\nMartina Kociánová
URL:https://operaplus.cz/akce/vecerni-setkani/
LOCATION:Divadlo J. K. Tyla v Třeboni\, Třeboň\, Czech Republic
CATEGORIES:Třeboňská nocturna
END:VEVENT
BEGIN:VEVENT
DTSTART;TZID=Europe/Prague:20260319T190000
DTEND;TZID=Europe/Prague:20260319T220000
DTSTAMP:20260424T002420
CREATED:20260311T214145Z
LAST-MODIFIED:20260311T214145Z
UID:216682-1773946800-1773957600@operaplus.cz
SUMMARY:6. ABONENTNÍ KONCERT
DESCRIPTION:Program\n\nJoseph Haydn: Smyčcový kvartet op. 77\, č.1 (Hob. III/81)\nBedřich Smetana: Smyčcový kvartet č. 2\nFelix Mendelssohn Bartholdy: Smyčcový kvartet op. 80\n\nÚčinkující\n\nBennewitzovo kvarteto
URL:https://operaplus.cz/akce/6-abonentni-koncert/
LOCATION:Divadlo J. K. Tyla v Třeboni\, Třeboň\, Czech Republic
CATEGORIES:Třeboňská nocturna
END:VEVENT
BEGIN:VEVENT
DTSTART;TZID=Europe/Prague:20260416T190000
DTEND;TZID=Europe/Prague:20260416T220000
DTSTAMP:20260424T002420
CREATED:20260407T211714Z
LAST-MODIFIED:20260407T211714Z
UID:218857-1776366000-1776376800@operaplus.cz
SUMMARY:Pódium mladých
DESCRIPTION:Program\n\nCécile Chaminade: Concertino pro flétnu a klavír\, op. 107\nZdeněk Fibich: Sonatina d moll pro housle a klavír\, op. 27 – 1. věta Allegro moderato\nFerenc Liszt: Etuda č. 12\, op. 1\nAntonín Dvořák: Poetické nálady\, op. 85\, č. 7 Furiant\nMiroslav Raichl: Louka široká (jihočeské lidové písně)\nWolfgang Amadeus Mozart: Arie Zerliny z opery Don Giovanni (Batti\, batti)\nPetr Iljič Čajkovskij: Valčík z baletu Louskáček\nEric Pisani: Omaggio ad Astor Piazzolla\nVítězslav Novák: Vzpomínky\, op. 6\n\nÚčinkující\n\nMikuláš Balo – příčná flétna\nMichaela Candrová – klavír\nAlžběta Tetíková – housle\nNela Zavadilová – klavír\nSofie Farrell – klavír\nKarolína Sedláčková – zpěv\nPetr Egert – klavír\nAndrea Šulcová – akordeon\nNela Pálková – klavír\nTaneční obor ZUŠ Třeboň
URL:https://operaplus.cz/akce/podium-mladych/
LOCATION:Divadlo J. K. Tyla v Třeboni\, Třeboň\, Czech Republic
CATEGORIES:Třeboňská nocturna
END:VEVENT
END:VCALENDAR