BEGIN:VCALENDAR
VERSION:2.0
PRODID:-//Opera PLUS - ECPv6.15.13.1//NONSGML v1.0//EN
CALSCALE:GREGORIAN
METHOD:PUBLISH
X-ORIGINAL-URL:https://operaplus.cz
X-WR-CALDESC:Akce na Opera PLUS
REFRESH-INTERVAL;VALUE=DURATION:PT1H
X-Robots-Tag:noindex
X-PUBLISHED-TTL:PT1H
BEGIN:VTIMEZONE
TZID:Europe/Prague
BEGIN:DAYLIGHT
TZOFFSETFROM:+0100
TZOFFSETTO:+0200
TZNAME:CEST
DTSTART:20250330T010000
END:DAYLIGHT
BEGIN:STANDARD
TZOFFSETFROM:+0200
TZOFFSETTO:+0100
TZNAME:CET
DTSTART:20251026T010000
END:STANDARD
BEGIN:DAYLIGHT
TZOFFSETFROM:+0100
TZOFFSETTO:+0200
TZNAME:CEST
DTSTART:20260329T010000
END:DAYLIGHT
BEGIN:STANDARD
TZOFFSETFROM:+0200
TZOFFSETTO:+0100
TZNAME:CET
DTSTART:20261025T010000
END:STANDARD
BEGIN:DAYLIGHT
TZOFFSETFROM:+0100
TZOFFSETTO:+0200
TZNAME:CEST
DTSTART:20270328T010000
END:DAYLIGHT
BEGIN:STANDARD
TZOFFSETFROM:+0200
TZOFFSETTO:+0100
TZNAME:CET
DTSTART:20271031T010000
END:STANDARD
END:VTIMEZONE
BEGIN:VEVENT
DTSTART;TZID=Europe/Prague:20260426T200000
DTEND;TZID=Europe/Prague:20260426T220000
DTSTAMP:20260424T140217
CREATED:20250918T000538Z
LAST-MODIFIED:20250918T000539Z
UID:202006-1777233600-1777240800@operaplus.cz
SUMMARY:Konzerthaus
DESCRIPTION:Konzerthaus\nKdy: 26. dubna 2026\, 20:00–22:00 \nKoupit vstupenky / Web pořadatele \nKonzerthaus v Dortmundu nabízí pestrý program zahraničních koncertů. Přijďte si vychutnat hudební zážitky v jedinečném prostředí. \nInformace\n\nMísto: Dortmund\, DE\nŘada: N/A\nCena: N/A\nProgram: N/A\nŘada/typ: Zahraniční koncerty\n\nZdroj: https://www.plzenskafilharmonie.cz/konzerthaus-e597/
URL:https://operaplus.cz/akce/konzerthaus-4/
CATEGORIES:Plzeňská filharmonie
END:VEVENT
BEGIN:VEVENT
DTSTART;TZID=Europe/Prague:20260426T200000
DTEND;TZID=Europe/Prague:20260426T220000
DTSTAMP:20260424T140217
CREATED:20260412T170901Z
LAST-MODIFIED:20260412T170901Z
UID:219155-1777233600-1777240800@operaplus.cz
SUMMARY:Maxim Vengerov & Prague Philharmonia: Carpe diem MIMOŘÁDNÝ KONCERT
DESCRIPTION:Program\n  \n\n\n\n\n\nFelix Mendelssohn Bartholdy: Symfonie č. 4 A dur\, op. 90 „Italská“\nAlexey Shor: Houslový koncert č. 6 „Carpe Diem“\nPetr Iljič Čajkovskij: Koncert pro housle a orchestr D dur\, op. 35\n\nÚčinkující\n  \n\n\n\n\n\n\n\n\nMaxim Vengerov – housle\nPrague Philharmonia\nEmmanuel Villaume – dirigent\n\n\n\n\n\n\n\n\n\n\n\n\n\n\n\n\n\n\n\n\n\n\n\n\n\n\n\n\n\n\n\n  \n\n\n\n\n 
URL:https://operaplus.cz/akce/maxim-vengerov-prague-philharmonia-carpe-diem-mimoradny-koncert/
LOCATION:Obecní dům\, Smetanova síň
CATEGORIES:Prague Philharmonia
END:VEVENT
BEGIN:VEVENT
DTSTART;VALUE=DATE:20260427
DTEND;VALUE=DATE:20260428
DTSTAMP:20260424T140217
CREATED:20260411T130238Z
LAST-MODIFIED:20260411T130238Z
UID:219085-1777248000-1777334399@operaplus.cz
SUMMARY:METROPOLIS
DESCRIPTION:Prahu čeká mimořádný filmový a hudební zážitek\, jaký svět ještě neviděl! \nVizionářský film Metropolis (1927) režiséra Fritze Langa\, považovaný za jeden z pilířů světové kinematografie\, ožije v nové podobě – s premiérovou symfonickou hudbou\, kterou složil Jeff Beal\, pětinásobný držitel ceny Emmy a autor ikonické hudby k seriálu House of Cards. Pod jeho osobním vedením vytvoří Czech National Symphony Orchestra dokonalé spojení živé hudby a nadčasových filmových obrazů. Zvuk\, obraz i emoce splynou v jediný okamžik\, který se zapíše do historie.
URL:https://operaplus.cz/akce/metropolis/
LOCATION:Hudební divadlo Karlín\, Praha\, Czech Republic
CATEGORIES:Composers Summit Prague
END:VEVENT
BEGIN:VEVENT
DTSTART;TZID=Europe/Prague:20260427T140000
DTEND;TZID=Europe/Prague:20260427T170000
DTSTAMP:20260424T140217
CREATED:20260412T203839Z
LAST-MODIFIED:20260412T203839Z
UID:219277-1777298400-1777309200@operaplus.cz
SUMMARY:XXX. přehlídka mládežnických orchestrů
DESCRIPTION:Účinkující\n\nZlatíčka ze Stříbra\nDechový soubor ZUŠ Stříbro\nDechový soubor mladých ZUŠ Tachov\nBig Band Konzervatoře Plzeň
URL:https://operaplus.cz/akce/xxx-prehlidka-mladeznickych-orchestru/
LOCATION:Kino Slavia\, Stříbro\, Czech Republic
END:VEVENT
BEGIN:VEVENT
DTSTART;TZID=Europe/Prague:20260427T190000
DTEND;TZID=Europe/Prague:20260427T220000
DTSTAMP:20260424T140217
CREATED:20260419T135423Z
LAST-MODIFIED:20260419T135423Z
UID:219717-1777316400-1777327200@operaplus.cz
SUMMARY:Absolventský koncert: Oldřich Engelhart – trubka
DESCRIPTION:Účinkující\n\nOldřich Engelhart – trubka\nTomoko Asahina – klavírní spolupráce
URL:https://operaplus.cz/akce/absolventsky-koncert-oldrich-engelhart-trubka-2/
LOCATION:Koncertní sál HF JAMU\, Brno\, Czech Republic
CATEGORIES:JAMU
END:VEVENT
BEGIN:VEVENT
DTSTART;TZID=Europe/Prague:20260427T190000
DTEND;TZID=Europe/Prague:20260427T220000
DTSTAMP:20260424T140217
CREATED:20260421T121424Z
LAST-MODIFIED:20260421T121424Z
UID:219929-1777316400-1777327200@operaplus.cz
SUMMARY:Johann Strauss ml.: NOC V BENÁTKÁCH
DESCRIPTION:Program\n\n\nJohann Strauss ml.: Noc v Benátkách
URL:https://operaplus.cz/akce/johann-strauss-ml-noc-v-benatkach-4/
LOCATION:Divadlo města Ústí nad Labem\, Lidické náměstí 10\, Ústí nad Labem\, Czech Republic
CATEGORIES:Divadlo města Ústí nad Labem
END:VEVENT
BEGIN:VEVENT
DTSTART;TZID=Europe/Prague:20260427T193000
DTEND;TZID=Europe/Prague:20260427T220000
DTSTAMP:20260424T140217
CREATED:20260419T132752Z
LAST-MODIFIED:20260419T132752Z
UID:219693-1777318200-1777327200@operaplus.cz
SUMMARY:REBEKA KOTAR – HOUSLE
DESCRIPTION:Účinkující\n\nRebeka Kotar – housle\nDaniel Matejča – housle\nJosef Bartoň – violoncello\nStanislav Bogunia – klavírní spolupráce
URL:https://operaplus.cz/akce/rebeka-kotar-housle/
LOCATION:Lichtenštejnský palác\, Praha\, Czech Republic
CATEGORIES:HAMU
END:VEVENT
BEGIN:VEVENT
DTSTART;TZID=Europe/Prague:20260427T193000
DTEND;TZID=Europe/Prague:20260427T220000
DTSTAMP:20260424T140217
CREATED:20260419T132939Z
LAST-MODIFIED:20260419T133005Z
UID:219695-1777318200-1777327200@operaplus.cz
SUMMARY:NELA KINDIGEROVÁ – ZPĚV
DESCRIPTION:Účinkující\n\nNela Kindigerová – zpěv\nJonatán Müller – zpěv\nJitka Rosenbaumová – zpěv\nLinda Kunclová – zpěv\nAhmad Hedar – klavírní spolupráce
URL:https://operaplus.cz/akce/nela-kindigerova-zpev/
LOCATION:Galerie HAMU\, Praha\, Czech Republic
CATEGORIES:HAMU
END:VEVENT
BEGIN:VEVENT
DTSTART;TZID=Europe/Prague:20260427T193000
DTEND;TZID=Europe/Prague:20260427T220000
DTSTAMP:20260424T140217
CREATED:20260419T134134Z
LAST-MODIFIED:20260419T134134Z
UID:219703-1777318200-1777327200@operaplus.cz
SUMMARY:Kdo v zlatě struny zahrát zná
DESCRIPTION:Účinkující\n\nMario Mesany – flétna\nLydie Härtelová – harfa\nKateřina Valášková – harfa
URL:https://operaplus.cz/akce/kdo-v-zlate-struny-zahrat-zna/
LOCATION:Český rozhlas\, Praha\, Czech Republic
CATEGORIES:Symfonický orchestr Českého rozhlasu
END:VEVENT
BEGIN:VEVENT
DTSTART;TZID=Europe/Prague:20260427T200000
DTEND;TZID=Europe/Prague:20260427T220000
DTSTAMP:20260424T140217
CREATED:20250916T023901Z
LAST-MODIFIED:20250916T164546Z
UID:200056-1777320000-1777327200@operaplus.cz
SUMMARY:Česká filharmonie • Düsseldorf
DESCRIPTION:Česká filharmonie • Düsseldorf\nKdy/Kde: 27. dubna 2026\, 20:00–22:00 \nVstupenky / Web pořadatele \nProgram\n\nAntonín Dvořák Karneval\, koncertní předehra\, op. 92\nEdward Elgar Koncert pro violoncello a orchestr e moll\, op. 85\nIgor Stravinskij Svěcení jara\n\nÚčinkující\n\nSol Gabetta — violoncello\nSemjon Byčkov — dirigent — Česká filharmonie\n\nV programu zazní Dvořákova Karneval\, Elgarův koncert pro violoncello a Stravinského Svěcení jara\, které je považováno za jedno z nejvýznamnějších děl 20. století. Elgarův koncert byl napsán v těžkých časech po první světové válce a nese v sobě silné emocionální náboje. \nKontakt\nEmail: info@ceskafilharmonie.czTelefon: +420 227 059 227 \nZdroj: website
URL:https://operaplus.cz/akce/ceska-filharmonie-dusseldorf/
CATEGORIES:Česká filharmonie
END:VEVENT
BEGIN:VEVENT
DTSTART;TZID=Europe/Prague:20260427T200000
DTEND;TZID=Europe/Prague:20260427T220000
DTSTAMP:20260424T140217
CREATED:20260419T132601Z
LAST-MODIFIED:20260419T132601Z
UID:219690-1777320000-1777327200@operaplus.cz
SUMMARY:BAKALÁŘSKÝ KONCERT BAADER / HOŠKOVÁ
DESCRIPTION:Absolventský koncert dvou výrazných talentů české jazzové scény Kateřiny Hoškové a Filipa Baadera. Kateřina studovala na HAMU v Praze u Davida Dorůžky\, Filip u Vojtěcha Procházky. Během studia měli oba možnost rozšířit své obzory na prestižních evropských univerzitách – Kateřina na Conservatoire National Supérieur de Musique et de Danse de Paris\, Filip na Codarts University of the Arts v Rotterdamu. V průběhu večera uslyšíte autorské skladby obou absolventů v různých obsazeních- od tria až po sextet. Jejich hudba se pohybuje na pomezí soudobého jazzu\, avšak s pevným ukotvením v jazzové tradici 20. století. \nÚčinkující\n\n Filipa Baader – klavír\nKateřiny Hoškové – kytara
URL:https://operaplus.cz/akce/bakalarsky-koncert-baader-hoskova/
LOCATION:Jazz Dock\, Praha\, Czech Republic
CATEGORIES:HAMU
END:VEVENT
BEGIN:VEVENT
DTSTART;TZID=Europe/Prague:20260427T200000
DTEND;TZID=Europe/Prague:20260427T220000
DTSTAMP:20260424T140217
CREATED:20260419T133900Z
LAST-MODIFIED:20260419T133900Z
UID:219701-1777320000-1777327200@operaplus.cz
SUMMARY:Arsenii Moon & Prague Philharmonia: Ozvěny dálek a snů
DESCRIPTION:Program\n  \n\n\n\n\n\nFelix Mendelssohn Bartholdy: Hebridy (Fingalova jeskyně)\, koncertní předehra\nAlexey Shor: Klavírní koncert č. 1\nMaurice Ravel: Ma mère l’Oye\nSergej Rachmaninov: Rapsodie na Paganiniho téma\, op. 43\n\nÚčinkující\n  \n\n\n\n\n\n\n\n\nArsenii Moon – klavír\nPrague Philharmonia\nEmmanuel Villaume – dirigent\n\n\n\n\n\n\n\n\n\n\n\n\n\n\n\n\n\n\n\n\n\n\n\n\n\n\n\n\n\n\n\n  \n\n\n\n\n 
URL:https://operaplus.cz/akce/arsenii-moon-prague-philharmonia-ozveny-dalek-a-snu/
LOCATION:Obecní dům\, Smetanova síň
CATEGORIES:Prague Philharmonia
END:VEVENT
BEGIN:VEVENT
DTSTART;VALUE=DATE:20260428
DTEND;VALUE=DATE:20260429
DTSTAMP:20260424T140217
CREATED:20260411T130813Z
LAST-MODIFIED:20260411T130813Z
UID:219088-1777334400-1777420799@operaplus.cz
SUMMARY:GUSTAVO SANTAOLALLA
DESCRIPTION:Dvojnásobný držitel Oscara Gustavo Santaolalla osobně představí své nejslavnější skladby z filmů a her\, které dobyly celý svět – The Last of Us\, Brokeback Mountain\, Babel\, The Motorcycle Diaries a dalších. V doprovodu Czech National Symphony Orchestra zazní jeho jedinečný hudební styl – směs vášně\, hloubky a jihoamerické duše\, která dokáže zasáhnout každé srdce. Přehlídka mistrovství skladatele\, který přepisuje historii filmové i herní hudby.
URL:https://operaplus.cz/akce/gustavo-santaolalla-2/
LOCATION:Hudební divadlo Karlín\, Praha\, Czech Republic
CATEGORIES:Composers Summit Prague
END:VEVENT
BEGIN:VEVENT
DTSTART;TZID=Europe/Prague:20260428T150000
DTEND;TZID=Europe/Prague:20260428T170000
DTSTAMP:20260424T140217
CREATED:20250918T000347Z
LAST-MODIFIED:20250918T000348Z
UID:201971-1777388400-1777395600@operaplus.cz
SUMMARY:Hudební dílna pro seniory
DESCRIPTION:Hudební dílna pro seniory\nKdy: 28. dubna 2026\, 15:00–17:00 \nKoupit vstupenky / Web pořadatele \nHudební dílna je určena aktivním seniorům\, kteří mají rádi hudbu a společnost. Účastníci si zazpívají lidové písně a doprovodí se na rytmické nástroje pod vedením Jiřiny Jiřičkové. \nTvůrčí tým\n\nJiřina Jiřičková — vedoucí dílny\n\nInformace\n\nMísto: Český rozhlas Plzeň\, Studio S3\nCena: 150 Kč\nŘada/typ: Mimořádné koncerty\n\nZdroj: https://www.plzenskafilharmonie.cz/hudebni-dilna-pro-seniory-e551/
URL:https://operaplus.cz/akce/hudebni-dilna-pro-seniory-4/
CATEGORIES:Plzeňská filharmonie
END:VEVENT
BEGIN:VEVENT
DTSTART;TZID=Europe/Prague:20260428T160000
DTEND;TZID=Europe/Prague:20260428T170000
DTSTAMP:20260424T140217
CREATED:20260419T132314Z
LAST-MODIFIED:20260419T132314Z
UID:219687-1777392000-1777395600@operaplus.cz
SUMMARY:DAVID ŠEVČÍK – TRUBKA
DESCRIPTION:Účinkující\n\nDavid Ševčík – trubka\nMartin Pavluš – trubka\nJosef Pluhař – trubka\nŠimon Váhala – trubka\nVeronika Lédlová – trombon\nMatěj Vošický – trombon\nMatyáš Elis – trombon\nJindřich Zýka – horna\nPavel Hlubuček – tuba\nVít Rafael Matyska – bicí nástroje\nAlice Voborská – klavírní spolupráce
URL:https://operaplus.cz/akce/david-sevcik-trubka/
LOCATION:Galerie HAMU\, Praha\, Czech Republic
CATEGORIES:HAMU
END:VEVENT
BEGIN:VEVENT
DTSTART;TZID=Europe/Prague:20260428T170000
DTEND;TZID=Europe/Prague:20260428T190000
DTSTAMP:20260424T140217
CREATED:20260419T135239Z
LAST-MODIFIED:20260419T135239Z
UID:219715-1777395600-1777402800@operaplus.cz
SUMMARY:Absolventský koncert: Nikolai Kolmogortcev – lesní roh
DESCRIPTION:Účinkující\n\nNikolai Kolmogortcev – lesní roh\nEva Macková – klavírní spolupráce
URL:https://operaplus.cz/akce/absolventsky-koncert-nikolai-kolmogortcev-lesni-roh/
LOCATION:Komorní sál HF JAMU\, Brno\, Czech Republic
CATEGORIES:JAMU
END:VEVENT
BEGIN:VEVENT
DTSTART;TZID=Europe/Prague:20260428T173000
DTEND;TZID=Europe/Prague:20260428T193000
DTSTAMP:20260424T140217
CREATED:20250918T000453Z
LAST-MODIFIED:20250918T000454Z
UID:201991-1777397400-1777404600@operaplus.cz
SUMMARY:Jak vyrůst ve velkého skladatele
DESCRIPTION:Jak vyrůst ve velkého skladatele\nKdy: 28. dubna 2026\, 17:30–19:30 \nKoupit vstupenky / Web pořadatele \nKomplexní hudební dílna pro děti\, zejména předškolního a mladšího školního věku\, probudí hudbu v každém z nás. Všechny workshopy vede PhDr. Jiřina Jiřičková\, Ph.D.\, která se zaměřuje na zpěv\, improvizaci a dirigování. \nÚčinkující\n\nMilan Kazecký — klavírní doprovod\n\nTvůrčí tým\n\nPhDr. Jiřina Jiřičková\, Ph.D. — vedoucí workshopu\n\nInformace\n\nMísto: Český rozhlas Plzeň\, Studio S3\nŘada: Projekty pro děti a mládež\nCena: 150 Kč\nŘada/typ: Projekty pro děti a mládež\n\nZdroj: https://www.plzenskafilharmonie.cz/jak-vyrust-ve-velkeho-skladatele-e569/
URL:https://operaplus.cz/akce/jak-vyrust-ve-velkeho-skladatele/
CATEGORIES:Plzeňská filharmonie
END:VEVENT
BEGIN:VEVENT
DTSTART;TZID=Europe/Prague:20260428T190000
DTEND;TZID=Europe/Prague:20260428T220000
DTSTAMP:20260424T140217
CREATED:20260419T133600Z
LAST-MODIFIED:20260419T133600Z
UID:219698-1777402800-1777413600@operaplus.cz
SUMMARY:Ian Mikyska – inspirace. Host: Jiří Stivín
DESCRIPTION:Program\n\nIan Mikyska: All Ending pro basovou flétnu\, basklarinet\, klavír\, housle a violoncello\nIan Mikyska: Breath; Dying pro dechový kvintet\nIan Mikyska: Kód JS (světová premiéra)\nIan Mikyska: Outline (světová premiéra)\n\nÚčinkující\n\nIan Mikyska\nJiří Stivín\nčlenové Prague Philharmonia\nMiroslav Beinhauer\nPhila Primus\nHana Dohnálková – moderace\n 
URL:https://operaplus.cz/akce/ian-mikyska-inspirace-host-jiri-stivin/
LOCATION:Studio Švandova divadla\, Praha\, Czech Republic
CATEGORIES:Prague Philharmonia
END:VEVENT
BEGIN:VEVENT
DTSTART;TZID=Europe/Prague:20260428T190000
DTEND;TZID=Europe/Prague:20260428T220000
DTSTAMP:20260424T140217
CREATED:20260419T140418Z
LAST-MODIFIED:20260419T140418Z
UID:219736-1777402800-1777413600@operaplus.cz
SUMMARY:Tamerlán
DESCRIPTION:Program\n\nJosef Mysliveček: Tamerlán
URL:https://operaplus.cz/akce/tamerlan-6/
LOCATION:Velké divadlo\, Plzeň\, Czech Republic
CATEGORIES:Divadlo J. K. Tyla
END:VEVENT
BEGIN:VEVENT
DTSTART;TZID=Europe/Prague:20260428T190000
DTEND;TZID=Europe/Prague:20260428T220000
DTSTAMP:20260424T140217
CREATED:20260421T120221Z
LAST-MODIFIED:20260421T120221Z
UID:219917-1777402800-1777413600@operaplus.cz
SUMMARY:Dagmar Pecková slaví
DESCRIPTION:Účinkující\n\n\nDagmar Pecková – zpěv a moderace \n\n\nŠárka Knížetová – klavír
URL:https://operaplus.cz/akce/dagmar-peckova-slavi/
LOCATION:Dům hudby\, Pardubice\, Czech Republic
CATEGORIES:Pardubické hudební jaro
END:VEVENT
BEGIN:VEVENT
DTSTART;TZID=Europe/Prague:20260428T190000
DTEND;TZID=Europe/Prague:20260428T220000
DTSTAMP:20260424T140217
CREATED:20260421T121217Z
LAST-MODIFIED:20260421T121217Z
UID:219927-1777402800-1777413600@operaplus.cz
SUMMARY:Gioachino Rossini: LAZEBNÍK SEVILLSKÝ
DESCRIPTION:Program\n\n\nGioachino Rossini: Lazebník sevillský
URL:https://operaplus.cz/akce/gioachino-rossini-lazebnik-sevillsky/
LOCATION:Divadlo města Ústí nad Labem\, Lidické náměstí 10\, Ústí nad Labem\, Czech Republic
CATEGORIES:Divadlo města Ústí nad Labem
END:VEVENT
BEGIN:VEVENT
DTSTART;TZID=Europe/Prague:20260428T190000
DTEND;TZID=Europe/Prague:20260428T220000
DTSTAMP:20260424T140217
CREATED:20260421T122016Z
LAST-MODIFIED:20260421T122016Z
UID:219931-1777402800-1777413600@operaplus.cz
SUMMARY:Festivalový galakoncert
DESCRIPTION:Program\n\nHenry Purcell: Music for a while\nJohn Dowland: In darkness let me dwell\nTarquinio Merula: Canzonetta spirituale sopra alla nanna\nBrett Dean: Gertrude Fragments\nHenry Purcell: When I am laid in Earth\nLuciano Berio: Sequenza III pro ženský hlas\nGirolamo Kapsberger: Toccata Arpeggiata\nAntonio Cesti: Disseratevi abissi\nGiulio Caccini: Odi Euterpe\nAlessandro Piccini: Toccata VIII\nBarbara Strozzi: Lagrime mie\nTarquinio Merula: Quando io voisi l’atra sera\n\nÚčinkující\n\nMagdalena Kožená – mezzosoprán\n\nAzul Lima – theorba a romantická kytara
URL:https://operaplus.cz/akce/festivalovy-galakoncert/
LOCATION:Besední dům
CATEGORIES:Concentus Moraviae
END:VEVENT
BEGIN:VEVENT
DTSTART;TZID=Europe/Prague:20260428T193000
DTEND;TZID=Europe/Prague:20260428T220000
DTSTAMP:20260424T140217
CREATED:20260419T131757Z
LAST-MODIFIED:20260419T131757Z
UID:219683-1777404600-1777413600@operaplus.cz
SUMMARY:MATĚJ ALTMAN – ZPĚV
DESCRIPTION:Účinkující\n\nMatěj Altman – zpěv\nJana Hozmanová – zpěv\nAdéla Demovičová – zpěv\nFilip Šťovíček – zpěv\nFilip Martinka – klavírní spolupráce
URL:https://operaplus.cz/akce/matej-altman-zpev/
LOCATION:Galerie HAMU\, Praha\, Czech Republic
CATEGORIES:HAMU
END:VEVENT
BEGIN:VEVENT
DTSTART;TZID=Europe/Prague:20260428T193000
DTEND;TZID=Europe/Prague:20260428T220000
DTSTAMP:20260424T140217
CREATED:20260419T132023Z
LAST-MODIFIED:20260419T132023Z
UID:219685-1777404600-1777413600@operaplus.cz
SUMMARY:DANIEL MATEJČA – HOUSLE
DESCRIPTION:Účinkující\n\nDaniel Matejča – housle\n František Souček – housle\nNatálie Toperczerová – housle\nTerezie Hledíková – housle\nBohumil Bondarenko – viola\nDaniel Macho – viola\nJakub William Gráf – violoncello\nŠtěpánka Plocková – violoncello\nPavol Praženica – klavírní spolupráce
URL:https://operaplus.cz/akce/daniel-matejca-housle/
LOCATION:Lichtenštejnský palác\, Praha\, Czech Republic
CATEGORIES:HAMU
END:VEVENT
BEGIN:VEVENT
DTSTART;TZID=Europe/Prague:20260428T200000
DTEND;TZID=Europe/Prague:20260428T220000
DTSTAMP:20260424T140217
CREATED:20250916T023920Z
LAST-MODIFIED:20250916T164545Z
UID:200057-1777406400-1777413600@operaplus.cz
SUMMARY:Česká filharmonie • Erlangen
DESCRIPTION:Česká filharmonie • Erlangen\nKdy/Kde: 28. dubna 2026\, 20:00–22:00\nVstupenky / Web pořadatele \nProgram\n\nAntonín Dvořák Karneval\, koncertní předehra\, op. 92\nEdward Elgar Koncert pro violoncello a orchestr e moll\, op. 85\nIgor Stravinskij Svěcení jara\n\nÚčinkující\n\nSol Gabetta — violoncello\nSemjon Byčkov — dirigent — Česká filharmonie\n\nV programu zazní Dvořákova Karneval\, Elgarův Koncert pro violoncello a Stravinského Svěcení jara\, které je považováno za jedno z nejvýznamnějších děl 20. století. Sol Gabetta\, mezinárodně uznávaná violoncellistka\, se představí s Českou filharmonií\, což slibuje výjimečný zážitek. \nKontakt\nEmail: info@ceskafilharmonie.czTelefon: +420 227 059 227\nZdroj: website
URL:https://operaplus.cz/akce/ceska-filharmonie-erlangen/
CATEGORIES:Česká filharmonie
END:VEVENT
BEGIN:VEVENT
DTSTART;TZID=Europe/Prague:20260428T200000
DTEND;TZID=Europe/Prague:20260428T220000
DTSTAMP:20260424T140217
CREATED:20250917T222853Z
LAST-MODIFIED:20250917T222854Z
UID:201908-1777406400-1777413600@operaplus.cz
SUMMARY:Romantický smyčce s O5 a Radeček
DESCRIPTION:Romantický smyčce s O5 a Radeček\nKdy: 28. dubna 2026\, 20:00–22:00Kde: Reduta\, 19:00 \nKoupit vstupenky / Web pořadatele \nKapela O5 a Radeček\, působící na české hudební scéně již třicet let\, se spojila s Moravskou filharmonií Olomouc v jedinečném projektu. Zazní jejich největší hity v emocionálních aranžích Tomáše Vyšinky a Tomáše Janošky\, které vytvoří nezapomenutelný koncertní zážitek. \nÚčinkující\n\nMilan Lečko — bicí\nRadek Sekyra — kytara\nOndřej Polák — baskytara\nPřemysl Ptáček — housle\nTomino Polák — zpěv\n\nTvůrčí tým\n\nStanislav Vavřínek — dirigent\n\nInformace\n\nMísto: Reduta\nProgram: Hity O5 a Radeček v aranžích pro orchestr\n\nZdroj: https://www.mfo.cz/program/romanticky-smycce-s-o5-a-radecek
URL:https://operaplus.cz/akce/romanticky-smycce-s-o5-a-radecek/
CATEGORIES:Moravská filharmonie Olomouc
END:VEVENT
BEGIN:VEVENT
DTSTART;TZID=Europe/Prague:20260429T100000
DTEND;TZID=Europe/Prague:20260429T170000
DTSTAMP:20260424T140217
CREATED:20260419T135706Z
LAST-MODIFIED:20260419T135706Z
UID:219722-1777456800-1777482000@operaplus.cz
SUMMARY:Papageno v kouzelném lese
DESCRIPTION:Komorní inscenace opery pro děti na motivy Kouzelné flétny W. A. Mozarta. Děti uvidí představení plné imaginace\, jevištních kouzel a krásných Mozartových melodií. Uvádíme ji v českém překladu. \n\n\nPapageno v kouzelném lese je představením plným imaginace\, jevištních kouzel a krásných Mozartových melodií. Děti provede kouzelným lesem ptáčník Papageno. Společně s ním budou putovat po stopách prince Tamina\, aby vysvobodili princeznu Paminu a také Papagenovi našli jemu podobnou družku. Operu uvádíme v českém překladu.
URL:https://operaplus.cz/akce/papageno-v-kouzelnem-lese-15/
LOCATION:Malá scéna Divadla J. K. Tyla\, Plzeň\, Czech Republic
CATEGORIES:Divadlo J. K. Tyla
END:VEVENT
BEGIN:VEVENT
DTSTART;TZID=Europe/Prague:20260429T160000
DTEND;TZID=Europe/Prague:20260429T170000
DTSTAMP:20260424T140217
CREATED:20260419T130021Z
LAST-MODIFIED:20260419T130021Z
UID:219681-1777478400-1777482000@operaplus.cz
SUMMARY:ROBIN GALIA – JAZZOVÁ HUDBA
DESCRIPTION:Účinkující\n\nRobin Galia – jazzová hudba\nPaulina Minichová – bicí nástroje\nFrantišek Otakar Kukula – bicí nástroje\nTomáš Liška – kontrabas
URL:https://operaplus.cz/akce/robin-galia-jazzova-hudba/
LOCATION:Galerie HAMU\, Praha\, Czech Republic
CATEGORIES:HAMU
END:VEVENT
BEGIN:VEVENT
DTSTART;TZID=Europe/Prague:20260429T180000
DTEND;TZID=Europe/Prague:20260429T193000
DTSTAMP:20260424T140217
CREATED:20250917T221243Z
LAST-MODIFIED:20250917T221244Z
UID:201787-1777485600-1777491000@operaplus.cz
SUMMARY:G3 Filmová hudba Johna Williamse
DESCRIPTION:G3 Filmová hudba Johna Williamse\nKdy: 29. dubna 2026\, 18:00–19:30 \nKoupit vstupenky / Web pořadatele \nJohn Williams je jedním z největších skladatelů filmové hudby všech dob\, jehož ikonické soundtracky definovaly moderní filmovou hudbu. Jeho dílo je spjato s hollywoodskými trháky\, zejména díky spolupráci s režiséry Stevenem Spielbergem a Georgem Lucasem. \nÚčinkující\n\nRadek Erben — moderátor\nDaniel Raiskin — dirigent\n\nInformace\n\nŽánr: Filmová hudba\nModerátor: Radek Erben\nDirigent: Daniel Raiskin\nOrchestr: Janáčkova filharmonie Ostrava\n\nZdroj: https://www.jfo.cz/koncert/g3-filmova-hudba-johna-williamse
URL:https://operaplus.cz/akce/g3-filmova-hudba-johna-williamse/
CATEGORIES:Janáčkova filharmonie Ostrava
END:VEVENT
BEGIN:VEVENT
DTSTART;TZID=Europe/Prague:20260429T193000
DTEND;TZID=Europe/Prague:20260429T213000
DTSTAMP:20260424T140217
CREATED:20250916T024100Z
LAST-MODIFIED:20250916T164538Z
UID:200062-1777491000-1777498200@operaplus.cz
SUMMARY:Nejen Kniha džunglí aneb Na přání dirigenta
DESCRIPTION:Nejen Kniha džunglí aneb Na přání dirigenta\nKdy/Kde: 29. dubna 2026\, 19:30–21:30 \nVstupenky / Web pořadatele \nProgram\n\nAntonín Dvořák — Symfonie č. 7\nWolfgang Amadeus Mozart — Symfonie č. 41\, K. 551 ‚Jupiter‘\nBenjamin Britten — Průvodce mladého člověka orchestrem\nMarko Ivanović — Little Words\nMarko Ivanović — Suita z hudby ke Knize džunglí\n\nÚčinkující\n\nMarko Ivanović — dirigent\nPetr Kadlec — průvodce\nMarkéta Cukrová — mezzosopranistka\nČeská studentská filharmonie — orchestr\n\nV programu zazní skladby\, které jsou blízké srdci dirigenta Marko Ivanoviće\, včetně Dvořákovy Sedmé a Mozartovy Jupiterské symfonie. Dále uslyšíme Brittenova Průvodce mladého člověka orchestrem a díla z Ivanovićovy vlastní tvorby. \nKontakt\nEmail: info@ceskafilharmonie.czTelefon: +420 227 059 227 \nZdroj: website
URL:https://operaplus.cz/akce/nejen-kniha-dzungli-aneb-na-prani-dirigenta/
CATEGORIES:Česká filharmonie
END:VEVENT
END:VCALENDAR